<?xml version="1.0" encoding="UTF-8" standalone="no"?>
<metadata>
<idinfo>
<citation>
<citeinfo>
<origin>USGS</origin>
<pubdate>2006/09/12</pubdate>
<title>Frankfort 2006 Homeland Security Digital Ortho Imagery</title>
<geoform>remote-sensing image</geoform>
<serinfo>
<sername>Kentucky Homeland Security Imagery</sername>
<issue>Frankfort, 2006</issue>
</serinfo>
<pubinfo>
<pubplace>Frankfort, KY</pubplace>
<publish>Kentucky Environmental and Public Protection Cabinet, Office of Information Services, GIS Branch</publish>
</pubinfo>
<pubtime>01:47:55 PM</pubtime>
<ftname Sync="TRUE">KYRASTER.SDE.HS_FRANKFORT_2006</ftname>
</citeinfo>
</citation>
<descript>
<abstract>This data set consists of 1 foot, natural color orthoimages covering the series area footprint. An orthoimage is remotely sensed image data in which displacement of features in the image caused by terrain relief and sensor orientation have been mathematically removed. Orthoimagery combines the image characteristics of a photograph with the geometric qualities of a map. The design accuracy is estimated not to exceed 3-meter diagonal RMSE (2.12m RMSE in X or Y). The tiling scheme for the final dataset is 5,000 ft x 5,000 ft grid blocks rectified to the NAD83 Kentucky Single Zone SPCS (FIPS 1600), US Survey Foot.</abstract>
<purpose>
This data depicts geographic features on the surface of the earth. It was created to provide easily accessible geospatial data which is readily available to enhance the capability of Federal, State, and local emergency responders, as well as plan for homeland security efforts. This data also supports The National Map.
</purpose>
<supplinf>
This imagery was originally provided by the United States Geological Survey (USGS) and published with 0.3-meter pixel resolution on the NAD83 UTM Zone 16 meters projection in 1500 x 1500 meter tiles. The original tile naming scheme was based on the United States National Grid (USNG) as applied to the lower left (southwest) corner of each tile.
The original UTM/USNG imagery was re-projected to the NAD83 Kentucky Single Zone SPCS (KY1Z) USFt in 5,000 ft x 5,000 ft (5K) tiles. Image resampling during the re-projection process was accomplished using bilinear interpolation and pixel size resampling was accomplished using nearest neighbor interpolation. The JPEG version of this dataset was created using Adobe Photoshop Elements 3.0 with a quality setting of 12 (PS-JPG 12). NODATA artifacts generated during image re-projection were removed by replacing NODATA pixels with values derived by averaging neighboring non-NODATA pixels.
Contact information for USGS:
U.S. Geological Survey
Customer Services
EROS Data Center
47914 252nd Street
Sioux Falls, SD 57198-0001 USA
Voice Phone: 1-800-252-4547
TDD/TTY Phone: 1-605-594-6933
Fax: 1-605-594-6589
Internet Mail: custserv@usgs.gov
</supplinf>
<langdata Sync="TRUE">en</langdata>
</descript>
<timeperd>
<timeinfo>
<sngdate>
<caldate>
Varies. Please refer to the feature level metadata provided with individual tiles comprising this dataset.
</caldate>
</sngdate>
</timeinfo>
<current>ground condition</current>
</timeperd>
<status>
<progress>Complete</progress>
<update>Irregular</update>
</status>
<spdom>
<bounding>
<westbc>5135362</westbc>
<eastbc>5213377</eastbc>
<northbc>3981413</northbc>
<southbc>3887349</southbc>
</bounding>
<lboundng>
<leftbc Sync="TRUE">5135362.000000</leftbc>
<rightbc Sync="TRUE">5213377.000000</rightbc>
<bottombc Sync="TRUE">3887349.000000</bottombc>
<topbc Sync="TRUE">3981413.000000</topbc>
</lboundng>
</spdom>
<keywords>
<theme>
<themekt>None</themekt>
<themekey>Homeland Security</themekey>
<themekey>Digital Ortho Image</themekey>
<themekey>Digital Georectified Image</themekey>
<themekey>Georectified Image</themekey>
<themekey>Georectified</themekey>
<themekey>Georectification</themekey>
<themekey>Georeferenced Image</themekey>
<themekey>Georeferenced</themekey>
<themekey>KY1Z 5K Grid</themekey>
<themekey>Aerial Compliance</themekey>
<themekey>Compliance</themekey>
<themekey>United States Geological Survey</themekey>
<themekey>imageryBaseMapsEarthCover</themekey>
</theme>
<place>
<placekt>Geographic Names Information System</placekt>
<placekey>KY</placekey>
<placekey>KENTUCKY</placekey>
</place>
</keywords>
<accconst>There are no limitations for access.</accconst>
<useconst>None. The Kentucky EPPC GIS Branch and the USGS respectfully ask to be credited in derived products.</useconst>
<ptcontac>
<cntinfo>
<cntorgp>
<cntorg>Kentucky Environmental and Public Protection Cabinet</cntorg>
<cntorg>Office of Information Services</cntorg>
<cntorg>GIS Branch</cntorg>
</cntorgp>
<cntaddr>
<addrtype>mailing and physical address</addrtype>
<address>500 Mero St 14th FL CPT</address>
<city>Frankfort</city>
<state>Kentucky</state>
<postal>40601</postal>
<country>USA</country>
</cntaddr>
<cntvoice>502-564-5174</cntvoice>
<cntemail>Bryan.Bunch@ky.gov</cntemail>
<hours>8:00 AM - 4:30 PM M-F</hours>
<cntinst>Call or EMail</cntinst>
<cntper>Bryan Bunch</cntper>
<cntorgp>
<cntorg>Kentucky Environmental and Public Protection Cabinet</cntorg>
<cntorg>Office of Information Services</cntorg>
<cntorg>GIS Branch</cntorg>
</cntorgp>
</cntinfo>
</ptcontac>
<browse>
<browsen>ftp://ftp.kymartian.ky.gov/hs/frankfort_2006</browsen>
<browsed>Downloadable digital file.</browsed>
<browset>ZIP</browset>
</browse>
<native>UnKnown</native>
<natvform Sync="TRUE">SDE Raster Dataset</natvform>
</idinfo>
<dataqual>
<logic>Image envelopes are based on NAD83 KY1Z 5K grid blocks.</logic>
<complete>Complete for applicable time frame.</complete>
<posacc>
<horizpar>
Please refer to the feature level metadata provided with individual tiles comprising this dataset.
</horizpar>
<qhorizpa>
<horizpav>See above.</horizpav>
<horizpae>
Federal Geographic Data Committee, 1998, Geospatial
Positioning Accuracy Standard, Part 3, National Standard for Spatial Data Accuracy, FGDC-STD-007.3-1998
</horizpae>
</qhorizpa>
<horizpa>
<horizpar>
Please refer to the feature level metadata provided with individual tiles comprising this dataset.
</horizpar>
</horizpa>
</posacc>
<lineage>
<procstep>
<procdesc>
USGS Process: Please refer to the feature level metadata provided with individual tiles comprising this dataset.
</procdesc>
</procstep>
<procstep>
<procdesc>
Kentucky-EPPC-OIS-GIS Process: The original USGS imagery was projected from UTM to KY1Z using bilinear interpolation, resampled from 0.3-meter (0.984250 USFt) to 1.0 USFt pixel resolution using nearest neighbor nterpolation. The final 5K image blocks were produced by merging component USGS USNG tiles and clipping long the relevant 5K boundary envelope. 5K blocks along the edge of the series dataset limits were resized reduced) to best fit the limits of the series imagery.
</procdesc>
<procsv>ArcGIS/ArcObjects 9.0</procsv>
<procsv>Photoshop Elements 3</procsv>
<procdate>2006/09/12</procdate>
<proctime>01:47:55 PM</proctime>
</procstep>
<procstep>
<procdesc Sync="TRUE">Metadata imported.</procdesc>
<date Sync="TRUE">20060913</date>
<time Sync="TRUE">10311300</time>
</procstep>
<procstep>
<procdesc Sync="TRUE">Metadata imported.</procdesc>
<date Sync="TRUE">20080208</date>
<time Sync="TRUE">08370800</time>
</procstep>
</lineage>
<attracc>
<attraccr>
Please refer to the feature level metadata provided with individual tiles comprising this dataset.
</attraccr>
</attracc>
</dataqual>
<spdoinfo>
<direct>Raster</direct>
<rastinfo>
<rasttype>Pixel</rasttype>
<rowcount>Varies</rowcount>
<colcount>Varies</colcount>
<rastxsz Sync="TRUE">1.000000</rastxsz>
<rastysz Sync="TRUE">1.000000</rastysz>
<rastbpp Sync="TRUE">8</rastbpp>
<vrtcount Sync="TRUE">1</vrtcount>
<rastorig Sync="TRUE">Upper Left</rastorig>
<rastcmap Sync="TRUE">FALSE</rastcmap>
<rastcomp Sync="TRUE">JPEG</rastcomp>
<rastband Sync="TRUE">3</rastband>
<rastdtyp Sync="TRUE">pixel codes</rastdtyp>
<rastplyr Sync="TRUE">TRUE</rastplyr>
<rastifor Sync="TRUE">FGDBR</rastifor>
</rastinfo>
</spdoinfo>
<spref>
<horizsys>
<planar>
<planci>
<plance>row and column</plance>
<coordrep>
<absres>1.0</absres>
<ordres>1.0</ordres>
</coordrep>
<plandu>survey feet</plandu>
</planci>
</planar>
<geodetic>
<horizdn>North American Datum of 1983</horizdn>
<ellips>Geodetic Reference System 80</ellips>
<semiaxis>6378137</semiaxis>
<denflat>298.257222101</denflat>
</geodetic>
<cordsysn>
<geogcsn>North American Datum of 1983</geogcsn>
<projcsn>Kentucky State Plane Single Zone (KY1Z) FIPS 1600</projcsn>
</cordsysn>
</horizsys>
<vertdef>
<altsys>
<altenc Sync="TRUE">Explicit elevation coordinate included with horizontal coordinates</altenc>
<altres Sync="TRUE">1.000000</altres>
</altsys>
</vertdef>
</spref>
<eainfo>
<overview>
<eaover>
24-bit pixels, 3 band (RGB) color values 0 - 255
</eaover>
<eadetcit>None</eadetcit>
</overview>
</eainfo>
<distinfo>
<distrib>
<cntinfo>
<cntorgp>
<cntorg>Kentucky Division of Geographic Information</cntorg>
<cntper>Kent Anness</cntper>
</cntorgp>
<cntaddr>
<addrtype>mailing and physical address</addrtype>
<address>1025 Capital Center Drive</address>
<city>Frankfort</city>
<state>Kentucky</state>
<postal>40601</postal>
<country>USA</country>
</cntaddr>
<cntvoice>502-573-1450</cntvoice>
<cntemail>Kent.Anness@ky.gov</cntemail>
<hours>M-F 8:00AM - 4:30PM</hours>
<cntinst>Call or E-mail</cntinst>
</cntinfo>
</distrib>
<resdesc>kyhs_frankfort_2006</resdesc>
<distliab>
In no event shall the creators, custodians, or distributors of this information be liable for any damages arising out of its use ( or the inability to use it).
</distliab>
<stdorder>
<digform>
<digtinfo>
<formname>ZIP</formname>
<filedec>zip</filedec>
<transize>Varies</transize>
<dssize Sync="TRUE">4.305</dssize>
</digtinfo>
<digtopt>
<onlinopt>
<computer>
<networka>
<networkr>ftp://ftp.kymartian.ky.gov/hs/frankfort_2006</networkr>
</networka>
</computer>
<accinstr>HTTP</accinstr>
<oncomp>Windows Server 2003</oncomp>
</onlinopt>
</digtopt>
</digform>
<fees>None</fees>
<ordering>ftp://ftp.kymartian.ky.gov/hs/frankfort_2006</ordering>
<turnarnd>immediate</turnarnd>
</stdorder>
<availabl>
<timeinfo>
<sngdate>
<caldate>2006</caldate>
<time>unknown</time>
</sngdate>
</timeinfo>
</availabl>
</distinfo>
<metainfo>
<metd>2006/09/12</metd>
<metc>
<cntinfo>
<cntorgp>
<cntorg>Kentucky Environmental and Public Protection Cabinet</cntorg>
<cntorg>Office of Information Services</cntorg>
<cntorg>GIS Branch</cntorg>
<cntper>REQUIRED: The person responsible for the metadata information.</cntper>
</cntorgp>
<cntaddr>
<addrtype>mailing and physical address</addrtype>
<address>500 Mero St. 14th FL CPT</address>
<city>Frankfort</city>
<state>Kentucky</state>
<postal>40601</postal>
<country>USA</country>
</cntaddr>
<cntvoice>502-564-5174</cntvoice>
<cntemail>Bryan.Bunch@ky.gov</cntemail>
<hours>M-F 8:00AM - 4:30PM</hours>
<cntinst>Call or E-mail</cntinst>
<cntper>Bryan Bunch</cntper>
</cntinfo>
</metc>
<metstdn>FGDC Content Standards for Digital Geospatial Metadata</metstdn>
<metstdv>FGDC-STD-001-1998</metstdv>
<langmeta Sync="TRUE">en</langmeta>
<mettc Sync="TRUE">local time</mettc>
</metainfo>
<lineage>
<procstep>
<procdesc>
USGS Process: Please refer to the feature level metadata provided with individual tiles comprising this dataset.
</procdesc>
</procstep>
<procstep>
<procdesc>
Kentucky-EPPC-OIS-GIS Process: The original USGS imagery was projected from UTM to KY1Z using bilinear interpolation, resampled from 0.3-meter (0.984250 USFt) to 1.0 USFt pixel resolution using nearest neighbor nterpolation. The final 5K image blocks were produced by merging component USGS USNG tiles and clipping long the relevant 5K boundary envelope. 5K blocks along the edge of the series dataset limits were resized reduced) to best fit the limits of the series imagery.
</procdesc>
<procsv>ArcGIS/ArcObjects 9.0</procsv>
<procsv>Photoshop Elements 3</procsv>
<procdate>2006/09/12</procdate>
<proctime>01:47:55 PM</proctime>
</procstep>
<lineage>
<srcinfo>
<srccite>
<citeinfo>
<origin>
Kentucky Environmental and Public Protection Cabinet
Office of Information Services
GIS Branch
</origin>
<pubdate>2006/09/12</pubdate>
<title>kyhs_frankfort_2006</title>
<geoform>remote-sensing image</geoform>
</citeinfo>
</srccite>
<typesrc>High Capacity Portable Hard Drive</typesrc>
<srctime>
<timeinfo>
<sngdate>
<caldate>Varies (see Supplemental_Information)</caldate>
</sngdate>
</timeinfo>
<srccurr>Varies (see Supplemental_Information)</srccurr>
</srctime>
<srccitea>Georectifed Image</srccitea>
<srccontr>Digital Georectifed Image</srccontr>
</srcinfo>
</lineage>
</lineage>
<Esri>
<CreaDate>20080208</CreaDate>
<CreaTime>08370800</CreaTime>
<SyncOnce>FALSE</SyncOnce>
<SyncDate>20150727</SyncDate>
<SyncTime>11140500</SyncTime>
<ModDate>20150727</ModDate>
<ModTime>11140500</ModTime>
<PublishStatus>Published</PublishStatus>
<MetaID>{4C75D9F6-3D72-4AC0-92B2-48D018F44075}</MetaID>
<DataProperties>
<lineage/>
<itemProps>
<itemName Sync="TRUE">Ky_Frankfort_2006_1FT</itemName>
<imsContentType Sync="TRUE">002</imsContentType>
<nativeExtBox>
<westBL Sync="TRUE">5135362.000000</westBL>
<eastBL Sync="TRUE">5213377.000000</eastBL>
<southBL Sync="TRUE">3887349.000000</southBL>
<northBL Sync="TRUE">3981413.000000</northBL>
<exTypeCode Sync="TRUE">1</exTypeCode>
</nativeExtBox>
<itemLocation>
<protocol Sync="TRUE">Local Area Network</protocol>
<linkage Sync="TRUE">file://\\kyeggiswis01\imageserverdata2\GDB\Ky_Frankfort_2006_1FT.gdb</linkage>
</itemLocation>
</itemProps>
<coordRef>
<type Sync="TRUE">Projected</type>
<geogcsn Sync="TRUE">GCS_North_American_1983</geogcsn>
<csUnits Sync="TRUE">Linear Unit: Foot_US (0.304801)</csUnits>
<projcsn Sync="TRUE">NAD_1983_StatePlane_Kentucky_FIPS_1600_Feet</projcsn>
<peXml Sync="TRUE">&lt;ProjectedCoordinateSystem xsi:type='typens:ProjectedCoordinateSystem' xmlns:xsi='http://www.w3.org/2001/XMLSchema-instance' xmlns:xs='http://www.w3.org/2001/XMLSchema' xmlns:typens='http://www.esri.com/schemas/ArcGIS/10.1'&gt;&lt;WKT&gt;PROJCS[&amp;quot;NAD_1983_StatePlane_Kentucky_FIPS_1600_Feet&amp;quot;,GEOGCS[&amp;quot;GCS_North_American_1983&amp;quot;,DATUM[&amp;quot;D_North_American_1983&amp;quot;,SPHEROID[&amp;quot;GRS_1980&amp;quot;,6378137.0,298.257222101]],PRIMEM[&amp;quot;Greenwich&amp;quot;,0.0],UNIT[&amp;quot;Degree&amp;quot;,0.0174532925199433]],PROJECTION[&amp;quot;Lambert_Conformal_Conic&amp;quot;],PARAMETER[&amp;quot;False_Easting&amp;quot;,4921250.0],PARAMETER[&amp;quot;False_Northing&amp;quot;,3280833.333333333],PARAMETER[&amp;quot;Central_Meridian&amp;quot;,-85.75],PARAMETER[&amp;quot;Standard_Parallel_1&amp;quot;,37.08333333333334],PARAMETER[&amp;quot;Standard_Parallel_2&amp;quot;,38.66666666666666],PARAMETER[&amp;quot;Latitude_Of_Origin&amp;quot;,36.33333333333334],UNIT[&amp;quot;Foot_US&amp;quot;,0.3048006096012192],AUTHORITY[&amp;quot;EPSG&amp;quot;,3089]]&lt;/WKT&gt;&lt;XOrigin&gt;-117434800&lt;/XOrigin&gt;&lt;YOrigin&gt;-91579000&lt;/YOrigin&gt;&lt;XYScale&gt;36807330.96050825&lt;/XYScale&gt;&lt;ZOrigin&gt;0&lt;/ZOrigin&gt;&lt;ZScale&gt;1&lt;/ZScale&gt;&lt;MOrigin&gt;0&lt;/MOrigin&gt;&lt;MScale&gt;1&lt;/MScale&gt;&lt;XYTolerance&gt;0.0032808333333333331&lt;/XYTolerance&gt;&lt;ZTolerance&gt;2&lt;/ZTolerance&gt;&lt;MTolerance&gt;2&lt;/MTolerance&gt;&lt;HighPrecision&gt;true&lt;/HighPrecision&gt;&lt;WKID&gt;102763&lt;/WKID&gt;&lt;LatestWKID&gt;3089&lt;/LatestWKID&gt;&lt;/ProjectedCoordinateSystem&gt;</peXml>
</coordRef>
</DataProperties>
<Service Sync="TRUE">ImageServices/Ky_Frankfort_2006_1FT</Service>
<ServiceType Sync="TRUE">image</ServiceType>
</Esri>
<dataIdInfo>
<dataLang>
<languageCode Sync="TRUE" value="eng"/>
<countryCode Sync="TRUE" value="USA"/>
</dataLang>
<idCitation>
<resTitle Sync="TRUE">Ky_Frankfort_2006_1FT</resTitle>
<presForm>
<PresFormCd Sync="TRUE" value="011"/>
</presForm>
</idCitation>
<spatRpType>
<SpatRepTypCd Sync="TRUE" value="002"/>
</spatRpType>
<dataExt>
<geoEle>
<GeoBndBox esriExtentType="native">
<westBL Sync="TRUE">5135362</westBL>
<eastBL Sync="TRUE">5213377</eastBL>
<northBL Sync="TRUE">3981413</northBL>
<southBL Sync="TRUE">3887349</southBL>
<exTypeCode Sync="TRUE">1</exTypeCode>
</GeoBndBox>
</geoEle>
</dataExt>
<geoBox esriExtentType="decdegrees">
<westBL Sync="TRUE">-31.194789</westBL>
<eastBL Sync="TRUE">-29.528959</eastBL>
<northBL Sync="TRUE">52.988736</northBL>
<southBL Sync="TRUE">51.933667</southBL>
<exTypeCode Sync="TRUE">1</exTypeCode>
</geoBox>
<dataExt>
<geoEle>
<GeoBndBox esriExtentType="search">
<exTypeCode Sync="TRUE">1</exTypeCode>
<westBL Sync="TRUE">-85.006934</westBL>
<eastBL Sync="TRUE">-84.732646</eastBL>
<northBL Sync="TRUE">38.255028</northBL>
<southBL Sync="TRUE">37.994700</southBL>
</GeoBndBox>
</geoEle>
</dataExt>
<envirDesc Sync="TRUE">Microsoft Windows Server 2008 R2 Version 6.1 (Build 7601) Service Pack 1; Esri ArcGIS 10.1.1.3143</envirDesc>
<idAbs/>
<searchKeys>
<keyword>2006</keyword>
<keyword>leaf-on</keyword>
<keyword>imagery</keyword>
<keyword>ortho</keyword>
<keyword>frankfort</keyword>
</searchKeys>
<idPurp>Leaf-on imagery acquired of Frankfort in 2006.</idPurp>
<idCredit/>
<resConst>
<Consts>
<useLimit/>
</Consts>
</resConst>
</dataIdInfo>
<mdLang>
<languageCode Sync="TRUE" value="eng"/>
<countryCode Sync="TRUE" value="USA"/>
</mdLang>
<mdStanName Sync="TRUE">ISO 19115 Geographic Information - Metadata</mdStanName>
<mdStanVer Sync="TRUE">DIS_ESRI1.0</mdStanVer>
<mdChar>
<CharSetCd Sync="TRUE" value="004"/>
</mdChar>
<mdHrLv>
<ScopeCd Sync="TRUE" value="005"/>
</mdHrLv>
<mdHrLvName Sync="TRUE">dataset</mdHrLvName>
<distInfo>
<distributor>
<distorTran>
<onLineSrc>
<orDesc Sync="TRUE">002</orDesc>
<protocol Sync="TRUE">ArcSDE Connection</protocol>
</onLineSrc>
<transSize Sync="TRUE">4.305</transSize>
</distorTran>
<distorFormat>
<formatName Sync="TRUE">SDE Raster Dataset</formatName>
</distorFormat>
</distributor>
<distFormat>
<formatName Sync="TRUE">File Geodatabase Raster Dataset</formatName>
</distFormat>
</distInfo>
<refSysInfo>
<RefSystem>
<refSysID>
<identCode Sync="TRUE" code="3089">NAD_1983_StatePlane_Kentucky_FIPS_1600</identCode>
<idCodeSpace Sync="TRUE">EPSG</idCodeSpace>
<idVersion Sync="TRUE">7.11.2</idVersion>
</refSysID>
</RefSystem>
</refSysInfo>
<spatRepInfo>
<GridSpatRep>
<numDims Sync="TRUE">2</numDims>
<cellGeo>
<CellGeoCd Sync="TRUE" value="002"/>
</cellGeo>
<tranParaAv Sync="TRUE">1</tranParaAv>
<axDimProps>
<Dimen>
<dimName>
<DimNameTypCd Sync="TRUE" value="002"/>
</dimName>
<dimSize Sync="TRUE">3441</dimSize>
<dimResol>
<value Sync="TRUE">1</value>
<uom>
<UomLength>
<uomName Sync="TRUE">Foot_US</uomName>
<conversionToISOstandardUnit Sync="TRUE">1 Foot_US = 0.304801 Meter(s)</conversionToISOstandardUnit>
</UomLength>
</uom>
</dimResol>
</Dimen>
<Dimen>
<dimName>
<DimNameTypCd Sync="TRUE" value="001"/>
</dimName>
<dimSize Sync="TRUE">1413</dimSize>
<dimResol>
<value Sync="TRUE">1</value>
<uom>
<UomLength>
<uomName Sync="TRUE">Foot_US</uomName>
<conversionToISOstandardUnit Sync="TRUE">1 Foot_US = 0.304801 Meter(s)</conversionToISOstandardUnit>
</UomLength>
</uom>
</dimResol>
</Dimen>
</axDimProps>
</GridSpatRep>
</spatRepInfo>
<mdDateSt Sync="TRUE">20150727</mdDateSt>
<mdFileID Sync="TRUE">{32AB305A-05E2-4666-A36D-643BA54E4AF7}</mdFileID>
</metadata>
