<?xml version="1.0" encoding="UTF-8" standalone="no"?>
<metadata>
<idinfo>
<citation>
<citeinfo>
<origin>Pictometry International Corp.</origin>
<pubdate>January, 2008</pubdate>
<title>Fayette County Orthoimagery (2007)</title>
<edition>1.0</edition>
<geoform>Digital Raster Orthoimagery</geoform>
<pubinfo>
<pubplace>Frankfort, Kentucky</pubplace>
<publish>Kentucky Division of Geographic Information</publish>
</pubinfo>
<lworkcit>
<citeinfo>
<pubinfo>
<pubplace>Rochester, NY</pubplace>
<publish>Pictometry International Corp.</publish>
</pubinfo>
</citeinfo>
</lworkcit>
<ftname Sync="TRUE">KYRASTER.SDE.FAYETTE_2007_AERIAL</ftname>
<onlink>ftp://ftp.kymartian.ky.gov/hs/fayette_2007/</onlink>
</citeinfo>
</citation>
<descript>
<abstract>Pictometry is a provider of image warehouses and image management tools containing metric oblique and orthophotography for visualization use. The collection was gathered during February and March of 2007. Image pixel size is 6-inch GSD. Image type is natural color.</abstract>
<purpose>Pictometry Image warehouses provide visualization of regional data at high resolution. Image warehouses can contain oblique and orthophotography.</purpose>
<supplinf>USGS DEM data was used for the orthorectification process. Please note that this dataset has been projected to Kentucky Single Zone (FIPS 1600) and is being provided in a JPEG format. The imagery was provided to Kentucky by USGS and LFUCG. EPPC performed the processing necessary for making it available to the general public.</supplinf>
<langdata Sync="TRUE">en</langdata>
</descript>
<timeperd>
<timeinfo>
<rngdates>
<begdate>20070223</begdate>
<enddate>20070308</enddate>
</rngdates>
</timeinfo>
<current>ground condition at time of photography</current>
</timeperd>
<status>
<progress>Complete</progress>
<update>Unknown</update>
</status>
<spdom>
<bounding>
<westbc>-84.666257</westbc>
<eastbc>-84.272006</eastbc>
<northbc>38.221221</northbc>
<southbc>37.839372</southbc>
</bounding>
<lboundng>
<leftbc Sync="TRUE">5233617.500000</leftbc>
<rightbc Sync="TRUE">5345865.500000</rightbc>
<bottombc Sync="TRUE">3832807.000000</bottombc>
<topbc Sync="TRUE">3970609.000000</topbc>
</lboundng>
</spdom>
<keywords>
<theme>
<themekey>Digital Orthophotography</themekey>
<themekt>DGI</themekt>
<themekey>imagery</themekey>
<themekey>USGS</themekey>
<themekey>EPPC</themekey>
<themekey>DGI</themekey>
<themekey>OGI</themekey>
<themekey>imageryBaseMapsEarthCover</themekey>
</theme>
<place>
<placekey>US</placekey>
<placekey>Kentucky</placekey>
<placekey>Lexington</placekey>
<placekey>Lexington-Fayette Urban County Government</placekey>
</place>
<stratum/>
<temporal>
<tempkey>2007</tempkey>
</temporal>
</keywords>
<accconst>There are no access constraints</accconst>
<useconst>There are no use constraints. </useconst>
<ptcontac>
<cntinfo>
<cntorgp>
<cntorg>Division of Geographic Information</cntorg>
<cntper>Kent Anness</cntper>
</cntorgp>
<cntpos>GIS Manager</cntpos>
<cntaddr>
<addrtype>mailing and physical address</addrtype>
<city>Frankfort</city>
<state>Kentucky</state>
<postal>40601</postal>
<country>USA</country>
<address>501 High Street, SOB</address>
</cntaddr>
<cntvoice>502-564-1451</cntvoice>
<cntemail>kent.anness@ky.gov</cntemail>
<hours>9:00am - 4:00pm (EST)</hours>
</cntinfo>
</ptcontac>
<secinfo>
<secclass>Unclassified</secclass>
</secinfo>
<native>Microsoft Windows XP Version 5.1 (Build 2600) Service Pack 2; ESRI ArcCatalog 9.2.0.1324</native>
<crossref>
<citeinfo>
<pubinfo>
<pubplace>Frankfort, KY</pubplace>
<publish>Kentucky Division of Geographic Information</publish>
</pubinfo>
<lworkcit>
<citeinfo>
<origin>Pictometry International Corp.</origin>
<pubdate>9-12-07</pubdate>
</citeinfo>
</lworkcit>
</citeinfo>
</crossref>
<natvform Sync="TRUE">SDE Raster Dataset</natvform>
</idinfo>
<dataqual>
<attracc>
<attraccr>Not applicable. Pictometry is a data visualization system and should not be used for authoritative or definitive mapping.</attraccr>
</attracc>
<posacc>
<horizpa>
<horizpar>Not applicable. Pictometry is a data visualization system and should not be used for authoritative or definitive mapping.</horizpar>
<qhorizpa>
<horizpae>Pictometry is a data visualization system and should not be used for authoritative or definitive mapping</horizpae>
</qhorizpa>
</horizpa>
<vertacc>
<vertaccr>Not applicable. Pictometry is a data visualization system and should not be used for authoritative or definitive mapping.</vertaccr>
<qvertpa>
<vertacce>Pictometry is a data visualization system and should not be used for authoritative or definitive mapping</vertacce>
</qvertpa>
</vertacc>
</posacc>
<lineage>
<srcinfo>
<srccite>
<citeinfo>
<pubinfo>
<pubplace>Frankfort, KY</pubplace>
<publish>Kentucky Division of Geographic Information</publish>
</pubinfo>
</citeinfo>
</srccite>
<srctime>
<timeinfo>
<rngdates>
<begdate>20070101</begdate>
<enddate>20070531</enddate>
</rngdates>
</timeinfo>
<srccurr>ground condition at time of photography</srccurr>
</srctime>
</srcinfo>
<procstep>
<procdesc>Pictometry is an advanced Digital Aerial capture, processing and visualization system.</procdesc>
</procstep>
<procstep>
<procdesc Sync="TRUE">Metadata imported.</procdesc>
<srcused Sync="TRUE">D:\metadata\Fayette County Orthoimagery (2007).xml</srcused>
<date Sync="TRUE">20080208</date>
<time Sync="TRUE">08354300</time>
</procstep>
</lineage>
<cloud>variable</cloud>
</dataqual>
<spdoinfo>
<direct>Raster</direct>
<rastinfo>
<rasttype Sync="TRUE">Pixel</rasttype>
<rowcount Sync="TRUE">275604</rowcount>
<colcount Sync="TRUE">224496</colcount>
<rastxsz Sync="TRUE">0.500000</rastxsz>
<rastysz Sync="TRUE">0.500000</rastysz>
<rastbpp Sync="TRUE">8</rastbpp>
<vrtcount Sync="TRUE">1</vrtcount>
<rastorig Sync="TRUE">Upper Left</rastorig>
<rastcmap Sync="TRUE">FALSE</rastcmap>
<rastcomp Sync="TRUE">JPEG</rastcomp>
<rastband Sync="TRUE">3</rastband>
<rastdtyp Sync="TRUE">pixel codes</rastdtyp>
<rastifor Sync="TRUE">FGDBR</rastifor>
<rastplyr Sync="TRUE">TRUE</rastplyr>
</rastinfo>
</spdoinfo>
<spref>
<horizsys>
<geodetic>
<horizdn>North American Datum of 1983</horizdn>
<ellips>Geodetic Reference System 80</ellips>
<semiaxis>6378137.000000</semiaxis>
<denflat>298.257224</denflat>
</geodetic>
<planar>
<planci>
<plance>row and column</plance>
<coordrep>
<absres>0.5</absres>
<ordres>0.5</ordres>
</coordrep>
<plandu>survey feet</plandu>
</planci>
</planar>
<cordsysn>
<geogcsn>GCS_North_American_1983</geogcsn>
<projcsn>Kentucky Single Zone State Plane Coordinate System</projcsn>
</cordsysn>
</horizsys>
<vertdef>
<altsys>
<altenc Sync="TRUE">Explicit elevation coordinate included with horizontal coordinates</altenc>
<altres Sync="TRUE">1.000000</altres>
</altsys>
</vertdef>
</spref>
<eainfo>
<overview/>
</eainfo>
<distinfo>
<distrib>
<cntinfo>
<cntorgp>
<cntorg>Division of Geographic Information</cntorg>
<cntper>Kent Anness</cntper>
</cntorgp>
<cntpos>GIS Manager</cntpos>
<cntaddr>
<addrtype>mailing and physical address</addrtype>
<address>501 High Street, SOB</address>
<city>Frankfort</city>
<state>Kentucky</state>
<postal>40601</postal>
<country>USA</country>
</cntaddr>
<cntvoice>502-564-1451</cntvoice>
<cntemail>kent.anness@ky.gov</cntemail>
<hours>9:00am-4:00pm (EST)</hours>
</cntinfo>
</distrib>
<resdesc>Downloadable Data</resdesc>
<distliab>Image Warehouse per License Agreement with Pictometry</distliab>
<stdorder>
<digform>
<digtinfo>
<formcont>Natural Color Digital Orthoimagery</formcont>
</digtinfo>
<digtopt>
<offoptn>
<offmedia>Hard Disk</offmedia>
<compat>USB 1.1; USB2.0; Fire Wire</compat>
</offoptn>
<onlinopt>
<computer>
<networka>
<networkr>ftp://ftp.kymartian.ky.gov/hs/fayette_2007/</networkr>
</networka>
</computer>
</onlinopt>
</digtopt>
</digform>
</stdorder>
<availabl>
<timeinfo>
<sngdate/>
</timeinfo>
</availabl>
</distinfo>
<metainfo>
<metd>20070914</metd>
<metc>
<cntinfo>
<cntorgp>
<cntorg>Division of Geographic Information</cntorg>
<cntper>Kent Anness</cntper>
</cntorgp>
<cntpos>GIS Manager</cntpos>
<cntaddr>
<addrtype>mailing and physical address</addrtype>
<city>Frankfort</city>
<state>Kentucky</state>
<postal>40601</postal>
<country>USA</country>
<address>501 High Street, SOB</address>
</cntaddr>
<cntvoice>502-564-1451</cntvoice>
<cntemail>kent.anness@ky.gov</cntemail>
<hours>8:00am - 5:00pm (EST)</hours>
</cntinfo>
</metc>
<metstdn>FGDC Content Standards for Digital Geospatial Metadata</metstdn>
<metstdv>FGDC-STD-001-1998</metstdv>
<mettc>local time</mettc>
<metac>no access constraints</metac>
<metuc>no use constraints</metuc>
<metsi>
<metsc>Unclassified</metsc>
</metsi>
<metextns>
<onlink>http://www.esri.com/metadata/esriprof80.html</onlink>
<metprof>ESRI Metadata Profile</metprof>
</metextns>
<langmeta Sync="TRUE">en</langmeta>
</metainfo>
<Esri>
<CreaDate>20080208</CreaDate>
<CreaTime>08354300</CreaTime>
<SyncOnce>FALSE</SyncOnce>
<SyncDate>20150728</SyncDate>
<SyncTime>02274000</SyncTime>
<ModDate>20150728</ModDate>
<ModTime>02274000</ModTime>
<PublishStatus>Published</PublishStatus>
<MetaID>{45157A51-101C-491C-B654-1C3DA480836E}</MetaID>
<DataProperties>
<itemProps>
<itemName Sync="TRUE">Ky_Fayette_2007_6IN</itemName>
<imsContentType Sync="TRUE">002</imsContentType>
<nativeExtBox>
<westBL Sync="TRUE">5233617.500000</westBL>
<eastBL Sync="TRUE">5345865.500000</eastBL>
<southBL Sync="TRUE">3832807.000000</southBL>
<northBL Sync="TRUE">3970609.000000</northBL>
<exTypeCode Sync="TRUE">1</exTypeCode>
</nativeExtBox>
<itemLocation>
<linkage Sync="TRUE">file://\\kyeggiswis01\imageserverdata2\GDB\Ky_Fayette_2007_1FT.gdb</linkage>
<protocol Sync="TRUE">Local Area Network</protocol>
</itemLocation>
</itemProps>
<coordRef>
<type Sync="TRUE">Projected</type>
<geogcsn Sync="TRUE">GCS_North_American_1983</geogcsn>
<csUnits Sync="TRUE">Linear Unit: Foot_US (0.304801)</csUnits>
<projcsn Sync="TRUE">NAD_1983_StatePlane_Kentucky_FIPS_1600_Feet</projcsn>
<peXml Sync="TRUE">&lt;ProjectedCoordinateSystem xsi:type='typens:ProjectedCoordinateSystem' xmlns:xsi='http://www.w3.org/2001/XMLSchema-instance' xmlns:xs='http://www.w3.org/2001/XMLSchema' xmlns:typens='http://www.esri.com/schemas/ArcGIS/10.1'&gt;&lt;WKT&gt;PROJCS[&amp;quot;NAD_1983_StatePlane_Kentucky_FIPS_1600_Feet&amp;quot;,GEOGCS[&amp;quot;GCS_North_American_1983&amp;quot;,DATUM[&amp;quot;D_North_American_1983&amp;quot;,SPHEROID[&amp;quot;GRS_1980&amp;quot;,6378137.0,298.257222101]],PRIMEM[&amp;quot;Greenwich&amp;quot;,0.0],UNIT[&amp;quot;Degree&amp;quot;,0.0174532925199433]],PROJECTION[&amp;quot;Lambert_Conformal_Conic&amp;quot;],PARAMETER[&amp;quot;False_Easting&amp;quot;,4921250.0],PARAMETER[&amp;quot;False_Northing&amp;quot;,3280833.333333333],PARAMETER[&amp;quot;Central_Meridian&amp;quot;,-85.75],PARAMETER[&amp;quot;Standard_Parallel_1&amp;quot;,37.08333333333333],PARAMETER[&amp;quot;Standard_Parallel_2&amp;quot;,38.66666666666666],PARAMETER[&amp;quot;Latitude_Of_Origin&amp;quot;,36.33333333333333],UNIT[&amp;quot;Foot_US&amp;quot;,0.3048006096012192],AUTHORITY[&amp;quot;EPSG&amp;quot;,3089]]&lt;/WKT&gt;&lt;XOrigin&gt;-117434800&lt;/XOrigin&gt;&lt;YOrigin&gt;-91579000&lt;/YOrigin&gt;&lt;XYScale&gt;36807330.96050825&lt;/XYScale&gt;&lt;ZOrigin&gt;0&lt;/ZOrigin&gt;&lt;ZScale&gt;1&lt;/ZScale&gt;&lt;MOrigin&gt;0&lt;/MOrigin&gt;&lt;MScale&gt;1&lt;/MScale&gt;&lt;XYTolerance&gt;0.0032808333333333331&lt;/XYTolerance&gt;&lt;ZTolerance&gt;2&lt;/ZTolerance&gt;&lt;MTolerance&gt;2&lt;/MTolerance&gt;&lt;HighPrecision&gt;true&lt;/HighPrecision&gt;&lt;WKID&gt;102763&lt;/WKID&gt;&lt;LatestWKID&gt;3089&lt;/LatestWKID&gt;&lt;/ProjectedCoordinateSystem&gt;</peXml>
</coordRef>
</DataProperties>
</Esri>
<dataIdInfo>
<envirDesc Sync="TRUE">Microsoft Windows Server 2008 R2 Version 6.1 (Build 7601) Service Pack 1; Esri ArcGIS 10.1.1.3143</envirDesc>
<dataLang>
<languageCode Sync="TRUE" value="eng"/>
<countryCode Sync="TRUE" value="USA"/>
</dataLang>
<idCitation>
<resTitle Sync="TRUE">Ky_Fayette_2007_6IN</resTitle>
<presForm>
<PresFormCd Sync="TRUE" value="011"/>
</presForm>
</idCitation>
<spatRpType>
<SpatRepTypCd Sync="TRUE" value="002"/>
</spatRpType>
<dataExt>
<geoEle>
<GeoBndBox esriExtentType="native">
<westBL Sync="TRUE">5233617.5</westBL>
<eastBL Sync="TRUE">5345865.5</eastBL>
<northBL Sync="TRUE">3970609</northBL>
<southBL Sync="TRUE">3832807</southBL>
<exTypeCode Sync="TRUE">1</exTypeCode>
</GeoBndBox>
</geoEle>
</dataExt>
<geoBox esriExtentType="decdegrees">
<westBL Sync="TRUE">-84.668163</westBL>
<eastBL Sync="TRUE">-84.271907</eastBL>
<northBL Sync="TRUE">38.22271</northBL>
<southBL Sync="TRUE">37.840079</southBL>
<exTypeCode Sync="TRUE">1</exTypeCode>
</geoBox>
<dataExt>
<geoEle>
<GeoBndBox esriExtentType="search">
<exTypeCode Sync="TRUE">1</exTypeCode>
<westBL Sync="TRUE">-84.668163</westBL>
<eastBL Sync="TRUE">-84.271907</eastBL>
<northBL Sync="TRUE">38.222710</northBL>
<southBL Sync="TRUE">37.840079</southBL>
</GeoBndBox>
</geoEle>
</dataExt>
<idAbs/>
<searchKeys>
<keyword>Leaf-On</keyword>
<keyword>imagery</keyword>
<keyword>orthos</keyword>
<keyword>fayette</keyword>
<keyword>2007</keyword>
</searchKeys>
<idPurp>Imagery acquired for LFUCG in 2007.</idPurp>
<idCredit/>
<resConst>
<Consts>
<useLimit/>
</Consts>
</resConst>
</dataIdInfo>
<mdLang>
<languageCode Sync="TRUE" value="eng"/>
<countryCode Sync="TRUE" value="USA"/>
</mdLang>
<mdStanName Sync="TRUE">ISO 19115 Geographic Information - Metadata</mdStanName>
<mdStanVer Sync="TRUE">DIS_ESRI1.0</mdStanVer>
<mdChar>
<CharSetCd Sync="TRUE" value="004"/>
</mdChar>
<mdHrLv>
<ScopeCd Sync="TRUE" value="005"/>
</mdHrLv>
<mdHrLvName Sync="TRUE">dataset</mdHrLvName>
<distInfo>
<distributor>
<distorTran>
<onLineSrc>
<linkage Sync="TRUE">Server=kydevgis5; Service=5152; Database=kyraster; User=sde; Version=sde.DEFAULT</linkage>
<protocol Sync="TRUE">ArcSDE Connection</protocol>
<orDesc Sync="TRUE">002</orDesc>
</onLineSrc>
</distorTran>
<distorFormat>
<formatName Sync="TRUE">SDE Raster Dataset</formatName>
</distorFormat>
</distributor>
<distFormat>
<formatName Sync="TRUE">File Geodatabase Raster Dataset</formatName>
</distFormat>
</distInfo>
<mdDateSt Sync="TRUE">20150728</mdDateSt>
<mdFileID Sync="TRUE">{F1D0C7AE-1DA1-4B31-A004-E1D079983D0B}</mdFileID>
<refSysInfo>
<RefSystem>
<refSysID>
<identCode Sync="TRUE" code="3089">NAD_1983_StatePlane_Kentucky_FIPS_1600_Feet</identCode>
<idCodeSpace Sync="TRUE">EPSG</idCodeSpace>
<idVersion Sync="TRUE">7.11.2</idVersion>
</refSysID>
</RefSystem>
</refSysInfo>
</metadata>
