<?xml version="1.0" encoding="UTF-8" standalone="no"?>
<metadata>
<idinfo>
<citation>
<citeinfo>
<origin>Boone County Planning Commission</origin>
<pubdate>February, 2009</pubdate>
<title>Boone County Digital Orthoimagery (2007)</title>
<geoform>raster digital data</geoform>
<ftname Sync="TRUE">kyraster.SDE.BOONE_2007_AERIAL</ftname>
<pubinfo>
<pubplace>Frankfort, Kentucky</pubplace>
<publish>Division of Geographic Information</publish>
</pubinfo>
</citeinfo>
</citation>
<descript>
<abstract>This Dynamic Image Service provides access to color ortho imagery for the urbanized area of Boone County Kentucky. The 6 inch imagery was captured in Spring of 2007.</abstract>
<purpose>The Boone County Kentucky Digital Orthophotography was created to support the county's existing Geographic Information Systems (GIS). The Boone County GIS mission is to improve service to Boone County residents and businesses by providing mapping capabilities, geospatial technology and geographic analysis services to local government agencies. </purpose>
<supplinf>Boone County GIS assists public agencies in Northern Kentucky with studying existing business processes and re-engineering workflows so that services to the public are improved and enhanced via the integration of spatial technologies. Boone County GIS provides fast and easy access to accurate digital and hard-copy mapping data, as well as computerized geographic analysis services, which improves decision-making. Boone County GIS is a standards-driven organization that embraces best management practices. Boone County GIS is committed to utilizing the most current mapping technologies available.</supplinf>
<langdata Sync="TRUE">en</langdata>
</descript>
<timeperd>
<timeinfo>
<sngdate>
<caldate>20070417</caldate>
</sngdate>
</timeinfo>
<current>ground condition</current>
</timeperd>
<status>
<progress>Complete</progress>
<update>Every 2 to 3 years</update>
</status>
<spdom>
<bounding>
<westbc>-84.906625</westbc>
<eastbc>-84.584719</eastbc>
<northbc>39.160366</northbc>
<southbc>38.762354</southbc>
</bounding>
<lboundng>
<leftbc Sync="TRUE">5188385.500000</leftbc>
<rightbc Sync="TRUE">5252916.000000</rightbc>
<bottombc Sync="TRUE">4206714.500000</bottombc>
<topbc Sync="TRUE">4311936.500000</topbc>
</lboundng>
</spdom>
<keywords>
<theme>
<themekt>None</themekt>
<themekey>Digital Orthophotography</themekey>
<themekey>Orthophotography</themekey>
<themekey>Imagery</themekey>
<themekey>Aerial Orthophotography</themekey>
<themekey>Digital Orthoimagery</themekey>
<themekey>Orthoimagery</themekey>
<themekey>Aerial Imagery</themekey>
<themekey>Aerial Orthophotography</themekey>
<themekey>Aerial Orthoimagery</themekey>
<themekey>ImageryBaseMapsEarthCover</themekey>
<themekey>DGI</themekey>
</theme>
<place>
<placekey>Boone County Kentucky</placekey>
<placekey>Northern Kentucky</placekey>
<placekey>Cincinnati Ohio</placekey>
<placekt>None</placekt>
</place>
<temporal>
<tempkey>2007</tempkey>
<tempkey>Spring 2007</tempkey>
<tempkey>April 2007</tempkey>
<tempkt>None</tempkt>
<tempkey>Leaf-off</tempkey>
</temporal>
</keywords>
<accconst>Imagery falling within the following tiles require the user to seek permission to access the data from the Boone County Planning Commission: All tiles in the A-D columns, E05-E25, F04-F25, G03-G07, H02-H07, I01-I07, J00-J07, K00-K07, L01-L07, M01-M07.</accconst>
<useconst>Consumers of this data must understand that the information contained within this dataset is not survey quality and should therefore be used for general planning purposes only.</useconst>
<native>ESRI ArcGIS 9.x</native>
<ptcontac>
<cntinfo>
<cntaddr>
<address>120 Glenns Creek Road</address>
<address>P.O. Box 958</address>
<addrtype>mailing and physical address</addrtype>
<city>Frankfor</city>
<state>KY</state>
<postal>40601</postal>
<country>USA</country>
</cntaddr>
<cntpos>GIS Manager</cntpos>
<cntvoice>502-564-1451</cntvoice>
<cntemail>kent.anness@ky.gov</cntemail>
<cntorgp>
<cntorg>Division of Geographic Information</cntorg>
<cntper>Kent Anness</cntper>
</cntorgp>
</cntinfo>
</ptcontac>
<natvform Sync="TRUE">SDE Raster Dataset</natvform>
</idinfo>
<spdoinfo>
<direct>Raster</direct>
<rastinfo>
<rasttype>Pixel</rasttype>
<rowcount>2500</rowcount>
<colcount>3500</colcount>
<vrtcount>1</vrtcount>
<rastxsz Sync="TRUE">0.500000</rastxsz>
<rastysz Sync="TRUE">0.500000</rastysz>
<rastbpp Sync="TRUE">8</rastbpp>
<rastorig Sync="TRUE">Upper Left</rastorig>
<rastcmap Sync="TRUE">FALSE</rastcmap>
<rastcomp Sync="TRUE">JPEG</rastcomp>
<rastband Sync="TRUE">3</rastband>
<rastdtyp Sync="TRUE">pixel codes</rastdtyp>
<rastifor Sync="TRUE">FGDBR</rastifor>
<rastplyr Sync="TRUE">TRUE</rastplyr>
</rastinfo>
</spdoinfo>
<spref>
<horizsys>
<planar>
<planci>
<plance>coordinate pair</plance>
<coordrep>
<absres>0.000256</absres>
<ordres>0.000256</ordres>
</coordrep>
<plandu>survey feet</plandu>
</planci>
</planar>
<geodetic>
<horizdn>North American Datum of 1983</horizdn>
<ellips>Geodetic Reference System 80</ellips>
<semiaxis>6378137.000000</semiaxis>
<denflat>298.257222101</denflat>
</geodetic>
<cordsysn>
<projcsn>Kentucky Single Zone (FIPS 1600)</projcsn>
<geogcsn Sync="TRUE">GCS_North_American_1983</geogcsn>
</cordsysn>
</horizsys>
<vertdef>
<altsys>
<altenc Sync="TRUE">Explicit elevation coordinate included with horizontal coordinates</altenc>
<altres Sync="TRUE">1.000000</altres>
</altsys>
</vertdef>
</spref>
<distinfo>
<distrib>
<cntinfo>
<cntorgp>
<cntorg>Division of Geographic Information</cntorg>
<cntper>Kent Anness</cntper>
</cntorgp>
<cntaddr>
<addrtype>mailing and physical address</addrtype>
<address>120 Glenns Creek Road</address>
<city>Frankfort</city>
<state>Kentucky</state>
<postal>40601</postal>
<country>USA</country>
</cntaddr>
<cntvoice>502-564-1451</cntvoice>
<cntemail>kent.anness@ky.gov</cntemail>
<hours>Mon - Fri 9:00 am to 4:30 pm EST/EDT</hours>
<cntpos>GIS Manager</cntpos>
</cntinfo>
</distrib>
<distliab>None</distliab>
<resdesc Sync="TRUE">Downloadable Data</resdesc>
<stdorder>
<digform>
<digtopt>
<onlinopt>
<computer>
<networka>
<networkr>ftp://ftp.kymartian.ky.gov/boone_2007_aerial/</networkr>
</networka>
</computer>
</onlinopt>
</digtopt>
</digform>
</stdorder>
</distinfo>
<metainfo>
<metd>20071128</metd>
<metrd>20080401</metrd>
<metc>
<cntinfo>
<cntorgp>
<cntorg>Division of Geographic Information</cntorg>
<cntper>Kent Anness</cntper>
</cntorgp>
<cntaddr>
<addrtype>mailing and physical address</addrtype>
<address>120 Glenns Creek Road</address>
<city>Frankfort</city>
<state>KY</state>
<postal>40601</postal>
<country>USA</country>
</cntaddr>
<cntvoice>502-564-1451</cntvoice>
<cntemail>kent.anness@ky.gov</cntemail>
<cntaddr>
<address>Boone County Administration Building</address>
<addrtype>physical address</addrtype>
<address>2950 Washington Street, Room 317</address>
<city>Burlington</city>
<state>KY</state>
<postal>41005</postal>
<country>USA</country>
</cntaddr>
<cntpos>GIS Manager</cntpos>
</cntinfo>
</metc>
<metstdn>FGDC Content Standards for Digital Geospatial Metadata</metstdn>
<metstdv>FGDC-STD-001-1998</metstdv>
<metuc>None</metuc>
<langmeta Sync="TRUE">en</langmeta>
<mettc Sync="TRUE">local time</mettc>
</metainfo>
<Esri>
<ModDate>20150730</ModDate>
<ModTime>02434000</ModTime>
<CreaDate>20100112</CreaDate>
<CreaTime>12095000</CreaTime>
<SyncOnce>FALSE</SyncOnce>
<SyncDate>20150730</SyncDate>
<SyncTime>02434000</SyncTime>
<PublishStatus>Published</PublishStatus>
<MetaID>{330A5170-1ABD-415D-885A-24FFA926FAB8}</MetaID>
<DataProperties>
<itemProps>
<itemName Sync="TRUE">Ky_Boone_2007_6IN</itemName>
<imsContentType Sync="TRUE">002</imsContentType>
<nativeExtBox>
<westBL Sync="TRUE">5188385.500000</westBL>
<eastBL Sync="TRUE">5252916.000000</eastBL>
<southBL Sync="TRUE">4206714.500000</southBL>
<northBL Sync="TRUE">4311936.500000</northBL>
<exTypeCode Sync="TRUE">1</exTypeCode>
</nativeExtBox>
<itemLocation>
<protocol Sync="TRUE">Local Area Network</protocol>
<linkage Sync="TRUE">file://\\kyeggiswis01\imageserverdata2\GDB\Ky_Boone_2007_6IN.gdb</linkage>
</itemLocation>
</itemProps>
<coordRef>
<type Sync="TRUE">Projected</type>
<geogcsn Sync="TRUE">GCS_North_American_1983</geogcsn>
<csUnits Sync="TRUE">Linear Unit: Foot_US (0.304801)</csUnits>
<projcsn Sync="TRUE">NAD_1983_StatePlane_Kentucky_FIPS_1600_Feet</projcsn>
<peXml Sync="TRUE">&lt;ProjectedCoordinateSystem xsi:type='typens:ProjectedCoordinateSystem' xmlns:xsi='http://www.w3.org/2001/XMLSchema-instance' xmlns:xs='http://www.w3.org/2001/XMLSchema' xmlns:typens='http://www.esri.com/schemas/ArcGIS/10.1'&gt;&lt;WKT&gt;PROJCS[&amp;quot;NAD_1983_StatePlane_Kentucky_FIPS_1600_Feet&amp;quot;,GEOGCS[&amp;quot;GCS_North_American_1983&amp;quot;,DATUM[&amp;quot;D_North_American_1983&amp;quot;,SPHEROID[&amp;quot;GRS_1980&amp;quot;,6378137.0,298.257222101]],PRIMEM[&amp;quot;Greenwich&amp;quot;,0.0],UNIT[&amp;quot;Degree&amp;quot;,0.0174532925199433]],PROJECTION[&amp;quot;Lambert_Conformal_Conic&amp;quot;],PARAMETER[&amp;quot;False_Easting&amp;quot;,4921250.0],PARAMETER[&amp;quot;False_Northing&amp;quot;,3280833.333333333],PARAMETER[&amp;quot;Central_Meridian&amp;quot;,-85.75],PARAMETER[&amp;quot;Standard_Parallel_1&amp;quot;,37.08333333333334],PARAMETER[&amp;quot;Standard_Parallel_2&amp;quot;,38.66666666666666],PARAMETER[&amp;quot;Latitude_Of_Origin&amp;quot;,36.33333333333334],UNIT[&amp;quot;Foot_US&amp;quot;,0.3048006096012192],AUTHORITY[&amp;quot;EPSG&amp;quot;,3089]]&lt;/WKT&gt;&lt;XOrigin&gt;-117434800&lt;/XOrigin&gt;&lt;YOrigin&gt;-91579000&lt;/YOrigin&gt;&lt;XYScale&gt;36807330.96050825&lt;/XYScale&gt;&lt;ZOrigin&gt;0&lt;/ZOrigin&gt;&lt;ZScale&gt;1&lt;/ZScale&gt;&lt;MOrigin&gt;0&lt;/MOrigin&gt;&lt;MScale&gt;1&lt;/MScale&gt;&lt;XYTolerance&gt;0.0032808333333333331&lt;/XYTolerance&gt;&lt;ZTolerance&gt;2&lt;/ZTolerance&gt;&lt;MTolerance&gt;2&lt;/MTolerance&gt;&lt;HighPrecision&gt;true&lt;/HighPrecision&gt;&lt;WKID&gt;102763&lt;/WKID&gt;&lt;LatestWKID&gt;3089&lt;/LatestWKID&gt;&lt;/ProjectedCoordinateSystem&gt;</peXml>
</coordRef>
</DataProperties>
<Service Sync="TRUE">ImageServices/Ky_Boone_2007_6IN</Service>
<ServiceType Sync="TRUE">image</ServiceType>
</Esri>
<mdDateSt Sync="TRUE">20150730</mdDateSt>
<dataqual>
<lineage>
<procstep>
<procdesc Sync="TRUE">Metadata imported.</procdesc>
<procdate Sync="TRUE">20090212</procdate>
<proctime Sync="TRUE">08154100</proctime>
</procstep>
<procstep>
<procdesc Sync="TRUE">Metadata imported.</procdesc>
<procdate Sync="TRUE">20100112</procdate>
<proctime Sync="TRUE">12095000</proctime>
</procstep>
</lineage>
</dataqual>
<dataIdInfo>
<dataLang>
<languageCode Sync="TRUE" value="eng"/>
<countryCode Sync="TRUE" value="USA"/>
</dataLang>
<idCitation>
<resTitle Sync="TRUE">Ky_Boone_2007_6IN</resTitle>
<presForm>
<PresFormCd Sync="TRUE" value="011"/>
</presForm>
</idCitation>
<spatRpType>
<SpatRepTypCd Sync="TRUE" value="002"/>
</spatRpType>
<dataExt>
<geoEle>
<GeoBndBox esriExtentType="native">
<westBL Sync="TRUE">5188385.5</westBL>
<eastBL Sync="TRUE">5252916</eastBL>
<northBL Sync="TRUE">4311936.5</northBL>
<southBL Sync="TRUE">4206714.5</southBL>
<exTypeCode Sync="TRUE">1</exTypeCode>
</GeoBndBox>
</geoEle>
</dataExt>
<geoBox esriExtentType="decdegrees">
<westBL Sync="TRUE">-84.811787</westBL>
<eastBL Sync="TRUE">-84.580538</eastBL>
<northBL Sync="TRUE">39.161177</northBL>
<southBL Sync="TRUE">38.870332</southBL>
<exTypeCode Sync="TRUE">1</exTypeCode>
</geoBox>
<dataExt>
<geoEle>
<GeoBndBox esriExtentType="search">
<exTypeCode Sync="TRUE">1</exTypeCode>
<westBL Sync="TRUE">-84.811787</westBL>
<eastBL Sync="TRUE">-84.580538</eastBL>
<northBL Sync="TRUE">39.161177</northBL>
<southBL Sync="TRUE">38.870332</southBL>
</GeoBndBox>
</geoEle>
</dataExt>
<envirDesc Sync="TRUE">Microsoft Windows Server 2008 R2 Version 6.1 (Build 7601) Service Pack 1; Esri ArcGIS 10.1.1.3143</envirDesc>
<idAbs/>
<searchKeys>
<keyword>Boone</keyword>
<keyword>2007</keyword>
<keyword>imagery</keyword>
</searchKeys>
<idPurp>This Dynamic Image Service provides access to color ortho imagery for the urbanized area of Boone County Kentucky. The 6 inch imagery was captured in Spring of 2007.</idPurp>
<idCredit/>
<resConst>
<Consts>
<useLimit/>
</Consts>
</resConst>
</dataIdInfo>
<mdLang>
<languageCode Sync="TRUE" value="eng"/>
<countryCode Sync="TRUE" value="USA"/>
</mdLang>
<mdStanName Sync="TRUE">ISO 19115 Geographic Information - Metadata</mdStanName>
<mdStanVer Sync="TRUE">DIS_ESRI1.0</mdStanVer>
<mdChar>
<CharSetCd Sync="TRUE" value="004"/>
</mdChar>
<mdHrLv>
<ScopeCd Sync="TRUE" value="005"/>
</mdHrLv>
<mdHrLvName Sync="TRUE">dataset</mdHrLvName>
<distInfo>
<distributor>
<distorTran>
<onLineSrc>
<protocol Sync="TRUE">ArcSDE Connection</protocol>
<orDesc Sync="TRUE">002</orDesc>
</onLineSrc>
</distorTran>
<distorFormat>
<formatName Sync="TRUE">SDE Raster Dataset</formatName>
</distorFormat>
</distributor>
<distFormat>
<formatName Sync="TRUE">File Geodatabase Raster Dataset</formatName>
</distFormat>
</distInfo>
<refSysInfo>
<RefSystem>
<refSysID>
<identCode Sync="TRUE" code="3089">NAD_1983_StatePlane_Kentucky_FIPS_1600_Feet</identCode>
<idCodeSpace Sync="TRUE">EPSG</idCodeSpace>
<idVersion Sync="TRUE">7.11.2</idVersion>
</refSysID>
</RefSystem>
</refSysInfo>
</metadata>
