<?xml version="1.0" encoding="UTF-8" standalone="no"?>
<metadata xml:lang="en">
<Esri>
<CreaDate>20080208</CreaDate>
<CreaTime>08391700</CreaTime>
<SyncOnce>FALSE</SyncOnce>
<DataProperties>
<lineage>
<Process Date="20250731" Time="120206" ToolSource="c:\program files\arcgis\pro\Resources\ArcToolbox\Toolboxes\Data Management Tools.tbx\CopyMultiple">CopyMultiple "E:\ImageServerData\GDB\USGS_10M_TOPO_DEM.gdb\Ky_SLOPE_USGS_10M RasterDataset" E:\ImageServerData\GDB\Ky_USGS_Legacy_DEM_Datasets.gdb Ky_SLOPE_USGS_10M "Ky_SLOPE_USGS_10M RasterDataset Ky_SLOPE_USGS_10M #"</Process>
</lineage>
<itemProps>
<itemName Sync="TRUE">Ky_SLOPE_USGS_10M</itemName>
<imsContentType Sync="TRUE">002</imsContentType>
<nativeExtBox>
<westBL Sync="TRUE">3780465.000000</westBL>
<eastBL Sync="TRUE">6045015.000000</eastBL>
<southBL Sync="TRUE">3304005.000000</southBL>
<northBL Sync="TRUE">4344855.000000</northBL>
<exTypeCode Sync="TRUE">1</exTypeCode>
</nativeExtBox>
<itemLocation>
<protocol Sync="TRUE">Local Area Network</protocol>
<linkage Sync="TRUE">file://\\KYEGGISWIS01\E\ImageServerData\GDB\USGS_10M_TOPO_DEM.gdb</linkage>
</itemLocation>
</itemProps>
<coordRef>
<type Sync="TRUE">Projected</type>
<geogcsn Sync="TRUE">GCS_North_American_1983</geogcsn>
<csUnits Sync="TRUE">Linear Unit: Foot_US (0.304801)</csUnits>
<projcsn Sync="TRUE">NAD_1983_StatePlane_Kentucky_FIPS_1600_Feet</projcsn>
<peXml Sync="TRUE">&lt;ProjectedCoordinateSystem xsi:type='typens:ProjectedCoordinateSystem' xmlns:xsi='http://www.w3.org/2001/XMLSchema-instance' xmlns:xs='http://www.w3.org/2001/XMLSchema' xmlns:typens='http://www.esri.com/schemas/ArcGIS/10.1'&gt;&lt;WKT&gt;PROJCS[&amp;quot;NAD_1983_StatePlane_Kentucky_FIPS_1600_Feet&amp;quot;,GEOGCS[&amp;quot;GCS_North_American_1983&amp;quot;,DATUM[&amp;quot;D_North_American_1983&amp;quot;,SPHEROID[&amp;quot;GRS_1980&amp;quot;,6378137.0,298.257222101]],PRIMEM[&amp;quot;Greenwich&amp;quot;,0.0],UNIT[&amp;quot;Degree&amp;quot;,0.0174532925199433]],PROJECTION[&amp;quot;Lambert_Conformal_Conic&amp;quot;],PARAMETER[&amp;quot;False_Easting&amp;quot;,4921250.0],PARAMETER[&amp;quot;False_Northing&amp;quot;,3280833.333333333],PARAMETER[&amp;quot;Central_Meridian&amp;quot;,-85.75],PARAMETER[&amp;quot;Standard_Parallel_1&amp;quot;,37.08333333333334],PARAMETER[&amp;quot;Standard_Parallel_2&amp;quot;,38.66666666666666],PARAMETER[&amp;quot;Latitude_Of_Origin&amp;quot;,36.33333333333334],UNIT[&amp;quot;Foot_US&amp;quot;,0.3048006096012192],AUTHORITY[&amp;quot;EPSG&amp;quot;,3089]]&lt;/WKT&gt;&lt;XOrigin&gt;-117434800&lt;/XOrigin&gt;&lt;YOrigin&gt;-91579000&lt;/YOrigin&gt;&lt;XYScale&gt;36807330.96050825&lt;/XYScale&gt;&lt;ZOrigin&gt;0&lt;/ZOrigin&gt;&lt;ZScale&gt;1&lt;/ZScale&gt;&lt;MOrigin&gt;0&lt;/MOrigin&gt;&lt;MScale&gt;1&lt;/MScale&gt;&lt;XYTolerance&gt;0.0032808333333333331&lt;/XYTolerance&gt;&lt;ZTolerance&gt;2&lt;/ZTolerance&gt;&lt;MTolerance&gt;2&lt;/MTolerance&gt;&lt;HighPrecision&gt;true&lt;/HighPrecision&gt;&lt;WKID&gt;102763&lt;/WKID&gt;&lt;LatestWKID&gt;3089&lt;/LatestWKID&gt;&lt;/ProjectedCoordinateSystem&gt;</peXml>
</coordRef>
</DataProperties>
<SyncDate>20150727</SyncDate>
<SyncTime>11264900</SyncTime>
<ModDate>20150727</ModDate>
<ModTime>11264900</ModTime>
<PublishStatus>Published</PublishStatus>
<MetaID>{9A9F2F59-9B1E-48D0-8B7E-4367EAA2163A}</MetaID>
<Service Sync="TRUE">ElevationServices/Ky_Slope_USGS_10M</Service>
<ServiceType Sync="TRUE">image</ServiceType>
</Esri>
<idinfo>
<native Sync="TRUE">Microsoft Windows 2000 Version 5.2 (Build 3790) Service Pack 2; ESRI ArcCatalog 9.3.1.3000</native>
<descript>
<langdata Sync="TRUE">en</langdata>
<abstract>Percent Slope derived from 10m DEMs, mosaiced together into a single statewide image.</abstract>
<purpose>To provide slope values in a downloadable format (ESRI file-based geodatabase) for use by GIS professionals.</purpose>
</descript>
<citation>
<citeinfo>
<origin>Kentucky Division of Geographic Information (DGI)</origin>
<pubdate>July 30, 2007</pubdate>
<ftname Sync="TRUE">kyraster.SDE.KYSLOPE</ftname>
<geoform Sync="TRUE">SDE raster digital data</geoform>
<title>Percent Slope</title>
<pubinfo>
<pubplace>Frankfort, KY</pubplace>
<publish>Division of Geographic Information</publish>
</pubinfo>
</citeinfo>
</citation>
<timeperd>
<current>ground condition</current>
<timeinfo>
<sngdate>
<caldate>unknown</caldate>
</sngdate>
</timeinfo>
</timeperd>
<status>
<progress>Complete</progress>
<update>None planned</update>
</status>
<spdom>
<bounding>
<westbc Sync="TRUE">-89.775155</westbc>
<eastbc Sync="TRUE">-81.784826</eastbc>
<northbc Sync="TRUE">39.255238</northbc>
<southbc Sync="TRUE">36.331952</southbc>
</bounding>
<lboundng>
<leftbc Sync="TRUE">3780465.000000</leftbc>
<rightbc Sync="TRUE">6045015.000000</rightbc>
<bottombc Sync="TRUE">3304005.000000</bottombc>
<topbc Sync="TRUE">4344855.000000</topbc>
</lboundng>
</spdom>
<keywords>
<theme>
<themekt>REQUIRED: Reference to a formally registered thesaurus or a similar authoritative source of theme keywords.</themekt>
<themekey>slope</themekey>
<themekey>dem</themekey>
<themekey>image</themekey>
<themekey>imageryBaseMapsEarthCover</themekey>
<themekey>topography</themekey>
<themekey>planning</themekey>
<themekey>USGS</themekey>
<themekey>statewide slope</themekey>
<themekey>DGI</themekey>
<themekey>OGI</themekey>
</theme>
</keywords>
<accconst>None.</accconst>
<useconst>None.</useconst>
<natvform Sync="TRUE">SDE Raster Dataset</natvform>
<ptcontac>
<cntinfo>
<cntaddr>
<address>403 Wapping Street</address>
<addrtype>mailing and physical address</addrtype>
<address>Suite 340</address>
<city>Frankfort</city>
<state>KY</state>
<postal>40601</postal>
<country>USA</country>
</cntaddr>
<cntorgp>
<cntorg>Division of Geographic Information</cntorg>
<cntper>Kim Anness</cntper>
</cntorgp>
<cntpos>GIS Programmer/Analyst</cntpos>
<cntvoice>502-564-1450 x295</cntvoice>
<cntfax>502-564-1475</cntfax>
<cntemail>kimberly.anness@ky.gov</cntemail>
<hours>M-F 8:00 AM - 4:00 PM</hours>
</cntinfo>
</ptcontac>
<datacred>Division of Geographic Information. USGS.</datacred>
</idinfo>
<dataIdInfo>
<dataLang>
<languageCode Sync="TRUE" value="eng"/>
<countryCode Sync="TRUE" value="USA"/>
</dataLang>
<idCitation>
<resTitle Sync="TRUE">Ky_Slope_USGS_10M</resTitle>
<presForm>
<PresFormCd Sync="TRUE" value="011"/>
</presForm>
</idCitation>
<dataExt>
<geoEle>
<GeoBndBox esriExtentType="native">
<westBL Sync="TRUE">3780465</westBL>
<eastBL Sync="TRUE">6045015</eastBL>
<northBL Sync="TRUE">4344855</northBL>
<southBL Sync="TRUE">3304005</southBL>
<exTypeCode Sync="TRUE">1</exTypeCode>
</GeoBndBox>
</geoEle>
</dataExt>
<geoBox esriExtentType="decdegrees">
<westBL Sync="TRUE">-89.775155</westBL>
<eastBL Sync="TRUE">-81.784826</eastBL>
<northBL Sync="TRUE">39.255238</northBL>
<southBL Sync="TRUE">36.331952</southBL>
<exTypeCode Sync="TRUE">1</exTypeCode>
</geoBox>
<spatRpType>
<SpatRepTypCd Sync="TRUE" value="002"/>
</spatRpType>
<dataExt>
<geoEle>
<GeoBndBox esriExtentType="search">
<exTypeCode Sync="TRUE">1</exTypeCode>
<westBL Sync="TRUE">-89.775155</westBL>
<eastBL Sync="TRUE">-81.784826</eastBL>
<northBL Sync="TRUE">39.255238</northBL>
<southBL Sync="TRUE">36.331952</southBL>
</GeoBndBox>
</geoEle>
</dataExt>
<envirDesc Sync="TRUE">Microsoft Windows Server 2008 R2 Version 6.1 (Build 7601) Service Pack 1; Esri ArcGIS 10.1.1.3143</envirDesc>
<idAbs>Slope values derived from the USGS 10-meter DEM. The surface of this DEM is no longer current and should not be used for analysis.</idAbs>
<searchKeys>
<keyword>DEM</keyword>
<keyword>slope</keyword>
<keyword>USGS</keyword>
<keyword>10-meter</keyword>
<keyword>digital elevation model</keyword>
<keyword>low resolution</keyword>
</searchKeys>
<idPurp>Slope values derived from the USGS 10-meter DEM. The surface of this DEM is no longer current and should not be used for analysis.</idPurp>
<idCredit>USGS</idCredit>
<resConst>
<Consts>
<useLimit>None</useLimit>
</Consts>
</resConst>
</dataIdInfo>
<metainfo>
<langmeta Sync="TRUE">en</langmeta>
<metstdn Sync="TRUE">FGDC Content Standards for Digital Geospatial Metadata</metstdn>
<metstdv Sync="TRUE">FGDC-STD-001-1998</metstdv>
<mettc Sync="TRUE">local time</mettc>
<metc>
<cntinfo>
<cntorgp>
<cntper>Kim Anness</cntper>
<cntorg>Division of Geographic Information</cntorg>
</cntorgp>
<cntaddr>
<addrtype>mailing and physical address</addrtype>
<city>Frankfort</city>
<state>KY</state>
<postal>40601</postal>
<address>403 Wapping Street</address>
<address>Suite 340</address>
<country>USA</country>
</cntaddr>
<cntvoice>502-564-1450 x295</cntvoice>
<cntpos>GIS Programmer/Analyst</cntpos>
<cntfax>502-564-1475</cntfax>
<cntemail>kimberly.anness@ky.gov</cntemail>
<hours>M-F 8:00 AM - 4:00 PM</hours>
</cntinfo>
</metc>
<metd Sync="TRUE">20100112</metd>
</metainfo>
<mdLang>
<languageCode Sync="TRUE" value="eng"/>
<countryCode Sync="TRUE" value="USA"/>
</mdLang>
<mdStanName Sync="TRUE">ISO 19115 Geographic Information - Metadata</mdStanName>
<mdStanVer Sync="TRUE">DIS_ESRI1.0</mdStanVer>
<mdChar>
<CharSetCd Sync="TRUE" value="004"/>
</mdChar>
<mdHrLv>
<ScopeCd Sync="TRUE" value="005"/>
</mdHrLv>
<mdHrLvName Sync="TRUE">dataset</mdHrLvName>
<distinfo>
<resdesc Sync="TRUE">Downloadable Data</resdesc>
</distinfo>
<distInfo>
<distributor>
<distorTran>
<onLineSrc>
<orDesc Sync="TRUE">002</orDesc>
<protocol Sync="TRUE">ArcSDE Connection</protocol>
</onLineSrc>
</distorTran>
<distorFormat>
<formatName Sync="TRUE">SDE Raster Dataset</formatName>
</distorFormat>
</distributor>
<distFormat>
<formatName Sync="TRUE">File Geodatabase Raster Dataset</formatName>
</distFormat>
</distInfo>
<spdoinfo>
<direct Sync="TRUE">Raster</direct>
<rastinfo>
<rasttype Sync="TRUE">Pixel</rasttype>
<rowcount Sync="TRUE">34695</rowcount>
<colcount Sync="TRUE">75485</colcount>
<rastxsz Sync="TRUE">30.000000</rastxsz>
<rastysz Sync="TRUE">30.000000</rastysz>
<rastbpp Sync="TRUE">32</rastbpp>
<vrtcount Sync="TRUE">1</vrtcount>
<rastorig Sync="TRUE">Upper Left</rastorig>
<rastcmap Sync="TRUE">FALSE</rastcmap>
<rastcomp Sync="TRUE">LZ77</rastcomp>
<rastband Sync="TRUE">1</rastband>
<rastdtyp Sync="TRUE">pixel codes</rastdtyp>
<rastifor Sync="TRUE">FGDBR</rastifor>
<rastplyr Sync="TRUE">TRUE</rastplyr>
</rastinfo>
</spdoinfo>
<spref>
<horizsys>
<cordsysn>
<geogcsn Sync="TRUE">GCS_North_American_1983</geogcsn>
<projcsn Sync="TRUE">NAD_1983_StatePlane_Kentucky_FIPS_1600_Feet</projcsn>
</cordsysn>
<planar>
<planci>
<plance Sync="TRUE">row and column</plance>
<plandu Sync="TRUE">survey feet</plandu>
<coordrep>
<absres Sync="TRUE">30.000000</absres>
<ordres Sync="TRUE">30.000000</ordres>
</coordrep>
</planci>
</planar>
<geodetic>
<horizdn Sync="TRUE">North American Datum of 1983</horizdn>
<ellips Sync="TRUE">Geodetic Reference System 80</ellips>
<semiaxis Sync="TRUE">6378137.000000</semiaxis>
<denflat Sync="TRUE">298.257222</denflat>
</geodetic>
</horizsys>
<vertdef>
<altsys>
<altenc Sync="TRUE">Explicit elevation coordinate included with horizontal coordinates</altenc>
<altres Sync="TRUE">1.000000</altres>
</altsys>
</vertdef>
</spref>
<refSysInfo>
<RefSystem>
<refSysID>
<identCode Sync="TRUE" code="3089">NAD_1983_StatePlane_Kentucky_FIPS_1600_Feet</identCode>
<idCodeSpace Sync="TRUE">EPSG</idCodeSpace>
<idVersion Sync="TRUE">7.11.2</idVersion>
</refSysID>
</RefSystem>
</refSysInfo>
<mdDateSt Sync="TRUE">20150727</mdDateSt>
<mdFileID Sync="TRUE">{C8B47717-59FD-4AFE-93A9-51CD595EFBAB}</mdFileID>
<dataqual>
<lineage>
<procstep>
<procdesc Sync="TRUE">Metadata imported.</procdesc>
<date Sync="TRUE">20080208</date>
<time Sync="TRUE">08243500</time>
</procstep>
<procstep>
<procdesc Sync="TRUE">Metadata imported.</procdesc>
<date Sync="TRUE">20080208</date>
<time Sync="TRUE">08391700</time>
</procstep>
</lineage>
</dataqual>
</metadata>
