{ "currentVersion": 10.61, "serviceDescription": "

Through a collaboration with Kentucky State University (KSU) and the Commonwealth Office of Technology's Division of Geographic Information (DGI), a DSM/DTM raster was extracting using first return values only from the LAS files. When AML created the raster files, DGI mosaiced the raster dataset, and identified several artifacts (slivers of missing data near tile corners). The areas with missing data were re-processed, but on a much larger scale to prevent these artifacts from appearing. Most artfifacts were eliminated, but a few remain. An attempt to fix these areas is continuous. Further info available at https://www.linkedin.com/pulse/how-create-digital-surface-model-dsm-raster-entire-oz-sariyildiz/?published=t <\/SPAN><\/P>
Copyright Text: DGI, KSU https://www.linkedin.com/pulse/how-create-digital-surface-model-dsm-raster-entire-oz-sariyildiz/?published=t<\/SPAN><\/P>
<\/P><\/DIV><\/DIV><\/DIV>", "name": "ElevationServices/Ky_DSM_First_Return_5FT_Phase1", "description": "

Through a collaboration with Kentucky State University (KSU) and the Commonwealth Office of Technology's Division of Geographic Information (DGI), a DSM/DTM raster was extracting using first return values only from the LAS files. When AML created the raster files, DGI mosaiced the raster dataset, and identified several artifacts (slivers of missing data near tile corners). The areas with missing data were re-processed, but on a much larger scale to prevent these artifacts from appearing. Most artfifacts were eliminated, but a few remain. An attempt to fix these areas is continuous. Further info available at https://www.linkedin.com/pulse/how-create-digital-surface-model-dsm-raster-entire-oz-sariyildiz/?published=t <\/SPAN><\/P>
Copyright Text: DGI, KSU https://www.linkedin.com/pulse/how-create-digital-surface-model-dsm-raster-entire-oz-sariyildiz/?published=t<\/SPAN><\/P>
<\/P><\/DIV><\/DIV><\/DIV>", "extent": { "xmin": 3798938.9104272574, "ymin": 3347933.687833801, "xmax": 6019063.910427257, "ymax": 4308258.687833801, "spatialReference": { "wkid": 102763, "latestWkid": 3089 } }, "initialExtent": { "xmin": 3798938.9104272574, "ymin": 3347933.687833801, "xmax": 6019063.910427257, "ymax": 4308258.687833801, "spatialReference": { "wkid": 102763, "latestWkid": 3089 } }, "fullExtent": { "xmin": 3798938.9104272574, "ymin": 3347933.687833801, "xmax": 6019063.910427257, "ymax": 4308258.687833801, "spatialReference": { "wkid": 102763, "latestWkid": 3089 } }, "pixelSizeX": 5, "pixelSizeY": 5, "bandCount": 1, "pixelType": "U32", "minPixelSize": 0, "maxPixelSize": 0, "copyrightText": "DGI, KSU\nhttps://www.linkedin.com/pulse/how-create-digital-surface-model-dsm-raster-entire-oz-sariyildiz/?published=t", "serviceDataType": "esriImageServiceDataTypeGeneric", "minValues": [ 0 ], "maxValues": [ 6252 ], "meanValues": [ 834.9795806879332 ], "stdvValues": [ 365.13972320459294 ], "objectIdField": "", "fields": [], "capabilities": "Image,Metadata,Mensuration", "defaultMosaicMethod": "Center", "allowedMosaicMethods": "", "sortField": "", "sortValue": null, "mosaicOperator": "First", "defaultCompressionQuality": 75, "defaultResamplingMethod": "Bilinear", "maxImageHeight": 150000, "maxImageWidth": 100000, "allowRasterFunction": true, "rasterFunctionInfos": [ { "name": "None", "description": "", "help": "" } ], "rasterTypeInfos": [ { "name": "Raster Dataset", "description": "Supports all ArcGIS Raster Datasets", "help": "" } ], "mensurationCapabilities": "Basic", "hasHistograms": true, "hasColormap": false, "hasRasterAttributeTable": false, "minScale": 0, "maxScale": 0, "exportTilesAllowed": false, "hasMultidimensions": false, "supportsStatistics": false, "supportsAdvancedQueries": false, "editFieldsInfo": null, "ownershipBasedAccessControlForRasters": null, "allowComputeTiePoints": false, "useStandardizedQueries": true, "advancedQueryCapabilities": { "useStandardizedQueries": true, "supportsStatistics": false, "supportsOrderBy": false, "supportsDistinct": false, "supportsPagination": false }, "spatialReference": { "wkid": 102763, "latestWkid": 3089 } }