{
 "currentVersion": 10.91,
 "serviceDescription": "USGS 10-meter DEM for Kentucky. The surface of this DEM is no longer current and should not be used for analysis.\n",
 "name": "ElevationServices/Ky_DEM_USGS_10M",
 "description": "USGS 10-meter DEM for Kentucky. The surface of this DEM is no longer current and should not be used for analysis.\n",
 "extent": {
  "xmin": 3780465,
  "ymin": 3304005,
  "xmax": 6045015,
  "ymax": 4344855,
  "spatialReference": {
   "wkid": 102763,
   "latestWkid": 3089
  }
 },
 "initialExtent": {
  "xmin": 3780465,
  "ymin": 3304005,
  "xmax": 6045015,
  "ymax": 4344855,
  "spatialReference": {
   "wkid": 102763,
   "latestWkid": 3089
  }
 },
 "fullExtent": {
  "xmin": 3780465,
  "ymin": 3304005,
  "xmax": 6045015,
  "ymax": 4344855,
  "spatialReference": {
   "wkid": 102763,
   "latestWkid": 3089
  }
 },
 "pixelSizeX": 30,
 "pixelSizeY": 30,
 "bandCount": 1,
 "pixelType": "F32",
 "minPixelSize": 0,
 "maxPixelSize": 0,
 "copyrightText": "USGS",
 "serviceDataType": "esriImageServiceDataTypeGeneric",
 "minValues": [
  180.8000030517578
 ],
 "maxValues": [
  4132.89990234375
 ],
 "meanValues": [
  820.0649776012406
 ],
 "stdvValues": [
  378.8112864612626
 ],
 "objectIdField": "",
 "fields": [],
 "capabilities": "Mensuration,Image,Metadata",
 "defaultMosaicMethod": "Center",
 "allowedMosaicMethods": "",
 "sortField": "",
 "sortValue": null,
 "sortAscending": true,
 "mosaicOperator": "First",
 "defaultCompressionQuality": 75,
 "defaultResamplingMethod": "Bilinear",
 "maxImageHeight": 4100,
 "maxImageWidth": 15000,
 "allowRasterFunction": true,
 "rasterFunctionInfos": [
  {
   "name": "None",
   "description": "",
   "help": ""
  }
 ],
 "rasterTypeInfos": [
  {
   "name": "Raster Dataset",
   "description": "Supports all ArcGIS Raster Datasets",
   "help": ""
  }
 ],
 "mensurationCapabilities": "Basic",
 "hasHistograms": true,
 "hasColormap": false,
 "hasRasterAttributeTable": false,
 "minScale": 0,
 "maxScale": 0,
 "exportTilesAllowed": false,
 "hasMultidimensions": false,
 "supportsStatistics": false,
 "supportsAdvancedQueries": false,
 "editFieldsInfo": null,
 "ownershipBasedAccessControlForRasters": null,
 "allowComputeTiePoints": false,
 "useStandardizedQueries": true,
 "advancedQueryCapabilities": {
  "useStandardizedQueries": true,
  "supportsStatistics": false,
  "supportsOrderBy": false,
  "supportsDistinct": false,
  "supportsPagination": false
 },
 "spatialReference": {
  "wkid": 102763,
  "latestWkid": 3089
 }
}
