<?xml version="1.0" encoding="UTF-8" standalone="no"?>
<metadata xml:lang="en">
<Esri>
<CreaDate>20220316</CreaDate>
<CreaTime>10233200</CreaTime>
<ArcGISFormat>1.0</ArcGISFormat>
<ArcGISstyle>LOJIC Metadata</ArcGISstyle>
<SyncOnce>FALSE</SyncOnce>
<DataProperties>
<lineage>
<Process Date="20220316" Name="" Time="102332" ToolSource="c:\program files (x86)\arcgis\desktop10.6\ArcToolbox\Toolboxes\Spatial Analyst Tools.tbx\RasterCalculator" export="">RasterCalculator "JEFFERSON" I:\Topography\Staging\2021_LiDAR\DEM_Hillshade.gdb\JEFFERSON2</Process>
<Process Date="20220516" Name="" Time="112243" ToolSource="c:\program files\arcgis\pro\Resources\ArcToolbox\toolboxes\Data Management Tools.tbx\ProjectRaster" export="">ProjectRaster Metro_DEM C:\Users\kent.anness\Documents\ArcGIS\Projects\LOJIC.gdb\Metro_DEM_ProjectRaster2 PROJCS["NAD_1983_StatePlane_Kentucky_FIPS_1600_Feet",GEOGCS["GCS_North_American_1983",DATUM["D_North_American_1983",SPHEROID["GRS_1980",6378137.0,298.257222101]],PRIMEM["Greenwich",0.0],UNIT["Degree",0.0174532925199433]],PROJECTION["Lambert_Conformal_Conic"],PARAMETER["False_Easting",4921250.0],PARAMETER["False_Northing",3280833.333333333],PARAMETER["Central_Meridian",-85.75],PARAMETER["Standard_Parallel_1",37.08333333333334],PARAMETER["Standard_Parallel_2",38.66666666666666],PARAMETER["Latitude_Of_Origin",36.33333333333334],UNIT["Foot_US",0.3048006096012192]] "Bilinear interpolation" "5 5" # # PROJCS["NAD_1983_StatePlane_Kentucky_North_FIPS_1601_Feet",GEOGCS["GCS_North_American_1983",DATUM["D_North_American_1983",SPHEROID["GRS_1980",6378137.0,298.257222101]],PRIMEM["Greenwich",0.0],UNIT["Degree",0.0174532925199433]],PROJECTION["Lambert_Conformal_Conic"],PARAMETER["False_Easting",1640416.666666667],PARAMETER["False_Northing",0.0],PARAMETER["Central_Meridian",-84.25],PARAMETER["Standard_Parallel_1",37.96666666666667],PARAMETER["Standard_Parallel_2",38.96666666666667],PARAMETER["Latitude_Of_Origin",37.5],UNIT["Foot_US",0.3048006096012192]],VERTCS["NAVD88_height_(ftUS)",VDATUM["North_American_Vertical_Datum_1988"],PARAMETER["Vertical_Shift",0.0],PARAMETER["Direction",1.0],UNIT["Foot_US",0.3048006096012192]] NO_VERTICAL</Process>
</lineage>
<itemProps>
<itemName Sync="TRUE">Ky_DEM_LOJIC_2021_5FT</itemName>
<nativeExtBox>
<westBL Sync="TRUE">4859355.000000</westBL>
<eastBL Sync="TRUE">5064365.000000</eastBL>
<southBL Sync="TRUE">3813825.000000</southBL>
<northBL Sync="TRUE">4081150.000000</northBL>
<exTypeCode Sync="TRUE">1</exTypeCode>
</nativeExtBox>
<itemLocation>
<linkage Sync="TRUE">file://\\ENT5PP-APGI005\ImageServerData3\GDB\Ky_LOJIC_DEM_2021_5FT.gdb</linkage>
<protocol Sync="TRUE">Local Area Network</protocol>
</itemLocation>
<imsContentType Sync="TRUE" export="True">002</imsContentType>
</itemProps>
<coordRef>
<type Sync="TRUE">Projected</type>
<geogcsn Sync="TRUE">GCS_North_American_1983</geogcsn>
<csUnits Sync="TRUE">Linear Unit: Foot_US (0.304801)</csUnits>
<projcsn Sync="TRUE">NAD_1983_StatePlane_Kentucky_FIPS_1600_Feet</projcsn>
<peXml Sync="TRUE">&lt;ProjectedCoordinateSystem xsi:type='typens:ProjectedCoordinateSystem' xmlns:xsi='http://www.w3.org/2001/XMLSchema-instance' xmlns:xs='http://www.w3.org/2001/XMLSchema' xmlns:typens='http://www.esri.com/schemas/ArcGIS/10.6'&gt;&lt;WKT&gt;PROJCS[&amp;quot;NAD_1983_StatePlane_Kentucky_FIPS_1600_Feet&amp;quot;,GEOGCS[&amp;quot;GCS_North_American_1983&amp;quot;,DATUM[&amp;quot;D_North_American_1983&amp;quot;,SPHEROID[&amp;quot;GRS_1980&amp;quot;,6378137.0,298.257222101]],PRIMEM[&amp;quot;Greenwich&amp;quot;,0.0],UNIT[&amp;quot;Degree&amp;quot;,0.0174532925199433]],PROJECTION[&amp;quot;Lambert_Conformal_Conic&amp;quot;],PARAMETER[&amp;quot;False_Easting&amp;quot;,4921250.0],PARAMETER[&amp;quot;False_Northing&amp;quot;,3280833.333333333],PARAMETER[&amp;quot;Central_Meridian&amp;quot;,-85.75],PARAMETER[&amp;quot;Standard_Parallel_1&amp;quot;,37.08333333333334],PARAMETER[&amp;quot;Standard_Parallel_2&amp;quot;,38.66666666666666],PARAMETER[&amp;quot;Latitude_Of_Origin&amp;quot;,36.33333333333334],UNIT[&amp;quot;Foot_US&amp;quot;,0.3048006096012192],AUTHORITY[&amp;quot;EPSG&amp;quot;,3089]]&lt;/WKT&gt;&lt;XOrigin&gt;-117434800&lt;/XOrigin&gt;&lt;YOrigin&gt;-91579000&lt;/YOrigin&gt;&lt;XYScale&gt;36807330.96050825&lt;/XYScale&gt;&lt;ZOrigin&gt;-100000&lt;/ZOrigin&gt;&lt;ZScale&gt;10000&lt;/ZScale&gt;&lt;MOrigin&gt;-100000&lt;/MOrigin&gt;&lt;MScale&gt;10000&lt;/MScale&gt;&lt;XYTolerance&gt;0.0032808333333333331&lt;/XYTolerance&gt;&lt;ZTolerance&gt;0.001&lt;/ZTolerance&gt;&lt;MTolerance&gt;0.001&lt;/MTolerance&gt;&lt;HighPrecision&gt;true&lt;/HighPrecision&gt;&lt;WKID&gt;102763&lt;/WKID&gt;&lt;LatestWKID&gt;3089&lt;/LatestWKID&gt;&lt;/ProjectedCoordinateSystem&gt;</peXml>
</coordRef>
</DataProperties>
<SyncDate>20220627</SyncDate>
<SyncTime>12554300</SyncTime>
<ModDate>20220627</ModDate>
<ModTime>12554300</ModTime>
<scaleRange>
<minScale>150000000</minScale>
<maxScale>5000</maxScale>
</scaleRange>
<ArcGISProfile>FGDC</ArcGISProfile>
</Esri>
<mdLang>
<languageCode value="eng"/>
<countryCode Sync="TRUE" value="USA"/>
</mdLang>
<mdChar>
<CharSetCd value="004"/>
</mdChar>
<mdHrLv>
<ScopeCd value="005"/>
</mdHrLv>
<mdContact>
<rpIndName>Ericka Kato</rpIndName>
<rpOrgName>EagleView</rpOrgName>
<rpPosName>Project Manager</rpPosName>
<rpCntInfo>
<cntPhone>
<voiceNum>585-444-2518</voiceNum>
<faxNum>585-486-0098</faxNum>
</cntPhone>
<cntAddress addressType="both">
<delPoint>25 Methodist Hill Dr</delPoint>
<city>Rochester</city>
<adminArea>NY</adminArea>
<postCode>14623</postCode>
<country>US</country>
<eMailAdd>ericka.kato@eagleview.com</eMailAdd>
</cntAddress>
<cntHours>Monday through Friday 9:00 AM to 5:00 PM (Eastern Time)</cntHours>
<cntInstr>If unable to reach the contact by telephone, please send an email. You should get a response within 24 hours.</cntInstr>
</rpCntInfo>
<role>
<RoleCd value="007"/>
</role>
</mdContact>
<mdDateSt Sync="TRUE">20220627</mdDateSt>
<mdStanName>ArcGIS Metadata</mdStanName>
<mdStanVer>1.0</mdStanVer>
<distInfo>
<distributor>
<distorCont>
<rpIndName>Tony Lindauer</rpIndName>
<rpOrgName>Jefferson County, KY</rpOrgName>
<rpPosName>Property Valuation Administrator</rpPosName>
<rpCntInfo>
<cntPhone>
<voiceNum tddtty="">502-574-6380</voiceNum>
</cntPhone>
<cntAddress addressType="both">
<delPoint>815 W. Market Suite 400</delPoint>
<city>Louisville</city>
<adminArea>KY</adminArea>
<postCode>40202</postCode>
<country>US</country>
<eMailAdd>tlindauer@jeffersonpva.ky.gov</eMailAdd>
</cntAddress>
</rpCntInfo>
<role>
<RoleCd value="005"/>
</role>
</distorCont>
<distorTran>
<onLineSrc>
<orDesc>Jefferson County, KY distributes data directly to program partners.</orDesc>
<linkage>https://ky.box.com/v/kymartian-kyaped-dem-lojic2021</linkage>
<orFunct>
<OnFunctCd value="001"/>
</orFunct>
</onLineSrc>
</distorTran>
</distributor>
<distFormat>
<formatName Sync="TRUE">File Geodatabase Raster Dataset</formatName>
</distFormat>
<distTranOps>
<onLineSrc>
<linkage>https://ky.box.com/v/kymartian-kyaped-dem-lojic2021</linkage>
<orFunct>
<OnFunctCd value="001"/>
</orFunct>
</onLineSrc>
</distTranOps>
</distInfo>
<dataIdInfo>
<idCitation>
<resTitle Sync="FALSE">Ky_DEM_LOJIC_2021_5FT</resTitle>
<date>
<pubDate>2022-03-14T12:00:00</pubDate>
</date>
<citRespParty>
<rpOrgName>EagleView</rpOrgName>
<role>
<RoleCd value="006"/>
</role>
</citRespParty>
<presForm>
<fgdcGeoform>Lidar point cloud</fgdcGeoform>
<PresFormCd Sync="TRUE" value="011"/>
</presForm>
</idCitation>
<idAbs>&lt;div style='text-align:Left;'&gt;&lt;div&gt;&lt;div&gt;&lt;p&gt;&lt;span&gt;Highly accurate Light Detection and Ranging (LiDAR) elevation data for Jefferson, Oldham, and Bullitt counties. Data is in NAD_1983_StatePlane_Kentucky_North_FIPS_1600_Feet.. LiDAR for this dataset was classified and quality controlled by EagleView. Digital Elevation Models and Hydrographic breaklines were generated by GroundPoint LLC and subsequently quality controlled by EagleView.&lt;/span&gt;&lt;/p&gt;&lt;/div&gt;&lt;/div&gt;&lt;/div&gt;</idAbs>
<idPurp>Five-foot digital elevation model of Bullitt, Jefferson, and Oldham counties.</idPurp>
<idStatus>
<ProgCd value="001"/>
</idStatus>
<idPoC>
<rpIndName>Ericka Kato</rpIndName>
<rpOrgName>EagleView</rpOrgName>
<rpPosName>Project Manager</rpPosName>
<rpCntInfo>
<cntPhone>
<voiceNum tddtty="">585-444-2518</voiceNum>
<faxNum>585-486-0098</faxNum>
</cntPhone>
<cntAddress addressType="both">
<delPoint>25 Methodist Hill Dr</delPoint>
<city>Rochester</city>
<adminArea>NY</adminArea>
<postCode>14623</postCode>
<country>US</country>
<eMailAdd>ericka.kato@eagleview.com</eMailAdd>
</cntAddress>
<cntHours>Monday through Friday 9:00 AM to 5:00 PM (Eastern Time)</cntHours>
<cntInstr>If unable to reach the contact by telephone, please send an email. You should get a response within 24 hours.</cntInstr>
</rpCntInfo>
<role>
<RoleCd value="007"/>
</role>
</idPoC>
<resMaint>
<maintFreq>
<MaintFreqCd value="011"/>
</maintFreq>
</resMaint>
<placeKeys>
<keyword>Kentucky</keyword>
<keyword>La Grange</keyword>
<keyword>Sheperdsville</keyword>
<keyword>Bullitt</keyword>
<keyword>Oldham</keyword>
<keyword>Louisville</keyword>
<keyword>Jefferson</keyword>
</placeKeys>
<themeKeys>
<keyword>Elevation</keyword>
<keyword>Lidar</keyword>
<keyword>Hydrology</keyword>
<keyword>Digital Elevation Model</keyword>
</themeKeys>
<searchKeys>
<keyword>Elevation</keyword>
<keyword>Kentucky</keyword>
<keyword>La Grange</keyword>
<keyword>Lidar</keyword>
<keyword>Sheperdsville</keyword>
<keyword>Hydrology</keyword>
<keyword>Bullitt</keyword>
<keyword>Oldham</keyword>
<keyword>Louisville</keyword>
<keyword>Jefferson</keyword>
<keyword>Digital Elevation Model</keyword>
<keyword>DEM</keyword>
</searchKeys>
<resConst>
<LegConsts>
<useLimit>In no event shall the creators, custodians, or distributors of these data be liable for any damages arising out of its use, or from the inability of the customer to use these data for their intended application.</useLimit>
<othConsts>No restrictions apply to these data.</othConsts>
</LegConsts>
</resConst>
<resConst>
<Consts>
<useLimit>&lt;div style='text-align:Left;'&gt;&lt;div&gt;&lt;div&gt;&lt;p&gt;&lt;span&gt;None. However, users should be aware that temporal changes may have occurred since this dataset was collected and that some parts of these data may no longer represent actual surface conditions. Users should not use these data for critical applications without a full awareness of the limitations of the data.&lt;/span&gt;&lt;/p&gt;&lt;/div&gt;&lt;/div&gt;&lt;/div&gt;</useLimit>
</Consts>
</resConst>
<spatRpType>
<SpatRepTypCd value="001"/>
</spatRpType>
<dataLang>
<languageCode value="eng"/>
<countryCode Sync="TRUE" value="USA"/>
</dataLang>
<envirDesc Sync="TRUE"> Version 6.2 (Build 9200) ; Esri ArcGIS 10.6.1.9270</envirDesc>
<dataExt>
<geoEle>
<GeoBndBox>
<westBL>-85.9507698233039</westBL>
<eastBL>-85.2531621274711</eastBL>
<southBL>37.7995164872342</southBL>
<northBL>38.5307542392527</northBL>
</GeoBndBox>
</geoEle>
</dataExt>
<dataExt>
<exDesc>ground condition</exDesc>
<tempEle>
<TempExtent>
<exTemp>
<TM_Period>
<tmBegin>2020-12-11</tmBegin>
<tmEnd>2020-12-29</tmEnd>
</TM_Period>
</exTemp>
</TempExtent>
</tempEle>
</dataExt>
<suppInfo>CONTRACTOR: EagleView</suppInfo>
<dataExt>
<geoEle>
<GeoBndBox esriExtentType="search">
<exTypeCode Sync="TRUE">1</exTypeCode>
<westBL Sync="TRUE">-85.966367</westBL>
<eastBL Sync="TRUE">-85.249715</eastBL>
<northBL Sync="TRUE">38.531255</northBL>
<southBL Sync="TRUE">37.796092</southBL>
</GeoBndBox>
</geoEle>
</dataExt>
<idCredit>LOJIC, DGI</idCredit>
<dataChar>
<CharSetCd value="004"/>
</dataChar>
<tpCat>
<TopicCatCd value="006"/>
</tpCat>
<tpCat>
<TopicCatCd value="010"/>
</tpCat>
</dataIdInfo>
<mdMaint>
<maintFreq>
<MaintFreqCd value="011"/>
</maintFreq>
<maintNote>Last metadata review date: 20220314</maintNote>
</mdMaint>
<mdConst>
<SecConsts>
<class>
<ClasscationCd value="001"/>
</class>
<classSys>None</classSys>
<handDesc>None</handDesc>
</SecConsts>
</mdConst>
<dqInfo>
<dqScope>
<scpLvl>
<ScopeCd value="005"/>
</scpLvl>
</dqScope>
<report type="DQConcConsis">
<measDesc>Data cover the entire area specified for this project.</measDesc>
</report>
<report type="DQCompOm">
<measDesc>These raw LAS data files include all data points collected. No points have been removed or excluded. A visual qualitative assessment was performed to ensure data completeness. No void areas or missing data exist. The raw point cloud is of good quality and data passes Fundamental Vertical Accuracy specifications.</measDesc>
</report>
<report dimension="vertical" type="DQAbsExtPosAcc">
<measDesc>The specifications require that only Nonvegetated Vertical Accuracy (NVA) can be computed for raw lidar point cloud swath files. The vertical accuracy was tested with 37 independent surveys located in open terrain. The survey check points were distributed throughout the project. Specifications for this project require that the NVA be 18.2 cm or better AccuracyZ at 95 percent confidence level.</measDesc>
<evalMethDesc>The RMSEz was computed to be 0.092 meters. AccuracyZ has been compiled to meet 9.25 cm Fundamental Vertical Accuracy at 95 Percent confidence level using RMSE(z) x 1.9600 as defined by the National Standards for Spatial Data Accuracy (NSSDA); assessed and reported using National Digital Elevation Program (NDEP)/ASRPS Guidelines.</evalMethDesc>
<measResult>
<QuanResult>
<quanVal>0.014 meters AccuracyZ at 95 percent Confidence Interval</quanVal>
</QuanResult>
</measResult>
</report>
<dataLineage>
<dataSource>
<srcDesc>This data source was used (along with the airborne GPS/IMU Data) to georeferencing of the lidar point cloud data.</srcDesc>
<srcCitatn>
<resTitle>Official Surveyors Report: Jefferson County, KY</resTitle>
<resAltTitle>EV_lidar_gnd_ctrl</resAltTitle>
<date>
<pubDate>2018-05-18</pubDate>
</date>
<citRespParty>
<rpOrgName>20180419</rpOrgName>
<rpCntInfo>
<cntAddress>
<delPoint>Oklahoma City, OK</delPoint>
</cntAddress>
</rpCntInfo>
<role>
<RoleCd value="010"/>
</role>
</citRespParty>
<citRespParty>
<rpOrgName>Red Plains Surveying Company,LLC</rpOrgName>
<role>
<RoleCd value="006"/>
</role>
</citRespParty>
<presForm>
<fgdcGeoform>Vector digital data and tabular digital data</fgdcGeoform>
</presForm>
</srcCitatn>
<srcExt>
<exDesc>Ground condition</exDesc>
<tempEle>
<TempExtent>
<exTemp>
<TM_Instant>
<tmPosition>2018-04-19</tmPosition>
</TM_Instant>
</exTemp>
</TempExtent>
</tempEle>
</srcExt>
</dataSource>
<prcStep>
<stepDesc>Airborne GPS and IMU data were merged to develop a Smoothed Best Estimate (SBET) of the lidar system trajectory for each lift. Lidar ranging data were initially calibrated using previous best parameters for this instrument and aircraft. Using Optech\s LiDAR Mapping Suite 4.1 software, relative calibration was evaluated using advanced plane-matching analysis and parameter corrections were derived. This relative calibration was repeated iteratively until residual errors between overlapping swaths, across all project lifts, was reduced to 3 cm or less. Data were then block adjusted to match surveyed calibration control.</stepDesc>
<stepDateTm>2021-01-18</stepDateTm>
<stepProc>
<rpIndName>Ericka Kato</rpIndName>
<rpOrgName>EagleView</rpOrgName>
<rpPosName>Project Manager</rpPosName>
<rpCntInfo>
<cntPhone>
<voiceNum>585-444-2518</voiceNum>
<faxNum>585-486-0098</faxNum>
</cntPhone>
<cntAddress addressType="both">
<delPoint>25 Methodist Hill Dr</delPoint>
<city>Rochester</city>
<adminArea>NY</adminArea>
<postCode>14623</postCode>
<country>US</country>
<eMailAdd>ericka.kato@eagleview.com</eMailAdd>
</cntAddress>
<cntHours>Monday through Friday 9:00 AM to 5:00 PM (Eastern Time)</cntHours>
<cntInstr>If unable to reach the contact by telephone, please send an email. You should get a response within 24 hours.</cntInstr>
</rpCntInfo>
<role>
<RoleCd value="009"/>
</role>
</stepProc>
</prcStep>
<prcStep>
<stepDesc>Lidar Post-Processing: After generation of the calibrated point cloud data in LAS format from Leica's ALS Post-Processor software, the data is imported into the TerraSolid software suite (running under Bentley\’s MicroStation) for matching and classification. Upon import, the data is divided into tiles for the purpose of creating more manageable data. Once imported to TerraSolid, blocks of data containing overlapping flight lines are selected. The data in these blocks is analyzed by TerraMatch and adjustments to the roll, pitch, heading, and scale that minimize any data misalignment between the flight lines are computed. These adjustments are then applied to the entire mission’s worth of data. Data across the mission is then manually reviewed to ensure proper alignment between flightlines has been achieved. This process is then repeated for each mission; once complete, intra-sortie alignment is verified.</stepDesc>
<stepDateTm>2021-01-27</stepDateTm>
<stepProc>
<rpIndName>Ericka Kato</rpIndName>
<rpOrgName>EagleView</rpOrgName>
<rpPosName>Project Manager</rpPosName>
<rpCntInfo>
<cntPhone>
<voiceNum>585-444-2518</voiceNum>
<faxNum>585-486-0098</faxNum>
</cntPhone>
<cntAddress addressType="both">
<delPoint>25 Methodist Hill Dr</delPoint>
<city>Rochester</city>
<adminArea>NY</adminArea>
<postCode>14623</postCode>
<country>US</country>
<eMailAdd>ericka.kato@eagleview.com</eMailAdd>
</cntAddress>
<cntHours>Monday through Friday 9:00 AM to 5:00 PM (Eastern Time)</cntHours>
<cntInstr>If unable to reach the contact by telephone, please send an email. You should get a response within 24 hours.</cntInstr>
</rpCntInfo>
<role>
<RoleCd value="009"/>
</role>
</stepProc>
<stepSrc type="used">
<srcCitatn>
<resAltTitle>EV_lidar_PP</resAltTitle>
</srcCitatn>
</stepSrc>
</prcStep>
</dataLineage>
</dqInfo>
<spatRepInfo>
<VectSpatRep>
<geometObjs>
<geoObjTyp>
<GeoObjTypCd value="004"/>
</geoObjTyp>
<geoObjCnt>17412344667</geoObjCnt>
</geometObjs>
</VectSpatRep>
</spatRepInfo>
<mdHrLvName Sync="TRUE">dataset</mdHrLvName>
<refSysInfo>
<RefSystem>
<refSysID>
<identCode Sync="TRUE" code="3089"/>
<idCodeSpace Sync="TRUE">EPSG</idCodeSpace>
<idVersion Sync="TRUE">6.6(9.2.0)</idVersion>
</refSysID>
</RefSystem>
</refSysInfo>
<spdoinfo>
<rastinfo>
<rasttype Sync="TRUE">Pixel</rasttype>
<rowcount Sync="TRUE">53465</rowcount>
<colcount Sync="TRUE">41002</colcount>
<rastxsz Sync="TRUE">5.000000</rastxsz>
<rastysz Sync="TRUE">5.000000</rastysz>
<rastbpp Sync="TRUE">32</rastbpp>
<vrtcount Sync="TRUE">1</vrtcount>
<rastorig Sync="TRUE">Upper Left</rastorig>
<rastcmap Sync="TRUE">FALSE</rastcmap>
<rastcomp Sync="TRUE">LZ77</rastcomp>
<rastband Sync="TRUE">1</rastband>
<rastdtyp Sync="TRUE">pixel codes</rastdtyp>
<rastifor Sync="TRUE">FGDBR</rastifor>
<rastplyr Sync="TRUE">TRUE</rastplyr>
</rastinfo>
</spdoinfo>
<spref>
<horizsys>
<planar>
<planci>
<plance Sync="TRUE">row and column</plance>
<coordrep>
<absres Sync="TRUE">5.000000</absres>
<ordres Sync="TRUE">5.000000</ordres>
</coordrep>
</planci>
</planar>
</horizsys>
</spref>
</metadata>
