{
 "currentVersion": 10.61,
 "serviceDescription": "This Dynamic Image Service provides access to a 5 Foot Digital Elevation Model (DEM) for selected areas within Kentucky. Data will be added to this service as it becomes available through the KYAPED Program.",
 "name": "ElevationServices/Ky_DEM_KYAPED_5FT",
 "description": "This Dynamic Image Service provides access to a 5 Foot Digital Elevation Model (DEM) for selected areas within Kentucky. Data will be added to this service as it becomes available through the KYAPED Program.",
 "extent": {
  "xmin": 3798940,
  "ymin": 3347805,
  "xmax": 6019070,
  "ymax": 4308265,
  "spatialReference": {
   "wkid": 102763,
   "latestWkid": 3089
  }
 },
 "initialExtent": {
  "xmin": 3798940,
  "ymin": 3347805,
  "xmax": 6019070,
  "ymax": 4308265,
  "spatialReference": {
   "wkid": 102763,
   "latestWkid": 3089
  }
 },
 "fullExtent": {
  "xmin": 3798940,
  "ymin": 3347805,
  "xmax": 6019070,
  "ymax": 4308265,
  "spatialReference": {
   "wkid": 102763,
   "latestWkid": 3089
  }
 },
 "pixelSizeX": 5,
 "pixelSizeY": 5,
 "bandCount": 1,
 "pixelType": "F32",
 "minPixelSize": 0,
 "maxPixelSize": 0,
 "copyrightText": "",
 "serviceDataType": "esriImageServiceDataTypeGeneric",
 "minValues": [
  -90.31005859375
 ],
 "maxValues": [
  4139.60986328125
 ],
 "meanValues": [
  818.7928395518217
 ],
 "stdvValues": [
  358.48454257574934
 ],
 "objectIdField": "",
 "fields": [],
 "capabilities": "Mensuration,Image,Metadata",
 "defaultMosaicMethod": "Center",
 "allowedMosaicMethods": "",
 "sortField": "",
 "sortValue": null,
 "mosaicOperator": "First",
 "defaultCompressionQuality": 75,
 "defaultResamplingMethod": "Bilinear",
 "maxImageHeight": 100000,
 "maxImageWidth": 150000,
 "allowRasterFunction": true,
 "rasterFunctionInfos": [
  {
   "name": "None",
   "description": "",
   "help": ""
  }
 ],
 "rasterTypeInfos": [
  {
   "name": "Raster Dataset",
   "description": "Supports all ArcGIS Raster Datasets",
   "help": ""
  }
 ],
 "mensurationCapabilities": "Basic",
 "hasHistograms": true,
 "hasColormap": false,
 "hasRasterAttributeTable": false,
 "minScale": 0,
 "maxScale": 0,
 "exportTilesAllowed": false,
 "hasMultidimensions": false,
 "supportsStatistics": false,
 "supportsAdvancedQueries": false,
 "editFieldsInfo": null,
 "ownershipBasedAccessControlForRasters": null,
 "allowComputeTiePoints": false,
 "useStandardizedQueries": true,
 "advancedQueryCapabilities": {
  "useStandardizedQueries": true,
  "supportsStatistics": false,
  "supportsOrderBy": false,
  "supportsDistinct": false,
  "supportsPagination": false
 },
 "spatialReference": {
  "wkid": 102763,
  "latestWkid": 3089
 }
}
