<?xml version="1.0" encoding="UTF-8" standalone="no"?>
<metadata xml:lang="en">
<Esri>
<CreaDate>20260921</CreaDate>
<CreaTime>18453700</CreaTime>
<ArcGISFormat>1.0</ArcGISFormat>
<SyncOnce>FALSE</SyncOnce>
<DataProperties>
<itemProps>
<itemName Sync="TRUE">Ky_DEM_KYAPED_2FT_Phase3_ShadedRelief_WGS84WM</itemName>
<nativeExtBox>
<westBL Sync="TRUE">-9940267.208534</westBL>
<eastBL Sync="TRUE">-9114789.738379</eastBL>
<southBL Sync="TRUE">4425443.942088</southBL>
<northBL Sync="TRUE">4740613.258827</northBL>
<exTypeCode Sync="TRUE">1</exTypeCode>
</nativeExtBox>
</itemProps>
<coordRef>
<type Sync="TRUE">Projected</type>
<geogcsn Sync="TRUE">GCS_WGS_1984</geogcsn>
<csUnits Sync="TRUE">Linear Unit: Meter (1.000000)</csUnits>
<projcsn Sync="TRUE">WGS_1984_Web_Mercator_Auxiliary_Sphere</projcsn>
<peXml Sync="TRUE">&lt;ProjectedCoordinateSystem xsi:type='typens:ProjectedCoordinateSystem' xmlns:xsi='http://www.w3.org/2001/XMLSchema-instance' xmlns:xs='http://www.w3.org/2001/XMLSchema' xmlns:typens='http://www.esri.com/schemas/ArcGIS/3.6.0'&gt;&lt;WKT&gt;PROJCS[&amp;quot;WGS_1984_Web_Mercator_Auxiliary_Sphere&amp;quot;,GEOGCS[&amp;quot;GCS_WGS_1984&amp;quot;,DATUM[&amp;quot;D_WGS_1984&amp;quot;,SPHEROID[&amp;quot;WGS_1984&amp;quot;,6378137.0,298.257223563]],PRIMEM[&amp;quot;Greenwich&amp;quot;,0.0],UNIT[&amp;quot;Degree&amp;quot;,0.0174532925199433]],PROJECTION[&amp;quot;Mercator_Auxiliary_Sphere&amp;quot;],PARAMETER[&amp;quot;False_Easting&amp;quot;,0.0],PARAMETER[&amp;quot;False_Northing&amp;quot;,0.0],PARAMETER[&amp;quot;Central_Meridian&amp;quot;,0.0],PARAMETER[&amp;quot;Standard_Parallel_1&amp;quot;,0.0],PARAMETER[&amp;quot;Auxiliary_Sphere_Type&amp;quot;,0.0],UNIT[&amp;quot;Meter&amp;quot;,1.0],AUTHORITY[&amp;quot;EPSG&amp;quot;,3857]],VERTCS[&amp;quot;EGM96_height&amp;quot;,VDATUM[&amp;quot;EGM96_Geoid&amp;quot;],PARAMETER[&amp;quot;Vertical_Shift&amp;quot;,0.0],PARAMETER[&amp;quot;Direction&amp;quot;,1.0],UNIT[&amp;quot;Meter&amp;quot;,1.0],AUTHORITY[&amp;quot;EPSG&amp;quot;,5773]]&lt;/WKT&gt;&lt;XOrigin&gt;-20037700&lt;/XOrigin&gt;&lt;YOrigin&gt;-30241100&lt;/YOrigin&gt;&lt;XYScale&gt;148923141.92838538&lt;/XYScale&gt;&lt;ZOrigin&gt;-100000&lt;/ZOrigin&gt;&lt;ZScale&gt;10000&lt;/ZScale&gt;&lt;MOrigin&gt;-100000&lt;/MOrigin&gt;&lt;MScale&gt;10000&lt;/MScale&gt;&lt;XYTolerance&gt;0.001&lt;/XYTolerance&gt;&lt;ZTolerance&gt;0.001&lt;/ZTolerance&gt;&lt;MTolerance&gt;0.001&lt;/MTolerance&gt;&lt;HighPrecision&gt;true&lt;/HighPrecision&gt;&lt;WKID&gt;102100&lt;/WKID&gt;&lt;LatestWKID&gt;3857&lt;/LatestWKID&gt;&lt;VCSWKID&gt;5773&lt;/VCSWKID&gt;&lt;LatestVCSWKID&gt;5773&lt;/LatestVCSWKID&gt;&lt;/ProjectedCoordinateSystem&gt;</peXml>
</coordRef>
<RasterProperties>
<General>
<PixelDepth Sync="TRUE">8</PixelDepth>
<HasColormap Sync="TRUE">FALSE</HasColormap>
<CompressionType Sync="TRUE">None</CompressionType>
<NumBands Sync="TRUE">3</NumBands>
<Format Sync="TRUE">AMD</Format>
<HasPyramids Sync="TRUE">TRUE</HasPyramids>
<SourceType Sync="TRUE">continuous</SourceType>
<PixelType Sync="TRUE">unsigned integer</PixelType>
<NoDataValue Sync="TRUE">
</NoDataValue>
</General>
<Properties>
<MaxImageHeight Sync="TRUE">4100</MaxImageHeight>
<MaxImageWidth Sync="TRUE">15000</MaxImageWidth>
<MaxRecordCount Sync="TRUE">1000</MaxRecordCount>
<MaxDownloadImageCount Sync="TRUE">20</MaxDownloadImageCount>
<MaxDownloadSizeLimit Sync="TRUE">2048</MaxDownloadSizeLimit>
<MaxMosaicImageCount Sync="TRUE">28</MaxMosaicImageCount>
<DefaultCompressionQuality Sync="TRUE">75</DefaultCompressionQuality>
<DefaultCompressionTolerance Sync="TRUE">0.01</DefaultCompressionTolerance>
<BlendWidth Sync="TRUE">10</BlendWidth>
<ViewpointSpacingX Sync="TRUE">600</ViewpointSpacingX>
<ViewpointSpacingY Sync="TRUE">300</ViewpointSpacingY>
<AllowedItemMetadata Sync="TRUE">Basic</AllowedItemMetadata>
<DefaultResamplingMethod Sync="TRUE">1</DefaultResamplingMethod>
<AllowedMosaicMethods Sync="TRUE">NorthWest,Center,LockRaster,ByAttribute,Nadir,Viewpoint,Seamline,None</AllowedMosaicMethods>
<AllowedCompressions Sync="TRUE">None,JPEG,LZ77,LERC</AllowedCompressions>
<AllowedMensurationCapabilities Sync="TRUE">None</AllowedMensurationCapabilities>
<AvailableMensurationCapabilities Sync="TRUE">None,Basic,Base-Top Height,Top-Top Shadow Height,Base-Top Shadow Height,3D</AvailableMensurationCapabilities>
<ClipToBoundary Sync="TRUE">-1</ClipToBoundary>
<FootprintMayContainNoData Sync="TRUE">-1</FootprintMayContainNoData>
<CellSizeTolerance Sync="TRUE">0.8</CellSizeTolerance>
<MinimumPixelContribution Sync="TRUE">1</MinimumPixelContribution>
<AvailableMosaicMethods Sync="TRUE">NorthWest,Center,LockRaster,ByAttribute,Nadir,Viewpoint,Seamline,None</AvailableMosaicMethods>
<AvailableCompressionMethods Sync="TRUE">None,JPEG,LZ77,LERC</AvailableCompressionMethods>
<AvailableItemMetadataLevels Sync="TRUE">None,Basic,Full</AvailableItemMetadataLevels>
<BandDefinitionKeyword Sync="TRUE">NONE</BandDefinitionKeyword>
<_docversion_ Sync="TRUE">10</_docversion_>
<AllowedFields Sync="TRUE">Name,MinPS,MaxPS,LowPS,HighPS,Tag,GroupName,ProductName,CenterX,CenterY,ZOrder,Shape_Length,Shape_Area</AllowedFields>
<TimeIntervalUnits Sync="TRUE">
</TimeIntervalUnits>
<AvailableFields Sync="TRUE">Name,MinPS,MaxPS,LowPS,HighPS,Tag,GroupName,ProductName,CenterX,CenterY,ZOrder,Shape_Length,Shape_Area</AvailableFields>
<SortableFields Sync="TRUE">MinPS,MaxPS,LowPS,HighPS,CenterX,CenterY,ZOrder,Shape_Length,Shape_Area</SortableFields>
<SortAscending Sync="TRUE">-1</SortAscending>
<MosaicOperator Sync="TRUE">1</MosaicOperator>
<BlendWidthUnits Sync="TRUE">1</BlendWidthUnits>
<ClipToFootprint Sync="TRUE">0</ClipToFootprint>
<ClipOverviewsToFootprint Sync="TRUE">0</ClipOverviewsToFootprint>
<HasDodgingTable Sync="TRUE">0</HasDodgingTable>
<ApplyColorCorrection Sync="TRUE">0</ApplyColorCorrection>
<UseTime Sync="TRUE">0</UseTime>
<StartTimeFieldName Sync="TRUE">
</StartTimeFieldName>
<EndTimeFieldName Sync="TRUE">
</EndTimeFieldName>
<TimeValueFormat Sync="TRUE">
</TimeValueFormat>
<UseRange Sync="TRUE">0</UseRange>
<TimeInterval Sync="TRUE">
</TimeInterval>
<ConfigKeyword Sync="TRUE">
</ConfigKeyword>
<KIND Sync="TRUE">IMAGE</KIND>
<BAND_COUNT Sync="TRUE">3</BAND_COUNT>
<HAS_TABLE Sync="TRUE">0</HAS_TABLE>
<HAS_XFORM Sync="TRUE">0</HAS_XFORM>
<BandProperties Sync="TRUE">
</BandProperties>
<DataType Sync="TRUE">Processed</DataType>
<Band_1 Sync="TRUE">Blue</Band_1>
<Band_2 Sync="TRUE">Green</Band_2>
<Band_3 Sync="TRUE">Red</Band_3>
<MaxCellSize Sync="TRUE">70226.0604521209</MaxCellSize>
<LowCellSize Sync="TRUE">0.609601219202438</LowCellSize>
<HighCellSize Sync="TRUE">156.057912115824</HighCellSize>
</Properties>
<Functions Sync="TRUE">
<Function Description="Modifies the projection of a raster dataset, mosaic dataset, or raster item in a mosaic dataset. It can also resample the data to a new cell size and define an origin." Name="Reproject">
<Arguments>
<Raster>ShadedRelief.OutputRaster</Raster>
<XCellsize>0</XCellsize>
<YCellsize>0</YCellsize>
<XOrigin>0</XOrigin>
<YOrigin>0</YOrigin>
</Arguments>
</Function>
<Function Description="Creates a multiband, color coded, 3D representation of the surface, with the sun's relative position taken into account for shading the image." Name="Shaded Relief">
<Arguments>
<Raster>MosaicFunction.OutputRaster</Raster>
<ColorSchemeType>1</ColorSchemeType>
<RemoveEdgeEffect>0</RemoveEdgeEffect>
<HillshadeType>0</HillshadeType>
<Azimuth>315</Azimuth>
<Altitude>45</Altitude>
<SlopeType>1</SlopeType>
<ZFactor>1</ZFactor>
<PSPower>0.664</PSPower>
<PSZFactor>0.024</PSZFactor>
</Arguments>
</Function>
<Function Description="Performs on-the-fly mosaic on a raster catalog." Name="Mosaic Function">
</Function>
</Functions>
</RasterProperties>
</DataProperties>
<SyncDate>20260921</SyncDate>
<SyncTime>18541200</SyncTime>
<ModDate>20260921</ModDate>
<ModTime>18541200</ModTime>
</Esri>
<mdFileID>e1a3f6c111bf433f99000e58e6432b6c</mdFileID>
<mdChar>
<CharSetCd Sync="FALSE" value="004">
</CharSetCd>
</mdChar>
<mdHrLv>
<ScopeCd value="005">
</ScopeCd>
</mdHrLv>
<distInfo>
<distTranOps>
<onLineSrc>
<linkage>https://kyraster.ky.gov/arcgis/rest/services/ElevationServices/Ky_DEM_KYAPED_2FT_Phase2_ShadedRelief/ImageServer</linkage>
</onLineSrc>
</distTranOps>
<distFormat>
<formatName>Image Service</formatName>
</distFormat>
</distInfo>
<dataIdInfo>
<idAbs>This Dynamic Image Service provides access to a 2-Foot Digital Elevation Model (DEM) with a Shaded Relief function applied for Kentucky. The service is in Kentucky Single Coordinate System (3089) and is best used in desktop GIS software.</idAbs>
<idCitation>
<resTitle>Ky_DEM_KYAPED_2FT_Phase3_ShadedRelief_WGS84WM</resTitle>
<date>
<createDate>2025-06-25T20:00:23</createDate>
<reviseDate>2025-06-25T20:03:59</reviseDate>
</date>
<citRespParty>
<role>
<RoleCd value="006">
</RoleCd>
</role>
</citRespParty>
<presForm>
<PresFormCd Sync="TRUE" value="005">
</PresFormCd>
</presForm>
</idCitation>
<dataExt>
<geoEle>
<GeoBndBox>
<westBL Sync="FALSE">-89.71869999999849</westBL>
<eastBL Sync="FALSE">-81.87809999999861</eastBL>
<northBL Sync="FALSE">39.15959999999932</northBL>
<southBL Sync="FALSE">36.44609999999938</southBL>
<exTypeCode Sync="TRUE">1</exTypeCode>
</GeoBndBox>
</geoEle>
</dataExt>
<searchKeys>
<keyword>elevation</keyword>
<keyword>digital elevation model</keyword>
<keyword>phase2</keyword>
<keyword>Phase 2</keyword>
<keyword>Phase II</keyword>
<keyword>LiDAR</keyword>
<keyword>surface</keyword>
<keyword>DEM</keyword>
<keyword>kyfromabove</keyword>
<keyword>topographic</keyword>
<keyword>topography</keyword>
</searchKeys>
<idPurp>Kentucky's statewide Phase2 DEM rendered using a shaded relief function accessible as a dynamic image service. The service is in Web Mercator (3857).</idPurp>
<idCredit>KyFromAbove Partners</idCredit>
<resConst>
<Consts>
<useLimit>LIMITATION OF LIABILITY: The Kentucky Division of Geographic Information (DGI) has no indication or reason to believe that there are any inaccuracies or defects of information incorporated in this work and make no representations of any kind, including, but not limited to, the warranties of merchantability or fitness for a particular use, nor are any such warranties to be implied, with respect to the information or data, furnished herein.</useLimit>
</Consts>
</resConst>
<dataChar>
<CharSetCd Sync="FALSE" value="004">
</CharSetCd>
</dataChar>
<envirDesc Sync="FALSE">Esri ArcGIS 13.6.5.59530</envirDesc>
<dataLang>
<languageCode Sync="TRUE" value="eng">
</languageCode>
<countryCode Sync="TRUE" value="USA">
</countryCode>
</dataLang>
<spatRpType>
<SpatRepTypCd Sync="TRUE" value="002">
</SpatRepTypCd>
</spatRpType>
<dataExt>
<geoEle>
<GeoBndBox esriExtentType="search">
<exTypeCode Sync="TRUE">1</exTypeCode>
<westBL Sync="TRUE">-89.294940</westBL>
<eastBL Sync="TRUE">-81.879549</eastBL>
<northBL Sync="TRUE">39.132112</northBL>
<southBL Sync="TRUE">36.901916</southBL>
</GeoBndBox>
</geoEle>
</dataExt>
</dataIdInfo>
<refSysInfo>
<RefSystem>
<refSysID>
<identCode code="102763">
</identCode>
<idCodeSpace>EPSG</idCodeSpace>
<idVersion Sync="TRUE">6.18.3(9.3.1.2)</idVersion>
</refSysID>
</RefSystem>
</refSysInfo>
<mdLang>
<languageCode Sync="TRUE" value="eng">
</languageCode>
<countryCode Sync="TRUE" value="USA">
</countryCode>
</mdLang>
<spatRepInfo>
<Georect>
<cellGeo>
<CellGeoCd Sync="TRUE" value="002">
</CellGeoCd>
</cellGeo>
<numDims Sync="TRUE">2</numDims>
<tranParaAv Sync="TRUE">1</tranParaAv>
<chkPtAv Sync="TRUE">0</chkPtAv>
<cornerPts>
<pos Sync="TRUE">-9940267.208534 4425443.942088</pos>
</cornerPts>
<cornerPts>
<pos Sync="TRUE">-9940267.208534 4740613.258827</pos>
</cornerPts>
<cornerPts>
<pos Sync="TRUE">-9114789.738379 4740613.258827</pos>
</cornerPts>
<cornerPts>
<pos Sync="TRUE">-9114789.738379 4425443.942088</pos>
</cornerPts>
<centerPt>
<pos Sync="TRUE">-9527528.473457 4583028.600457</pos>
</centerPt>
<axisDimension type="002">
<dimSize Sync="TRUE">1354127</dimSize>
<dimResol>
<value Sync="TRUE" uom="m">0.609601</value>
</dimResol>
</axisDimension>
<axisDimension type="001">
<dimSize Sync="TRUE">517009</dimSize>
<dimResol>
<value Sync="TRUE" uom="m">0.609601</value>
</dimResol>
</axisDimension>
<ptInPixel>
<PixOrientCd Sync="TRUE" value="001">
</PixOrientCd>
</ptInPixel>
</Georect>
</spatRepInfo>
<contInfo>
<ImgDesc>
<contentTyp>
<ContentTypCd Sync="TRUE" value="001">
</ContentTypCd>
</contentTyp>
<covDim>
<Band>
<dimDescrp Sync="TRUE">Band_1</dimDescrp>
<maxVal Sync="TRUE">3139.659424</maxVal>
<minVal Sync="TRUE">121.520119</minVal>
<bitsPerVal Sync="TRUE">8</bitsPerVal>
<valUnit>
<UOM type="length">
</UOM>
</valUnit>
</Band>
<Band>
<dimDescrp Sync="TRUE">Band_2</dimDescrp>
<bitsPerVal Sync="TRUE">8</bitsPerVal>
<valUnit>
<UOM type="length">
</UOM>
</valUnit>
</Band>
<Band>
<dimDescrp Sync="TRUE">Band_3</dimDescrp>
<bitsPerVal Sync="TRUE">8</bitsPerVal>
<valUnit>
<UOM type="length">
</UOM>
</valUnit>
</Band>
</covDim>
</ImgDesc>
</contInfo>
<mdDateSt Sync="TRUE">20260921</mdDateSt>
</metadata>
