<?xml version="1.0" encoding="UTF-8" standalone="no"?>
<metadata xml:lang="en">
<Esri>
<CreaDate>20260921</CreaDate>
<CreaTime>19353900</CreaTime>
<ArcGISFormat>1.0</ArcGISFormat>
<SyncOnce>FALSE</SyncOnce>
<DataProperties>
<itemProps>
<itemName Sync="TRUE">Ky_DEM_KYAPED_2FT_Phase3_MultiDirectionalHillshade</itemName>
<nativeExtBox>
<westBL Sync="TRUE">3915000.000046</westBL>
<eastBL Sync="TRUE">6020000.000046</eastBL>
<southBL Sync="TRUE">3510000.000147</southBL>
<northBL Sync="TRUE">4300000.000147</northBL>
<exTypeCode Sync="TRUE">1</exTypeCode>
</nativeExtBox>
</itemProps>
<coordRef>
<type Sync="TRUE">Projected</type>
<geogcsn Sync="TRUE">GCS_North_American_1983</geogcsn>
<csUnits Sync="TRUE">Linear Unit: Foot_US (0.304801)</csUnits>
<projcsn Sync="TRUE">NAD_1983_StatePlane_Kentucky_FIPS_1600_Feet</projcsn>
<peXml Sync="TRUE">&lt;ProjectedCoordinateSystem xsi:type='typens:ProjectedCoordinateSystem' xmlns:xsi='http://www.w3.org/2001/XMLSchema-instance' xmlns:xs='http://www.w3.org/2001/XMLSchema' xmlns:typens='http://www.esri.com/schemas/ArcGIS/3.6.0'&gt;&lt;WKT&gt;PROJCS[&amp;quot;NAD_1983_StatePlane_Kentucky_FIPS_1600_Feet&amp;quot;,GEOGCS[&amp;quot;GCS_North_American_1983&amp;quot;,DATUM[&amp;quot;D_North_American_1983&amp;quot;,SPHEROID[&amp;quot;GRS_1980&amp;quot;,6378137.0,298.257222101]],PRIMEM[&amp;quot;Greenwich&amp;quot;,0.0],UNIT[&amp;quot;Degree&amp;quot;,0.0174532925199433]],PROJECTION[&amp;quot;Lambert_Conformal_Conic&amp;quot;],PARAMETER[&amp;quot;False_Easting&amp;quot;,4921250.0],PARAMETER[&amp;quot;False_Northing&amp;quot;,3280833.333333333],PARAMETER[&amp;quot;Central_Meridian&amp;quot;,-85.75],PARAMETER[&amp;quot;Standard_Parallel_1&amp;quot;,37.08333333333334],PARAMETER[&amp;quot;Standard_Parallel_2&amp;quot;,38.66666666666666],PARAMETER[&amp;quot;Latitude_Of_Origin&amp;quot;,36.33333333333334],UNIT[&amp;quot;Foot_US&amp;quot;,0.3048006096012192],AUTHORITY[&amp;quot;EPSG&amp;quot;,3089]],VERTCS[&amp;quot;NAVD88_height_(ftUS)&amp;quot;,VDATUM[&amp;quot;North_American_Vertical_Datum_1988&amp;quot;],PARAMETER[&amp;quot;Vertical_Shift&amp;quot;,0.0],PARAMETER[&amp;quot;Direction&amp;quot;,1.0],UNIT[&amp;quot;Foot_US&amp;quot;,0.3048006096012192],AUTHORITY[&amp;quot;EPSG&amp;quot;,6360]]&lt;/WKT&gt;&lt;XOrigin&gt;-117434800&lt;/XOrigin&gt;&lt;YOrigin&gt;-91579000&lt;/YOrigin&gt;&lt;XYScale&gt;36807330.96050825&lt;/XYScale&gt;&lt;ZOrigin&gt;-100000&lt;/ZOrigin&gt;&lt;ZScale&gt;3048.0060960121918&lt;/ZScale&gt;&lt;MOrigin&gt;-100000&lt;/MOrigin&gt;&lt;MScale&gt;10000&lt;/MScale&gt;&lt;XYTolerance&gt;0.0032808333333333331&lt;/XYTolerance&gt;&lt;ZTolerance&gt;0.0032808333333333331&lt;/ZTolerance&gt;&lt;MTolerance&gt;0.001&lt;/MTolerance&gt;&lt;HighPrecision&gt;true&lt;/HighPrecision&gt;&lt;WKID&gt;102763&lt;/WKID&gt;&lt;LatestWKID&gt;3089&lt;/LatestWKID&gt;&lt;VCSWKID&gt;105703&lt;/VCSWKID&gt;&lt;LatestVCSWKID&gt;6360&lt;/LatestVCSWKID&gt;&lt;/ProjectedCoordinateSystem&gt;</peXml>
</coordRef>
<RasterProperties>
<General>
<PixelDepth Sync="TRUE">8</PixelDepth>
<HasColormap Sync="TRUE">FALSE</HasColormap>
<CompressionType Sync="TRUE">None</CompressionType>
<NumBands Sync="TRUE">1</NumBands>
<Format Sync="TRUE">AMD</Format>
<HasPyramids Sync="TRUE">TRUE</HasPyramids>
<SourceType Sync="TRUE">continuous</SourceType>
<PixelType Sync="TRUE">unsigned integer</PixelType>
<NoDataValue Sync="TRUE">
</NoDataValue>
</General>
<Properties>
<MaxImageHeight Sync="TRUE">4100</MaxImageHeight>
<MaxImageWidth Sync="TRUE">15000</MaxImageWidth>
<MaxRecordCount Sync="TRUE">1000</MaxRecordCount>
<MaxDownloadImageCount Sync="TRUE">20</MaxDownloadImageCount>
<MaxDownloadSizeLimit Sync="TRUE">2048</MaxDownloadSizeLimit>
<MaxMosaicImageCount Sync="TRUE">28</MaxMosaicImageCount>
<DefaultCompressionQuality Sync="TRUE">75</DefaultCompressionQuality>
<DefaultCompressionTolerance Sync="TRUE">0.01</DefaultCompressionTolerance>
<BlendWidth Sync="TRUE">10</BlendWidth>
<ViewpointSpacingX Sync="TRUE">600</ViewpointSpacingX>
<ViewpointSpacingY Sync="TRUE">300</ViewpointSpacingY>
<AllowedItemMetadata Sync="TRUE">Basic</AllowedItemMetadata>
<DefaultResamplingMethod Sync="TRUE">1</DefaultResamplingMethod>
<AllowedMosaicMethods Sync="TRUE">NorthWest,Center,LockRaster,ByAttribute,Nadir,Viewpoint,Seamline,None</AllowedMosaicMethods>
<AllowedCompressions Sync="TRUE">None,JPEG,LZ77,LERC</AllowedCompressions>
<AllowedMensurationCapabilities Sync="TRUE">None</AllowedMensurationCapabilities>
<AvailableMensurationCapabilities Sync="TRUE">None,Basic,Base-Top Height,Top-Top Shadow Height,Base-Top Shadow Height,3D</AvailableMensurationCapabilities>
<ClipToBoundary Sync="TRUE">-1</ClipToBoundary>
<FootprintMayContainNoData Sync="TRUE">-1</FootprintMayContainNoData>
<CellSizeTolerance Sync="TRUE">0.8</CellSizeTolerance>
<MinimumPixelContribution Sync="TRUE">1</MinimumPixelContribution>
<AvailableMosaicMethods Sync="TRUE">NorthWest,Center,LockRaster,ByAttribute,Nadir,Viewpoint,Seamline,None</AvailableMosaicMethods>
<AvailableCompressionMethods Sync="TRUE">None,JPEG,LZ77,LERC</AvailableCompressionMethods>
<AvailableItemMetadataLevels Sync="TRUE">None,Basic,Full</AvailableItemMetadataLevels>
<BandDefinitionKeyword Sync="TRUE">NONE</BandDefinitionKeyword>
<_docversion_ Sync="TRUE">10</_docversion_>
<AllowedFields Sync="TRUE">Name,MinPS,MaxPS,LowPS,HighPS,Tag,GroupName,ProductName,CenterX,CenterY,ZOrder,Shape_Length,Shape_Area</AllowedFields>
<TimeIntervalUnits Sync="TRUE">
</TimeIntervalUnits>
<AvailableFields Sync="TRUE">Name,MinPS,MaxPS,LowPS,HighPS,Tag,GroupName,ProductName,CenterX,CenterY,ZOrder,Shape_Length,Shape_Area</AvailableFields>
<SortableFields Sync="TRUE">MinPS,MaxPS,LowPS,HighPS,CenterX,CenterY,ZOrder,Shape_Length,Shape_Area</SortableFields>
<SortAscending Sync="TRUE">-1</SortAscending>
<MosaicOperator Sync="TRUE">1</MosaicOperator>
<BlendWidthUnits Sync="TRUE">1</BlendWidthUnits>
<ClipToFootprint Sync="TRUE">0</ClipToFootprint>
<ClipOverviewsToFootprint Sync="TRUE">0</ClipOverviewsToFootprint>
<HasDodgingTable Sync="TRUE">0</HasDodgingTable>
<ApplyColorCorrection Sync="TRUE">0</ApplyColorCorrection>
<UseTime Sync="TRUE">0</UseTime>
<StartTimeFieldName Sync="TRUE">
</StartTimeFieldName>
<EndTimeFieldName Sync="TRUE">
</EndTimeFieldName>
<TimeValueFormat Sync="TRUE">
</TimeValueFormat>
<UseRange Sync="TRUE">0</UseRange>
<TimeInterval Sync="TRUE">
</TimeInterval>
<ConfigKeyword Sync="TRUE">
</ConfigKeyword>
<RasterStatics.Count Sync="TRUE">0</RasterStatics.Count>
<DataType Sync="TRUE">Processed</DataType>
<MaxCellSize Sync="TRUE">230400</MaxCellSize>
<LowCellSize Sync="TRUE">2</LowCellSize>
<HighCellSize Sync="TRUE">512</HighCellSize>
</Properties>
<Functions Sync="TRUE">
<Function Description="Creates a 3D representation of the surface, with the sun's relative position taken into account for shading the image." Name="Hillshade">
<Arguments>
<DEM>MosaicFunction.OutputRaster</DEM>
<HillshadeType>0</HillshadeType>
<Azimuth>315</Azimuth>
<Altitude>45</Altitude>
<SlopeType>1</SlopeType>
<ZFactor>1</ZFactor>
<PSPower>0.664</PSPower>
<PSZFactor>0.024</PSZFactor>
<RemoveEdgeEffect>0</RemoveEdgeEffect>
</Arguments>
</Function>
<Function Description="Performs on-the-fly mosaic on a raster catalog." Name="Mosaic Function">
</Function>
</Functions>
</RasterProperties>
</DataProperties>
<SyncDate>20260921</SyncDate>
<SyncTime>19375800</SyncTime>
<ModDate>20260921</ModDate>
<ModTime>19375800</ModTime>
</Esri>
<mdFileID>d0317d02b9484f5fae829000c0c3268e</mdFileID>
<mdChar>
<CharSetCd Sync="FALSE" value="004">
</CharSetCd>
</mdChar>
<mdHrLv>
<ScopeCd value="005">
</ScopeCd>
</mdHrLv>
<distInfo>
<distTranOps>
<onLineSrc>
<linkage>https://kyraster.ky.gov/arcgis/rest/services/ElevationServices/Ky_DEM_KYAPED_2FT_Phase3_MultiDirectionalHillshade/ImageServer</linkage>
</onLineSrc>
</distTranOps>
<distFormat>
<formatName>Image Service</formatName>
</distFormat>
</distInfo>
<dataIdInfo>
<idAbs>&lt;p&gt;Kentucky's statewide Phase3 DEM rendered using a multi-directional hillside function accessible as a dynamic image service. The service is in Kentucky Single Coordinate System (3089).&lt;/p&gt;&lt;p&gt;More information regarding the KyFromAbove program can be found &lt;a target='_blank' href='https://kyfromabove.ky.gov/'&gt;here&lt;/a&gt;.&lt;/p&gt;</idAbs>
<idCitation>
<resTitle>Ky_DEM_KYAPED_2FT_Phase3_MultiDirectionalHillshade</resTitle>
<date>
<createDate>2025-06-26T13:41:14</createDate>
<reviseDate>2025-06-26T13:41:15</reviseDate>
</date>
<citRespParty>
<role>
<RoleCd value="006">
</RoleCd>
</role>
</citRespParty>
<presForm>
<PresFormCd Sync="TRUE" value="005">
</PresFormCd>
</presForm>
</idCitation>
<dataExt>
<geoEle>
<GeoBndBox>
<westBL Sync="FALSE">-84.6557</westBL>
<eastBL Sync="FALSE">-81.8796</eastBL>
<northBL Sync="FALSE">39.1269</northBL>
<southBL Sync="FALSE">37.1352</southBL>
<exTypeCode Sync="TRUE">1</exTypeCode>
</GeoBndBox>
</geoEle>
</dataExt>
<searchKeys>
<keyword>elevation</keyword>
<keyword>kyfromabove</keyword>
<keyword>phase3</keyword>
<keyword>phase 3</keyword>
<keyword>multidirectional hillshade</keyword>
<keyword>hillshade</keyword>
<keyword>topography</keyword>
<keyword>topographic</keyword>
<keyword>surface</keyword>
<keyword>digital elevation model</keyword>
<keyword>DEM</keyword>
<keyword>LiDAR</keyword>
</searchKeys>
<idPurp>Kentucky's statewide Phase3 DEM rendered using a multi-directional hillside function accessible as a dynamic image service. The service is in Kentucky Single Coordinate System (3089).</idPurp>
<idCredit>KyFromAbove Partners</idCredit>
<resConst>
<Consts>
<useLimit>&lt;p&gt;LIMITATION OF LIABILITY: The Kentucky Division of Geographic Information (DGI) has no indication or reason to believe that there are any inaccuracies or defects of information incorporated in this work and make no representations of any kind, including, but not limited to, the warranties of merchantability or fitness for a particular use, nor are any such warranties to be implied, with respect to the information or data, furnished herein.&lt;/p&gt;</useLimit>
</Consts>
</resConst>
<dataChar>
<CharSetCd Sync="FALSE" value="004">
</CharSetCd>
</dataChar>
<envirDesc Sync="FALSE">Esri ArcGIS 13.6.5.59530</envirDesc>
<dataLang>
<languageCode Sync="TRUE" value="eng">
</languageCode>
<countryCode Sync="TRUE" value="USA">
</countryCode>
</dataLang>
<spatRpType>
<SpatRepTypCd Sync="TRUE" value="002">
</SpatRepTypCd>
</spatRpType>
<dataExt>
<geoEle>
<GeoBndBox esriExtentType="search">
<exTypeCode Sync="TRUE">1</exTypeCode>
<westBL Sync="TRUE">-89.294939</westBL>
<eastBL Sync="TRUE">-81.879548</eastBL>
<northBL Sync="TRUE">39.132111</northBL>
<southBL Sync="TRUE">36.901917</southBL>
</GeoBndBox>
</geoEle>
</dataExt>
</dataIdInfo>
<refSysInfo>
<RefSystem>
<refSysID>
<identCode code="102763">
</identCode>
<idCodeSpace>EPSG</idCodeSpace>
<idVersion Sync="TRUE">6.6(9.2.0)</idVersion>
</refSysID>
</RefSystem>
</refSysInfo>
<mdLang>
<languageCode Sync="TRUE" value="eng">
</languageCode>
<countryCode Sync="TRUE" value="USA">
</countryCode>
</mdLang>
<spatRepInfo>
<Georect>
<cellGeo>
<CellGeoCd Sync="TRUE" value="002">
</CellGeoCd>
</cellGeo>
<numDims Sync="TRUE">2</numDims>
<tranParaAv Sync="TRUE">1</tranParaAv>
<chkPtAv Sync="TRUE">0</chkPtAv>
<cornerPts>
<pos Sync="TRUE">3915000.000046 3510000.000147</pos>
</cornerPts>
<cornerPts>
<pos Sync="TRUE">3915000.000046 4300000.000147</pos>
</cornerPts>
<cornerPts>
<pos Sync="TRUE">6020000.000046 4300000.000147</pos>
</cornerPts>
<cornerPts>
<pos Sync="TRUE">6020000.000046 3510000.000147</pos>
</cornerPts>
<centerPt>
<pos Sync="TRUE">4967500.000046 3905000.000147</pos>
</centerPt>
<axisDimension type="002">
<dimSize Sync="TRUE">1052500</dimSize>
<dimResol>
<value Sync="TRUE" uom="ftUS">2.000000</value>
</dimResol>
</axisDimension>
<axisDimension type="001">
<dimSize Sync="TRUE">395000</dimSize>
<dimResol>
<value Sync="TRUE" uom="ftUS">2.000000</value>
</dimResol>
</axisDimension>
<ptInPixel>
<PixOrientCd Sync="TRUE" value="001">
</PixOrientCd>
</ptInPixel>
</Georect>
</spatRepInfo>
<contInfo>
<ImgDesc>
<contentTyp>
<ContentTypCd Sync="TRUE" value="001">
</ContentTypCd>
</contentTyp>
<covDim>
<Band>
<dimDescrp Sync="TRUE">Band_1</dimDescrp>
<maxVal Sync="TRUE">3139.659424</maxVal>
<minVal Sync="TRUE">121.520119</minVal>
<bitsPerVal Sync="TRUE">8</bitsPerVal>
<valUnit>
<UOM type="length">
</UOM>
</valUnit>
</Band>
</covDim>
</ImgDesc>
</contInfo>
<mdDateSt Sync="TRUE">20260921</mdDateSt>
</metadata>
