<?xml version="1.0" encoding="UTF-8" standalone="no"?>
<metadata xml:lang="en">
<Esri>
<CreaDate>20240318</CreaDate>
<CreaTime>17030300</CreaTime>
<ArcGISFormat>1.0</ArcGISFormat>
<SyncOnce>FALSE</SyncOnce>
<DataProperties>
<itemProps>
<itemName Sync="TRUE">Ky_DEM_KYAPED_2FT_Phase3</itemName>
<nativeExtBox>
<westBL Sync="TRUE">5635000.000000</westBL>
<eastBL Sync="TRUE">6020000.000000</eastBL>
<southBL Sync="TRUE">3595000.000000</southBL>
<northBL Sync="TRUE">3900000.000000</northBL>
<exTypeCode Sync="TRUE">1</exTypeCode>
</nativeExtBox>
<imsContentType Sync="TRUE" export="True">002</imsContentType>
</itemProps>
<coordRef>
<type Sync="TRUE">Projected</type>
<geogcsn Sync="TRUE">GCS_North_American_1983</geogcsn>
<csUnits Sync="TRUE">Linear Unit: Foot_US (0.304801)</csUnits>
<projcsn Sync="TRUE">NAD_1983_Kentucky_Single_Zone_ftUS</projcsn>
<peXml Sync="TRUE">&lt;ProjectedCoordinateSystem xsi:type='typens:ProjectedCoordinateSystem' xmlns:xsi='http://www.w3.org/2001/XMLSchema-instance' xmlns:xs='http://www.w3.org/2001/XMLSchema' xmlns:typens='http://www.esri.com/schemas/ArcGIS/3.1.0'&gt;&lt;WKT&gt;PROJCS[&amp;quot;NAD_1983_Kentucky_Single_Zone_ftUS&amp;quot;,GEOGCS[&amp;quot;GCS_North_American_1983&amp;quot;,DATUM[&amp;quot;D_North_American_1983&amp;quot;,SPHEROID[&amp;quot;GRS_1980&amp;quot;,6378137.0,298.257222101]],PRIMEM[&amp;quot;Greenwich&amp;quot;,0.0],UNIT[&amp;quot;Degree&amp;quot;,0.0174532925199433]],PROJECTION[&amp;quot;Lambert_Conformal_Conic&amp;quot;],PARAMETER[&amp;quot;false_easting&amp;quot;,4921250.0],PARAMETER[&amp;quot;false_northing&amp;quot;,3280833.333],PARAMETER[&amp;quot;central_meridian&amp;quot;,-85.75],PARAMETER[&amp;quot;standard_parallel_1&amp;quot;,37.08333333333334],PARAMETER[&amp;quot;standard_parallel_2&amp;quot;,38.66666666666666],PARAMETER[&amp;quot;latitude_of_origin&amp;quot;,36.33333333333334],UNIT[&amp;quot;Foot_US&amp;quot;,0.3048006096012192]],VERTCS[&amp;quot;NAVD88 height (ftUS) - Geoid12B (ftUS)&amp;quot;,VDATUM[&amp;quot;North American Vertical Datum 1988&amp;quot;],PARAMETER[&amp;quot;Vertical_Shift&amp;quot;,0.0],PARAMETER[&amp;quot;Direction&amp;quot;,1.0],UNIT[&amp;quot;US survey foot&amp;quot;,0.3048006096012192]]&lt;/WKT&gt;&lt;XOrigin&gt;-117434800&lt;/XOrigin&gt;&lt;YOrigin&gt;-91579000&lt;/YOrigin&gt;&lt;XYScale&gt;36807330.96050825&lt;/XYScale&gt;&lt;ZOrigin&gt;-100000&lt;/ZOrigin&gt;&lt;ZScale&gt;3048.0060960121918&lt;/ZScale&gt;&lt;MOrigin&gt;-100000&lt;/MOrigin&gt;&lt;MScale&gt;10000&lt;/MScale&gt;&lt;XYTolerance&gt;0.0032808333333333331&lt;/XYTolerance&gt;&lt;ZTolerance&gt;0.0032808333333333331&lt;/ZTolerance&gt;&lt;MTolerance&gt;0.001&lt;/MTolerance&gt;&lt;HighPrecision&gt;true&lt;/HighPrecision&gt;&lt;/ProjectedCoordinateSystem&gt;</peXml>
</coordRef>
</DataProperties>
<SyncDate>20240321</SyncDate>
<SyncTime>16241000</SyncTime>
<ModDate>20240321</ModDate>
<ModTime>16330000</ModTime>
<ArcGISProfile>FGDC</ArcGISProfile>
<scaleRange>
<minScale>150000000</minScale>
<maxScale>5000</maxScale>
</scaleRange>
</Esri>
<mdChar>
<CharSetCd value="004">
</CharSetCd>
</mdChar>
<mdHrLv>
<ScopeCd value="005">
</ScopeCd>
</mdHrLv>
<mdDateSt Sync="TRUE">20240321</mdDateSt>
<mdStanName>ArcGIS Metadata</mdStanName>
<mdStanVer>1.0</mdStanVer>
<dataIdInfo>
<idCitation>
<resTitle>Ky_DEM_KYAPED_2FT_Phase3</resTitle>
<date>
<pubDate>2024-03-21T12:00:00</pubDate>
<createDate>2023-12-20T12:00:00</createDate>
</date>
<citRespParty>
<rpOrgName>NV5 Geospatial</rpOrgName>
<role>
<RoleCd value="006">
</RoleCd>
</role>
<rpIndName>Ian Horn</rpIndName>
<rpPosName>Systems Engineer</rpPosName>
<rpCntInfo>
<cntAddress addressType="postal">
<delPoint>500 Mero Street</delPoint>
<city>Frankfort</city>
<adminArea>Kentucky</adminArea>
<postCode>40601</postCode>
<eMailAdd>ian.horn@ky.gov</eMailAdd>
<country>US</country>
</cntAddress>
<cntPhone>
<voiceNum tddtty="">502-782-6745</voiceNum>
</cntPhone>
</rpCntInfo>
</citRespParty>
<presForm>
<PresFormCd value="005">
</PresFormCd>
<fgdcGeoform>raster digital data</fgdcGeoform>
</presForm>
<presForm>
<fgdcGeoform>Raster digital data</fgdcGeoform>
</presForm>
</idCitation>
<idAbs>&lt;div style='text-align:Left;'&gt;&lt;div&gt;&lt;div&gt;&lt;p&gt;&lt;span&gt;Product: These are Digital Elevation Model (DEM) data for Kentucky as part of the required deliverables for the KYAPED_Lidar_2023 project. Class 2 (ground) LiDAR points in conjunction with the hydro breaklines were used to create a 2 foot hydro-flattened Raster DEM. Geographic Extent: 79 counties in Kentucky, covering approximately 18050 total square miles. Dataset Description: The KYAPED_Lidar_2023 project called for the planning, acquisition, processing, and derivative products of lidar data to be collected at a nominal pulse spacing (NPS) of 0.71 meters. Project specifications are based on the U.S. Geological Survey National Geospatial Program Base LiDAR Specification, 2023 Rev. A. The data were developed based on a horizontal projection/datum of NAD 1983 StatePlane Kentucky FIPS 1600 Feet, Foot US and vertical datum of NAVD88 Geoid 12b, Foot US. LiDAR data were delivered as processed Classified LAS 1.4 files formatted to 20384 individual 5000 ft x 5000 ft tiles, as tiled intensity imagery, and as tiled bare earth DEMs; all tiled to the same 5000 ft x 5000 ft schema. Continuous breaklines were produced in Esri file geodatabase format. Ground Conditions: LiDAR was collected in winter 2022 and 2023, while no snow was on the ground and rivers were at or below normal levels. In order to post process the LiDAR data to meet task order specifications and meet ASPRS vertical accuracy guidelines, NV5 Geospatial utilized a total of 226 ground control points that were used to calibrate the LiDAR to known ground locations established throughout the project area. An additional 561 independent accuracy checkpoints, 331 in Bare Earth and Urban landcovers (331 NVA points), 230 in Tall Weeds categories (230 VVA points), were used to assess the vertical accuracy of the data. These checkpoints were not used to calibrate or post process the data.&lt;/span&gt;&lt;/p&gt;&lt;/div&gt;&lt;/div&gt;&lt;/div&gt;</idAbs>
<idPurp>To acquire detailed surface elevation data for use in conservation planning, design, research, floodplain mapping, dam safety assessments and elevation modeling, etc. Classified LAS files are used to show the manually reviewed bare earth surface. This allows the user to create intensity images, breaklines and raster DEMs. The purpose of these LiDAR data was to produce high accuracy 3D hydro-flattened digital elevation models (DEMs) with a 2 foot cell size. These raw LiDAR point cloud data were used to create classified LiDAR LAS files, intensity images, 3D breaklines, and hydro-flattened DEMs as necessary.</idPurp>
<idStatus>
<ProgCd value="001">
</ProgCd>
</idStatus>
<resMaint>
<maintFreq>
<MaintFreqCd value="011">
</MaintFreqCd>
</maintFreq>
<maintCont>
<rpOrgName>NV5 Geospatial</rpOrgName>
<role>
<RoleCd value="007">
</RoleCd>
</role>
<rpIndName>Ian Horn</rpIndName>
<rpPosName>Systems Engineer</rpPosName>
<rpCntInfo>
<cntAddress addressType="postal">
<delPoint>500 Mero Street</delPoint>
<city>Frankfort</city>
<adminArea>Kentucky</adminArea>
<postCode>40601</postCode>
<eMailAdd>ian.horn@ky.gov</eMailAdd>
<country>US</country>
</cntAddress>
<cntPhone>
<voiceNum tddtty="">502-782-6745</voiceNum>
</cntPhone>
</rpCntInfo>
<editorSave>False</editorSave>
<displayName>Ian Horn</displayName>
</maintCont>
</resMaint>
<placeKeys>
<keyword>Kentucky</keyword>
<keyword>Adair County</keyword>
<keyword>Allen County</keyword>
<keyword>Anderson County</keyword>
<keyword>Barren County</keyword>
<keyword>Bath County</keyword>
<keyword>Bell County</keyword>
<keyword>Bourbon County</keyword>
<keyword>Boyle County</keyword>
<keyword>Breathitt County</keyword>
<keyword>Buchanan County</keyword>
<keyword>Bullitt County</keyword>
<keyword>Campbell County</keyword>
<keyword>Casey County</keyword>
<keyword>Claiborne County</keyword>
<keyword>Clark County</keyword>
<keyword>Clay County</keyword>
<keyword>Clinton County</keyword>
<keyword>Cumberland County</keyword>
<keyword>Dickenson County</keyword>
<keyword>Edmonson County</keyword>
<keyword>Estill County</keyword>
<keyword>Floyd County</keyword>
<keyword>Franklin County</keyword>
<keyword>Garrard County</keyword>
<keyword>Green County</keyword>
<keyword>Harlan County</keyword>
<keyword>Harrison County</keyword>
<keyword>Hart County</keyword>
<keyword>Jackson County</keyword>
<keyword>Jefferson County</keyword>
<keyword>Johnson County</keyword>
<keyword>Knott County</keyword>
<keyword>Knox County</keyword>
<keyword>Larue County</keyword>
<keyword>Laurel County</keyword>
<keyword>Lawrence County</keyword>
<keyword>Lee County</keyword>
<keyword>Leslie County</keyword>
<keyword>Letcher County</keyword>
<keyword>Lincoln County</keyword>
<keyword>Macon County</keyword>
<keyword>Madison County</keyword>
<keyword>Magoffin County</keyword>
<keyword>Marion County</keyword>
<keyword>Martin County</keyword>
<keyword>McCreary County</keyword>
<keyword>Menifee County</keyword>
<keyword>Mercer County</keyword>
<keyword>Metcalfe County</keyword>
<keyword>Mingo County</keyword>
<keyword>Monroe County</keyword>
<keyword>Montgomery County</keyword>
<keyword>Morgan County</keyword>
<keyword>Nicholas County</keyword>
<keyword>Oldham County</keyword>
<keyword>Owsley County</keyword>
<keyword>Perry County</keyword>
<keyword>Pickett County</keyword>
<keyword>Pike County</keyword>
<keyword>Powell County</keyword>
<keyword>Pulaski County</keyword>
<keyword>Robertson County</keyword>
<keyword>Rockcastle County</keyword>
<keyword>Russell County</keyword>
<keyword>Scott County</keyword>
<keyword>Sumner County</keyword>
<keyword>Taylor County</keyword>
<keyword>Washington County</keyword>
<keyword>Wayne County</keyword>
<keyword>Whitley County</keyword>
<keyword>Wise County</keyword>
<keyword>Wolfe County</keyword>
<keyword>Woodford County</keyword>
</placeKeys>
<themeKeys>
<keyword>Model</keyword>
<keyword>Raster</keyword>
<keyword>DEM</keyword>
<keyword>Remote Sensing</keyword>
<keyword>Elevation Data</keyword>
<keyword>Lidar</keyword>
</themeKeys>
<searchKeys>
<keyword>Model</keyword>
<keyword>Raster</keyword>
<keyword>DEM</keyword>
<keyword>Remote Sensing</keyword>
<keyword>Elevation Data</keyword>
<keyword>Lidar</keyword>
<keyword>Kentucky</keyword>
<keyword>Adair County</keyword>
<keyword>Allen County</keyword>
<keyword>Anderson County</keyword>
<keyword>Barren County</keyword>
<keyword>Bath County</keyword>
<keyword>Bell County</keyword>
<keyword>Bourbon County</keyword>
<keyword>Boyle County</keyword>
<keyword>Breathitt County</keyword>
<keyword>Buchanan County</keyword>
<keyword>Bullitt County</keyword>
<keyword>Campbell County</keyword>
<keyword>Casey County</keyword>
<keyword>Claiborne County</keyword>
<keyword>Clark County</keyword>
<keyword>Clay County</keyword>
<keyword>Clinton County</keyword>
<keyword>Cumberland County</keyword>
<keyword>Dickenson County</keyword>
<keyword>Edmonson County</keyword>
<keyword>Estill County</keyword>
<keyword>Floyd County</keyword>
<keyword>Franklin County</keyword>
<keyword>Garrard County</keyword>
<keyword>Green County</keyword>
<keyword>Harlan County</keyword>
<keyword>Harrison County</keyword>
<keyword>Hart County</keyword>
<keyword>Jackson County</keyword>
<keyword>Jefferson County</keyword>
<keyword>Johnson County</keyword>
<keyword>Knott County</keyword>
<keyword>Knox County</keyword>
<keyword>Larue County</keyword>
<keyword>Laurel County</keyword>
<keyword>Lawrence County</keyword>
<keyword>Lee County</keyword>
<keyword>Leslie County</keyword>
<keyword>Letcher County</keyword>
<keyword>Lincoln County</keyword>
<keyword>Macon County</keyword>
<keyword>Madison County</keyword>
<keyword>Magoffin County</keyword>
<keyword>Marion County</keyword>
<keyword>Martin County</keyword>
<keyword>McCreary County</keyword>
<keyword>Menifee County</keyword>
<keyword>Mercer County</keyword>
<keyword>Metcalfe County</keyword>
<keyword>Mingo County</keyword>
<keyword>Monroe County</keyword>
<keyword>Montgomery County</keyword>
<keyword>Morgan County</keyword>
<keyword>Nicholas County</keyword>
<keyword>Oldham County</keyword>
<keyword>Owsley County</keyword>
<keyword>Perry County</keyword>
<keyword>Pickett County</keyword>
<keyword>Pike County</keyword>
<keyword>Powell County</keyword>
<keyword>Pulaski County</keyword>
<keyword>Robertson County</keyword>
<keyword>Rockcastle County</keyword>
<keyword>Russell County</keyword>
<keyword>Scott County</keyword>
<keyword>Sumner County</keyword>
<keyword>Taylor County</keyword>
<keyword>Washington County</keyword>
<keyword>Wayne County</keyword>
<keyword>Whitley County</keyword>
<keyword>Wise County</keyword>
<keyword>Wolfe County</keyword>
<keyword>Woodford County</keyword>
</searchKeys>
<resConst>
<Consts>
<useLimit>&lt;div style='text-align:Left;'&gt;&lt;div&gt;&lt;div&gt;&lt;p&gt;&lt;span&gt;None. However, users should be aware that temporal changes may have occurred since this dataset was collected and that some parts of these data may no longer represent actual surface conditions. Users should not use these data for critical applications without a full awareness of their limitations. Acknowledgement of the organization providing these data to the public would be appreciated for products derived from these data.&lt;/span&gt;&lt;/p&gt;&lt;/div&gt;&lt;/div&gt;&lt;/div&gt;</useLimit>
</Consts>
</resConst>
<resConst>
<LegConsts>
<accessConsts>
<RestrictCd value="008">
</RestrictCd>
</accessConsts>
<othConsts>No restrictions apply to these data.</othConsts>
</LegConsts>
</resConst>
<spatRpType>
<SpatRepTypCd value="002">
</SpatRepTypCd>
</spatRpType>
<dataExt>
<geoEle>
<GeoBndBox>
<exTypeCode>true</exTypeCode>
<westBL>-86.4714877921</westBL>
<eastBL>-81.9107360326</eastBL>
<northBL>38.5830143197</northBL>
<southBL>36.537360071</southBL>
</GeoBndBox>
</geoEle>
</dataExt>
<dataExt>
<exDesc>Ground condition</exDesc>
<tempEle>
<TempExtent>
<exTemp>
<TM_Period>
<tmBegin>2022-12-12T00:00:00</tmBegin>
<tmEnd>2023-03-05T00:00:00</tmEnd>
</TM_Period>
</exTemp>
</TempExtent>
</tempEle>
</dataExt>
<suppInfo>Raster File Type = GeoTIFF; Bit Depth/Pixel Type = 32-bit float; Raster Cell Size = 2 foot; Interpolation or Resampling Technique = Triangulated Irregular Network (TIN), Linear Interpolation, Proprietary; Required Vertical Accuracy = 0.196</suppInfo>
<envirDesc Sync="FALSE">Esri ArcGIS 13.1.3.41833</envirDesc>
<dataLang>
<languageCode Sync="TRUE" value="eng">
</languageCode>
<countryCode Sync="TRUE" value="USA">
</countryCode>
</dataLang>
<dataExt>
<geoEle>
<GeoBndBox esriExtentType="search">
<exTypeCode Sync="TRUE">1</exTypeCode>
<westBL Sync="TRUE">-83.300115</westBL>
<eastBL Sync="TRUE">-81.937086</eastBL>
<northBL Sync="TRUE">38.007779</northBL>
<southBL Sync="TRUE">37.135175</southBL>
</GeoBndBox>
</geoEle>
</dataExt>
<idCredit>DGI</idCredit>
<dataChar>
<CharSetCd value="004">
</CharSetCd>
</dataChar>
<tpCat>
<TopicCatCd value="006">
</TopicCatCd>
</tpCat>
</dataIdInfo>
<mdConst>
<Consts>
<useLimit>None.</useLimit>
</Consts>
</mdConst>
<mdConst>
<LegConsts>
<accessConsts>
<RestrictCd value="008">
</RestrictCd>
</accessConsts>
<othConsts>None.</othConsts>
</LegConsts>
</mdConst>
<mdConst>
<SecConsts>
<class>
<ClasscationCd value="001">
</ClasscationCd>
</class>
<classSys>None.</classSys>
<handDesc>NONE</handDesc>
</SecConsts>
</mdConst>
<dqInfo>
<dqScope>
<scpLvl>
<ScopeCd value="005">
</ScopeCd>
</scpLvl>
</dqScope>
<report type="DQConcConsis">
<measDesc>Data cover the entire area specified for this project.</measDesc>
</report>
<report type="DQCompOm">
<measDesc>Datasets contain complete coverage of tiles. No points have been removed or excluded. A visual qualitative assessment was performed to ensure data completeness. There are no void areas or missing data. The raw point cloud is of good quality and data pass Non-Vegetated Vertical Accuracy specifications.</measDesc>
</report>
<report dimension="vertical" type="DQAbsExtPosAcc">
<measDesc>This data set was produced to meet ASPRS Positional Accuracy Standard for Digital Geospatial Data (2014) for a 10-cm RMSEz Vertical Accuracy Class.</measDesc>
</report>
<dataLineage>
<prcStep>
<stepDesc>Hydro-Flattened Raster DEM Processing: Class 2 (Ground) LiDAR points in conjunction with the hydro-breaklines were used to create a 2 foot hydro-flattened raster DEM. Using automated scripting routines in proprietary software, GeoTIFF files were created for each tile. Each surface was reviewed using Global Mapper to check for any surface anomalies or incorrect elevations found within the surface.</stepDesc>
<stepDateTm>2023</stepDateTm>
</prcStep>
</dataLineage>
</dqInfo>
<spatRepInfo>
<Georect>
<numDims>2</numDims>
<axisDimension type="001">
<dimSize>2500</dimSize>
</axisDimension>
<axisDimension type="002">
<dimSize>2500</dimSize>
</axisDimension>
<cellGeo>
<CellGeoCd value="002">
</CellGeoCd>
</cellGeo>
</Georect>
</spatRepInfo>
<mdExtInfo>
<extOnRes>
<linkage>withheld</linkage>
<orName>None.</orName>
</extOnRes>
</mdExtInfo>
<mdLang>
<languageCode Sync="TRUE" value="eng">
</languageCode>
<countryCode Sync="TRUE" value="USA">
</countryCode>
</mdLang>
<distInfo>
<distFormat>
<formatName Sync="TRUE">File Geodatabase Raster Dataset</formatName>
</distFormat>
<distributor>
<distorCont>
<rpOrgName>NV5 Geospatial</rpOrgName>
<role>
<RoleCd value="005">
</RoleCd>
</role>
<rpIndName>Ian Horn</rpIndName>
<rpPosName>Systems Engineer</rpPosName>
<rpCntInfo>
<cntAddress addressType="postal">
<delPoint>500 Mero Street</delPoint>
<city>Frankfort</city>
<adminArea>Kentucky</adminArea>
<postCode>40601</postCode>
<eMailAdd>ian.horn@ky.gov</eMailAdd>
<country>US</country>
</cntAddress>
<cntPhone>
<voiceNum tddtty="">502-782-6745</voiceNum>
</cntPhone>
</rpCntInfo>
<displayName>Ian Horn</displayName>
</distorCont>
</distributor>
<distTranOps>
<onLineSrc>
<linkage>https://ky.box.com/v/kymartian-kyaped-2ftdem-phase3</linkage>
<orFunct>
<OnFunctCd value="001">
</OnFunctCd>
</orFunct>
</onLineSrc>
</distTranOps>
</distInfo>
<mdHrLvName Sync="TRUE">dataset</mdHrLvName>
<refSysInfo>
<RefSystem>
<refSysID>
<identCode Sync="TRUE" code="0">
</identCode>
</refSysID>
</RefSystem>
</refSysInfo>
<spdoinfo>
<rastinfo>
<rasttype Sync="TRUE">Pixel</rasttype>
<rowcount Sync="TRUE">152500</rowcount>
<colcount Sync="TRUE">192500</colcount>
<rastxsz Sync="TRUE">2.000000</rastxsz>
<rastysz Sync="TRUE">2.000000</rastysz>
<rastbpp Sync="TRUE">32</rastbpp>
<vrtcount Sync="TRUE">1</vrtcount>
<rastorig Sync="TRUE">Upper Left</rastorig>
<rastcmap Sync="TRUE">FALSE</rastcmap>
<rastcomp Sync="TRUE">LZ77</rastcomp>
<rastband Sync="TRUE">1</rastband>
<rastdtyp Sync="TRUE">pixel codes</rastdtyp>
<rastifor Sync="TRUE">FGDBR</rastifor>
<rastplyr Sync="TRUE">TRUE</rastplyr>
</rastinfo>
</spdoinfo>
<spref>
<horizsys>
<planar>
<planci>
<plance Sync="TRUE">row and column</plance>
<coordrep>
<absres Sync="TRUE">2.000000</absres>
<ordres Sync="TRUE">2.000000</ordres>
</coordrep>
</planci>
</planar>
</horizsys>
</spref>
<mdContact>
<rpOrgName>NV5 Geospatial</rpOrgName>
<role>
<RoleCd value="007">
</RoleCd>
</role>
<rpIndName>Ian Horn</rpIndName>
<rpPosName>Systems Engineer</rpPosName>
<rpCntInfo>
<cntAddress addressType="postal">
<delPoint>500 Mero Street</delPoint>
<city>Frankfort</city>
<adminArea>Kentucky</adminArea>
<postCode>40601</postCode>
<eMailAdd>ian.horn@ky.gov</eMailAdd>
<country>US</country>
</cntAddress>
<cntPhone>
<voiceNum tddtty="">502-782-6745</voiceNum>
</cntPhone>
</rpCntInfo>
<displayName>Ian Horn</displayName>
</mdContact>
</metadata>
