<?xml version="1.0" encoding="UTF-8" standalone="no"?>
<metadata xml:lang="en">
<Esri>
<CreaDate>20250101</CreaDate>
<CreaTime>02070200</CreaTime>
<ArcGISFormat>1.0</ArcGISFormat>
<SyncOnce>FALSE</SyncOnce>
<DataProperties>
<lineage>
<Process Date="20250101" Time="020702" ToolSource="c:\program files\arcgis\pro\Resources\ArcToolbox\toolboxes\Image Analyst Tools.tbx\RasterCalculator">RasterCalculator " "F:\ImageServerData2\GDB\Ky_KYAPED_DEM_Phase2_Statewide_2024_WM.gdb\Ky_DEM_KYAPED_Phase2_2FT_WM" *0.3048" Q:\ImageServerData13\Output\KyDemCalc.img</Process>
<Process Date="20250104" Time="144523" ToolSource="c:\program files\arcgis\pro\Resources\ArcToolbox\toolboxes\Data Management Tools.tbx\CopyRaster">CopyRaster Q:\ImageServerData13\Output\KyDemCalc.img Q:\ImageServerData13\Output\Ky_DEM_KYAPED_Phase2_WM.gdb\KyDemCalc MAX_FILE_SIZE_256TB # # NONE NONE # NONE NONE "Esri Grid format" NONE CURRENT_SLICE NO_TRANSPOSE</Process>
<Process Date="20250104" Time="150912" ToolSource="c:\program files\arcgis\pro\Resources\ArcToolbox\toolboxes\Data Management Tools.tbx\Rename">Rename Q:\ImageServerData13\Output\Ky_DEM_KYAPED_Phase2_WM.gdb\KyDemCalc Q:\ImageServerData13\Output\Ky_DEM_KYAPED_Phase2_WM.gdb\Ky_DEM_KYAPED_Phase2_WM RasterDataset</Process>
<Process Date="20250319" Time="102546" ToolSource="c:\program files\arcgis\pro\Resources\ArcToolbox\Toolboxes\Data Management Tools.tbx\Rename">Rename Q:\ImageServerData13\Output\Ky_DEM_KYAPED_2FT_Phase2_WM.gdb\Ky_DEM_KYAPED_Phase2_WM Q:\ImageServerData13\Output\Ky_DEM_KYAPED_2FT_Phase2_WM.gdb\Ky_DEM_KYAPED_2FT_Phase2_WM RasterDataset</Process>
<Process Date="20250319" Time="102613" ToolSource="c:\program files\arcgis\pro\Resources\ArcToolbox\Toolboxes\Data Management Tools.tbx\Rename">Rename Q:\ImageServerData13\Output\Ky_DEM_KYAPED_2FT_Phase2_ZMeters_WM.gdb\Ky_DEM_KYAPED_2FT_Phase2_WM Q:\ImageServerData13\Output\Ky_DEM_KYAPED_2FT_Phase2_ZMeters_WM.gdb\Ky_DEM_KYAPED_2FT_Phase2_ZMeters_WM RasterDataset</Process>
<Process Date="20250319" Time="113951" ToolSource="c:\program files\arcgis\pro\Resources\ArcToolbox\Toolboxes\Data Management Tools.tbx\Rename">Rename F:\ImageServerData2\GDB\Ky_DEM_KYAPED_2FT_Phase2_ZMeters_WGS84WM.gdb\Ky_DEM_KYAPED_2FT_Phase2_ZMeters_WM F:\ImageServerData2\GDB\Ky_DEM_KYAPED_2FT_Phase2_ZMeters_WGS84WM.gdb\Ky_DEM_KYAPED_2FT_Phase2_ZMeters_WGS84WM RasterDataset</Process>
</lineage>
<itemProps>
<itemName Sync="TRUE">KyDemCalc</itemName>
<imsContentType Sync="TRUE">002</imsContentType>
<nativeExtBox>
<westBL Sync="TRUE">-9987441.235840</westBL>
<eastBL Sync="TRUE">-9114627.011812</eastBL>
<southBL Sync="TRUE">4362177.107562</southBL>
<northBL Sync="TRUE">4744554.349116</northBL>
<exTypeCode Sync="TRUE">1</exTypeCode>
</nativeExtBox>
<itemLocation>
<linkage Sync="TRUE">file://\\ENT5PP-APGI005\ImageServerData13\Output\Ky_DEM_KYAPED_Phase2_WM.gdb</linkage>
<protocol Sync="TRUE">Local Area Network</protocol>
</itemLocation>
</itemProps>
<coordRef>
<type Sync="TRUE">Projected</type>
<geogcsn Sync="TRUE">GCS_WGS_1984</geogcsn>
<csUnits Sync="TRUE">Linear Unit: Meter (1.000000)</csUnits>
<projcsn Sync="TRUE">WGS_1984_Web_Mercator_Auxiliary_Sphere</projcsn>
<peXml Sync="TRUE">&lt;ProjectedCoordinateSystem xsi:type='typens:ProjectedCoordinateSystem' xmlns:xsi='http://www.w3.org/2001/XMLSchema-instance' xmlns:xs='http://www.w3.org/2001/XMLSchema' xmlns:typens='http://www.esri.com/schemas/ArcGIS/3.1.0'&gt;&lt;WKT&gt;PROJCS[&amp;quot;WGS_1984_Web_Mercator_Auxiliary_Sphere&amp;quot;,GEOGCS[&amp;quot;GCS_WGS_1984&amp;quot;,DATUM[&amp;quot;D_WGS_1984&amp;quot;,SPHEROID[&amp;quot;WGS_1984&amp;quot;,6378137.0,298.257223563]],PRIMEM[&amp;quot;Greenwich&amp;quot;,0.0],UNIT[&amp;quot;Degree&amp;quot;,0.0174532925199433]],PROJECTION[&amp;quot;Mercator_Auxiliary_Sphere&amp;quot;],PARAMETER[&amp;quot;False_Easting&amp;quot;,0.0],PARAMETER[&amp;quot;False_Northing&amp;quot;,0.0],PARAMETER[&amp;quot;Central_Meridian&amp;quot;,0.0],PARAMETER[&amp;quot;Standard_Parallel_1&amp;quot;,0.0],PARAMETER[&amp;quot;Auxiliary_Sphere_Type&amp;quot;,0.0],UNIT[&amp;quot;Meter&amp;quot;,1.0],AUTHORITY[&amp;quot;EPSG&amp;quot;,3857]]&lt;/WKT&gt;&lt;XOrigin&gt;-20037700&lt;/XOrigin&gt;&lt;YOrigin&gt;-30241100&lt;/YOrigin&gt;&lt;XYScale&gt;148923141.92838538&lt;/XYScale&gt;&lt;ZOrigin&gt;-100000&lt;/ZOrigin&gt;&lt;ZScale&gt;10000&lt;/ZScale&gt;&lt;MOrigin&gt;-100000&lt;/MOrigin&gt;&lt;MScale&gt;10000&lt;/MScale&gt;&lt;XYTolerance&gt;0.001&lt;/XYTolerance&gt;&lt;ZTolerance&gt;0.001&lt;/ZTolerance&gt;&lt;MTolerance&gt;0.001&lt;/MTolerance&gt;&lt;HighPrecision&gt;true&lt;/HighPrecision&gt;&lt;WKID&gt;102100&lt;/WKID&gt;&lt;LatestWKID&gt;3857&lt;/LatestWKID&gt;&lt;/ProjectedCoordinateSystem&gt;</peXml>
</coordRef>
</DataProperties>
<SyncDate>20250104</SyncDate>
<SyncTime>09404000</SyncTime>
<ModDate>20250104</ModDate>
<ModTime>09404000</ModTime>
</Esri>
<dataIdInfo>
<envirDesc Sync="TRUE">Microsoft Windows Server 2016 Technical Preview Version 10.0 (Build 14393) ; Esri ArcGIS 13.1.3.41833</envirDesc>
<dataLang>
<languageCode Sync="TRUE" value="eng"/>
<countryCode Sync="TRUE" value="USA"/>
</dataLang>
<idCitation>
<resTitle Sync="TRUE">Ky_DEM_KYAPED_2FT_Phase2_ZMeters_WGS84WM</resTitle>
<presForm>
<PresFormCd Sync="TRUE" value="011"/>
</presForm>
</idCitation>
<spatRpType>
<SpatRepTypCd Sync="TRUE" value="002"/>
</spatRpType>
<dataExt>
<geoEle>
<GeoBndBox esriExtentType="search">
<exTypeCode Sync="TRUE">1</exTypeCode>
<westBL Sync="TRUE">-89.718711</westBL>
<eastBL Sync="TRUE">-81.878088</eastBL>
<northBL Sync="TRUE">39.159569</northBL>
<southBL Sync="TRUE">36.446087</southBL>
</GeoBndBox>
</geoEle>
</dataExt>
<idAbs>This is the KyFromAbove Phase2 collection and provides access to a 2 Foot Digital Elevation Model (DEM) for Kentucky. This version is in Web Mercator and the Z values are in meters, not feet.</idAbs>
<searchKeys>
<keyword>kyaped</keyword>
<keyword>kyfromabove</keyword>
<keyword>DEM</keyword>
<keyword>elevation</keyword>
<keyword>topography</keyword>
<keyword>relief</keyword>
<keyword>Phase2</keyword>
<keyword>digital elevation model</keyword>
<keyword>web mercator</keyword>
<keyword>meters</keyword>
</searchKeys>
<idPurp>This is the KyFromAbove Phase2 collection and provides access to a 2 Foot Digital Elevation Model (DEM) for Kentucky. This version is in Web Mercator and the Z values are in meters, not feet.</idPurp>
<idCredit>KyFromAbove</idCredit>
<resConst>
<Consts>
<useLimit>None</useLimit>
</Consts>
</resConst>
</dataIdInfo>
<mdLang>
<languageCode Sync="TRUE" value="eng"/>
<countryCode Sync="TRUE" value="USA"/>
</mdLang>
<distInfo>
<distFormat>
<formatName Sync="TRUE">File Geodatabase Raster Dataset</formatName>
</distFormat>
</distInfo>
<mdHrLv>
<ScopeCd Sync="TRUE" value="005"/>
</mdHrLv>
<mdHrLvName Sync="TRUE">dataset</mdHrLvName>
<refSysInfo>
<RefSystem>
<refSysID>
<identCode Sync="TRUE" code="3857"/>
<idCodeSpace Sync="TRUE">EPSG</idCodeSpace>
<idVersion Sync="TRUE">6.18.3(9.3.1.2)</idVersion>
</refSysID>
</RefSystem>
</refSysInfo>
<spdoinfo>
<rastinfo>
<rasttype Sync="TRUE">Pixel</rasttype>
<rowcount Sync="TRUE">627258</rowcount>
<colcount Sync="TRUE">1431779</colcount>
<rastxsz Sync="TRUE">0.609601</rastxsz>
<rastysz Sync="TRUE">0.609601</rastysz>
<rastbpp Sync="TRUE">32</rastbpp>
<vrtcount Sync="TRUE">1</vrtcount>
<rastorig Sync="TRUE">Upper Left</rastorig>
<rastcmap Sync="TRUE">FALSE</rastcmap>
<rastcomp Sync="TRUE">LZ77</rastcomp>
<rastband Sync="TRUE">1</rastband>
<rastdtyp Sync="TRUE">pixel codes</rastdtyp>
<rastifor Sync="TRUE">FGDBR</rastifor>
<rastplyr Sync="TRUE">TRUE</rastplyr>
</rastinfo>
</spdoinfo>
<spref>
<horizsys>
<planar>
<planci>
<plance Sync="TRUE">row and column</plance>
<coordrep>
<absres Sync="TRUE">0.609601</absres>
<ordres Sync="TRUE">0.609601</ordres>
</coordrep>
</planci>
</planar>
</horizsys>
</spref>
<mdDateSt Sync="TRUE">20250104</mdDateSt>
</metadata>
