<?xml version="1.0" encoding="UTF-8" standalone="no"?>
<metadata xml:lang="en">
<Esri>
<CreaDate>20260421</CreaDate>
<CreaTime>14530100</CreaTime>
<ArcGISFormat>1.0</ArcGISFormat>
<SyncOnce>FALSE</SyncOnce>
<DataProperties>
<itemProps>
<itemName Sync="TRUE">Ky_Annual_NLCD_2012_30M</itemName>
<imsContentType Sync="TRUE">002</imsContentType>
<nativeExtBox>
<westBL Sync="TRUE">3796724.506435</westBL>
<eastBL Sync="TRUE">6070637.281435</eastBL>
<southBL Sync="TRUE">3135406.463165</southBL>
<northBL Sync="TRUE">4445049.513165</northBL>
<exTypeCode Sync="TRUE">1</exTypeCode>
</nativeExtBox>
<itemLocation>
<linkage Sync="TRUE">file://\\COTFRPF5J7S3C\C$\Users\boyd.shearer\GIS\LandcoverUpdate\LandcoverUpdate.gdb</linkage>
<protocol Sync="TRUE">Local Area Network</protocol>
</itemLocation>
</itemProps>
<coordRef>
<type Sync="TRUE">Projected</type>
<geogcsn Sync="TRUE">GCS_North_American_1983</geogcsn>
<csUnits Sync="TRUE">Linear Unit: Foot_US (0.304801)</csUnits>
<projcsn Sync="TRUE">NAD_1983_StatePlane_Kentucky_FIPS_1600_Feet</projcsn>
<peXml Sync="TRUE">&lt;ProjectedCoordinateSystem xsi:type='typens:ProjectedCoordinateSystem' xmlns:xsi='http://www.w3.org/2001/XMLSchema-instance' xmlns:xs='http://www.w3.org/2001/XMLSchema' xmlns:typens='http://www.esri.com/schemas/ArcGIS/3.6.0'&gt;&lt;WKT&gt;PROJCS[&amp;quot;NAD_1983_StatePlane_Kentucky_FIPS_1600_Feet&amp;quot;,GEOGCS[&amp;quot;GCS_North_American_1983&amp;quot;,DATUM[&amp;quot;D_North_American_1983&amp;quot;,SPHEROID[&amp;quot;GRS_1980&amp;quot;,6378137.0,298.257222101]],PRIMEM[&amp;quot;Greenwich&amp;quot;,0.0],UNIT[&amp;quot;Degree&amp;quot;,0.0174532925199433]],PROJECTION[&amp;quot;Lambert_Conformal_Conic&amp;quot;],PARAMETER[&amp;quot;False_Easting&amp;quot;,4921250.0],PARAMETER[&amp;quot;False_Northing&amp;quot;,3280833.333333333],PARAMETER[&amp;quot;Central_Meridian&amp;quot;,-85.75],PARAMETER[&amp;quot;Standard_Parallel_1&amp;quot;,37.08333333333334],PARAMETER[&amp;quot;Standard_Parallel_2&amp;quot;,38.66666666666666],PARAMETER[&amp;quot;Latitude_Of_Origin&amp;quot;,36.33333333333334],UNIT[&amp;quot;Foot_US&amp;quot;,0.3048006096012192],AUTHORITY[&amp;quot;EPSG&amp;quot;,3089]]&lt;/WKT&gt;&lt;XOrigin&gt;-117434800&lt;/XOrigin&gt;&lt;YOrigin&gt;-91579000&lt;/YOrigin&gt;&lt;XYScale&gt;36807330.96050825&lt;/XYScale&gt;&lt;ZOrigin&gt;-100000&lt;/ZOrigin&gt;&lt;ZScale&gt;10000&lt;/ZScale&gt;&lt;MOrigin&gt;-100000&lt;/MOrigin&gt;&lt;MScale&gt;10000&lt;/MScale&gt;&lt;XYTolerance&gt;0.0032808333333333331&lt;/XYTolerance&gt;&lt;ZTolerance&gt;0.001&lt;/ZTolerance&gt;&lt;MTolerance&gt;0.001&lt;/MTolerance&gt;&lt;HighPrecision&gt;true&lt;/HighPrecision&gt;&lt;WKID&gt;102763&lt;/WKID&gt;&lt;LatestWKID&gt;3089&lt;/LatestWKID&gt;&lt;/ProjectedCoordinateSystem&gt;</peXml>
</coordRef>
<lineage>
<Process Date="20260421" Time="145301" ToolSource="c:\program files\arcgis\pro\Resources\ArcToolbox\toolboxes\Data Management Tools.tbx\Clip">Clip D:\data\Landcover_National_GDB\MLRC_1985-2024\Annual_NLCD_LndCov_2005-2014_CU_C1V1\Annual_NLCD_LndCov_2012_CU_C1V1.tif "569714.333700001 1513991.8408 1223917.0637 1848489.7276 PROJCRS["AEA_WGS84",BASEGEOGCRS["GCS_WGS_1984",DATUM["D_WGS_1984",ELLIPSOID["WGS_1984",6378137.0,298.257223563]],PRIMEM["Greenwich",0.0],CS[ellipsoidal,2],AXIS["Latitude (lat)",north,ORDER[1]],AXIS["Longitude (lon)",east,ORDER[2]],ANGLEUNIT["Degree",0.0174532925199433]],CONVERSION["Albers",METHOD["Albers"],PARAMETER["False_Easting",0.0],PARAMETER["False_Northing",0.0],PARAMETER["Central_Meridian",-96.0],PARAMETER["Standard_Parallel_1",29.5],PARAMETER["Standard_Parallel_2",45.5],PARAMETER["Latitude_Of_Origin",23.0]],CS[Cartesian,2],AXIS["Easting (X)",east,ORDER[1]],AXIS["Northing (Y)",north,ORDER[2]],LENGTHUNIT["Meter",1.0]]" C:\Users\boyd.shearer\GIS\LandcoverUpdate\LandcoverUpdate.gdb\_temp C:\Users\boyd.shearer\GIS\LandcoverUpdate\LandcoverUpdate.gdb\ky_state_polygon_albers 250 ClippingGeometry NO_MAINTAIN_EXTENT</Process>
<Process Date="20260421" Time="145322" ToolSource="c:\program files\arcgis\pro\Resources\ArcToolbox\toolboxes\Data Management Tools.tbx\ProjectRaster">ProjectRaster C:\Users\boyd.shearer\GIS\LandcoverUpdate\LandcoverUpdate.gdb\_temp C:\Users\boyd.shearer\GIS\LandcoverUpdate\LandcoverUpdate.gdb\Ky_Annual_NLCD_2012_30M PROJCRS["NAD_1983_StatePlane_Kentucky_FIPS_1600_Feet",BASEGEOGCRS["GCS_North_American_1983",DATUM["D_North_American_1983",ELLIPSOID["GRS_1980",6378137.0,298.257222101]],PRIMEM["Greenwich",0.0],CS[ellipsoidal,2],AXIS["Latitude (lat)",north,ORDER[1]],AXIS["Longitude (lon)",east,ORDER[2]],ANGLEUNIT["Degree",0.0174532925199433]],CONVERSION["Lambert_Conformal_Conic",METHOD["Lambert_Conformal_Conic"],PARAMETER["False_Easting",4921250.0,LENGTHUNIT["Foot_US",0.3048006096012192]],PARAMETER["False_Northing",3280833.333333333,LENGTHUNIT["Foot_US",0.3048006096012192]],PARAMETER["Central_Meridian",-85.75],PARAMETER["Standard_Parallel_1",37.08333333333334],PARAMETER["Standard_Parallel_2",38.66666666666666],PARAMETER["Latitude_Of_Origin",36.33333333333334]],CS[Cartesian,2],AXIS["Easting (X)",east,ORDER[1]],AXIS["Northing (Y)",north,ORDER[2]],LENGTHUNIT["Foot_US",0.3048006096012192],ID["EPSG","3089"]] NEAREST "98.425 98.425" WGS_1984_(ITRF00)_To_NAD_1983 # PROJCRS["AEA_WGS84",BASEGEOGCRS["GCS_WGS_1984",DATUM["D_WGS_1984",ELLIPSOID["WGS_1984",6378137.0,298.257223563]],PRIMEM["Greenwich",0.0],CS[ellipsoidal,2],AXIS["Latitude (lat)",north,ORDER[1]],AXIS["Longitude (lon)",east,ORDER[2]],ANGLEUNIT["Degree",0.0174532925199433]],CONVERSION["Albers",METHOD["Albers"],PARAMETER["False_Easting",0.0],PARAMETER["False_Northing",0.0],PARAMETER["Central_Meridian",-96.0],PARAMETER["Standard_Parallel_1",29.5],PARAMETER["Standard_Parallel_2",45.5],PARAMETER["Latitude_Of_Origin",23.0]],CS[Cartesian,2],AXIS["Easting (X)",east,ORDER[1]],AXIS["Northing (Y)",north,ORDER[2]],LENGTHUNIT["Meter",1.0]] NO_VERTICAL</Process>
<Process Date="20260428" Time="161115" ToolSource="c:\program files\arcgis\pro\Resources\ArcToolbox\toolboxes\Data Management Tools.tbx\DeleteField">DeleteField C:\Users\boyd.shearer\GIS\data\LandcoverUpdate.gdb\Ky_Annual_NLCD_2012_30M Pixel_Value DELETE_FIELDS</Process>
<Process Date="20260428" Time="200321" ToolSource="c:\program files\arcgis\pro\Resources\ArcToolbox\toolboxes\Data Management Tools.tbx\AddField">AddField \\kyimagestorage.ky.gov\ImageServerData2\GDB\Ky_Annual_NLCD_1985_2024_30m.gdb\Ky_Annual_NLCD_2012_30M Class_Name Text # # 40 # NULLABLE NON_REQUIRED #</Process>
<Process Date="20260428" Time="203612" ToolSource="c:\program files\arcgis\pro\Resources\ArcToolbox\toolboxes\Data Management Tools.tbx\AddColormap">AddColormap \\kyimagestorage.ky.gov\ImageServerData2\GDB\Ky_Annual_NLCD_1985_2024_30m.gdb\Ky_Annual_NLCD_2012_30M # C:\Users\boyd.shearer\AppData\Local\Temp\4\ArcGISProTemp27660\tmpwyg90dr0.clr</Process>
<Process Date="20260429" Time="151939" ToolSource="c:\program files\arcgis\pro\Resources\ArcToolbox\toolboxes\Data Management Tools.tbx\AddColormap">AddColormap \\kyimagestorage.ky.gov\ImageServerData2\GDB\Ky_Annual_NLCD_1985_2024_30m.gdb\Ky_Annual_NLCD_2012_30M # C:\Users\boyd.shearer\AppData\Local\Temp\4\ArcGISProTemp27660\tmp0rxgkw2v.clr</Process>
<Process Date="20260429" Time="152725" ToolSource="c:\program files\arcgis\pro\Resources\ArcToolbox\toolboxes\Data Management Tools.tbx\AddField">AddField \\kyimagestorage.ky.gov\ImageServerData2\GDB\Ky_Annual_NLCD_1985_2024_30m.gdb\Ky_Annual_NLCD_2012_30M ClassName Text # # 40 # NULLABLE NON_REQUIRED #</Process>
<Process Date="20260429" Time="154914" ToolSource="c:\program files\arcgis\pro\Resources\ArcToolbox\toolboxes\Data Management Tools.tbx\DeleteField">DeleteField \\kyimagestorage.ky.gov\ImageServerData2\GDB\Ky_Annual_NLCD_1985_2024_30m.gdb\Ky_Annual_NLCD_2012_30M NLCD_Land_Cover_Class "Delete Fields"</Process>
<Process Date="20260429" Time="155156" ToolSource="c:\program files\arcgis\pro\Resources\ArcToolbox\toolboxes\Data Management Tools.tbx\DeleteField">DeleteField \\kyimagestorage.ky.gov\ImageServerData2\GDB\Ky_Annual_NLCD_1985_2024_30m.gdb\Ky_Annual_NLCD_2012_30M ClassName "Delete Fields"</Process>
<Process Date="20260429" Time="155502" ToolSource="c:\program files\arcgis\pro\Resources\ArcToolbox\toolboxes\Data Management Tools.tbx\AddColormap">AddColormap \\kyimagestorage.ky.gov\ImageServerData2\GDB\Ky_Annual_NLCD_1985_2024_30m.gdb\Ky_Annual_NLCD_2012_30M # C:\Users\boyd.shearer\AppData\Local\Temp\4\ArcGISProTemp27660\tmptalxoj9q.clr</Process>
</lineage>
</DataProperties>
<SyncDate>20260421</SyncDate>
<SyncTime>14532200</SyncTime>
<ModDate>20260421</ModDate>
<ModTime>14532200</ModTime>
</Esri>
<dataIdInfo>
<envirDesc Sync="TRUE">Microsoft Windows 10 Version 10.0 (Build 26200) ; Esri ArcGIS 13.6.0.59527</envirDesc>
<dataLang>
<languageCode Sync="TRUE" value="eng"/>
<countryCode Sync="TRUE" value="USA"/>
</dataLang>
<idCitation>
<resTitle>Kentucky Annual NLCD 2012</resTitle>
<presForm>
<PresFormCd Sync="TRUE" value="011"/>
</presForm>
</idCitation>
<spatRpType>
<SpatRepTypCd Sync="TRUE" value="002"/>
</spatRpType>
<dataExt>
<geoEle>
<GeoBndBox esriExtentType="search">
<exTypeCode Sync="TRUE">1</exTypeCode>
<westBL Sync="TRUE">-89.732934</westBL>
<eastBL Sync="TRUE">-81.679119</eastBL>
<northBL Sync="TRUE">39.530240</northBL>
<southBL Sync="TRUE">35.868421</southBL>
</GeoBndBox>
</geoEle>
</dataExt>
<idPurp>Kentucky Annual NLCD land cover, 2012. USGS National Land Cover Database clipped to Kentucky and projected to EPSG: 3089. Source: U.S. Geological Survey (USGS), 2024, Annual NLCD Collection 1 Science Products: U.S. Geological Survey data release, https://doi.org/10.5066/P94UXNTS</idPurp>
<idAbs>Kentucky Annual NLCD land cover, 2012. USGS National Land Cover Database clipped to Kentucky and projected to EPSG: 3089. Source: U.S. Geological Survey (USGS), 2024, Annual NLCD Collection 1 Science Products: U.S. Geological Survey data release, https://doi.org/10.5066/P94UXNTS</idAbs>
<searchKeys>
<keyword>NLCD</keyword>
<keyword>USGS</keyword>
<keyword>Kentucky</keyword>
<keyword>LandCover</keyword>
<keyword>LandUse</keyword>
<keyword>Annual</keyword>
<keyword>EPSG3089</keyword>
<keyword>IntegerRaster</keyword>
</searchKeys>
<idCredit>U.S. Geological Survey (USGS)</idCredit>
<resConst>
<Consts>
<useLimit/>
</Consts>
</resConst>
</dataIdInfo>
<mdLang>
<languageCode Sync="TRUE" value="eng"/>
<countryCode Sync="TRUE" value="USA"/>
</mdLang>
<distInfo>
<distFormat>
<formatName Sync="TRUE">File Geodatabase Raster Dataset</formatName>
</distFormat>
</distInfo>
<mdHrLv>
<ScopeCd Sync="TRUE" value="005"/>
</mdHrLv>
<mdHrLvName Sync="TRUE">dataset</mdHrLvName>
<refSysInfo>
<RefSystem>
<refSysID>
<identCode Sync="TRUE" code="3089"/>
<idCodeSpace Sync="TRUE">EPSG</idCodeSpace>
<idVersion Sync="TRUE">6.6(9.2.0)</idVersion>
</refSysID>
</RefSystem>
</refSysInfo>
<spdoinfo>
<rastinfo>
<rasttype Sync="TRUE">Pixel</rasttype>
<rowcount Sync="TRUE">13306</rowcount>
<colcount Sync="TRUE">23103</colcount>
<rastxsz Sync="TRUE">98.425000</rastxsz>
<rastysz Sync="TRUE">98.425000</rastysz>
<rastbpp Sync="TRUE">8</rastbpp>
<vrtcount Sync="TRUE">1</vrtcount>
<rastorig Sync="TRUE">Upper Left</rastorig>
<rastcmap Sync="TRUE">TRUE</rastcmap>
<rastcomp Sync="TRUE">LZ77</rastcomp>
<rastband Sync="TRUE">1</rastband>
<rastdtyp Sync="TRUE">pixel codes</rastdtyp>
<rastifor Sync="TRUE">FGDBR</rastifor>
<rastplyr Sync="TRUE">TRUE</rastplyr>
</rastinfo>
</spdoinfo>
<spref>
<horizsys>
<planar>
<planci>
<plance Sync="TRUE">row and column</plance>
<coordrep>
<absres Sync="TRUE">98.425000</absres>
<ordres Sync="TRUE">98.425000</ordres>
</coordrep>
</planci>
</planar>
</horizsys>
</spref>
<eainfo>
<detailed Name="VAT_Ky_Annual_NLCD_2012_30M">
<enttyp>
<enttypl Sync="TRUE">VAT_Ky_Annual_NLCD_2012_30M</enttypl>
<enttypt Sync="TRUE">Table</enttypt>
<enttypc Sync="TRUE">15</enttypc>
</enttyp>
<attr>
<attrlabl Sync="TRUE">OBJECTID</attrlabl>
<attalias Sync="TRUE">OBJECTID</attalias>
<attrtype Sync="TRUE">OID</attrtype>
<attwidth Sync="TRUE">4</attwidth>
<atprecis Sync="TRUE">0</atprecis>
<attscale Sync="TRUE">0</attscale>
<attrdef Sync="TRUE">Internal feature number.</attrdef>
<attrdefs Sync="TRUE">Esri</attrdefs>
<attrdomv>
<udom Sync="TRUE">Sequential unique whole numbers that are automatically generated.</udom>
</attrdomv>
</attr>
<attr>
<attrlabl Sync="TRUE">Value</attrlabl>
<attalias Sync="TRUE">Value</attalias>
<attrtype Sync="TRUE">Integer</attrtype>
<attwidth Sync="TRUE">4</attwidth>
<atprecis Sync="TRUE">0</atprecis>
<attscale Sync="TRUE">0</attscale>
</attr>
<attr>
<attrlabl Sync="TRUE">Pixel_Value</attrlabl>
<attalias Sync="TRUE">Pixel_Value</attalias>
<attrtype Sync="TRUE">Integer</attrtype>
<attwidth Sync="TRUE">4</attwidth>
<atprecis Sync="TRUE">0</atprecis>
<attscale Sync="TRUE">0</attscale>
</attr>
<attr>
<attrlabl Sync="TRUE">Count</attrlabl>
<attalias Sync="TRUE">Count</attalias>
<attrtype Sync="TRUE">Integer</attrtype>
<attwidth Sync="TRUE">4</attwidth>
<atprecis Sync="TRUE">0</atprecis>
<attscale Sync="TRUE">0</attscale>
</attr>
<attr>
<attrlabl Sync="TRUE">Red</attrlabl>
<attalias Sync="TRUE">Red</attalias>
<attrtype Sync="TRUE">Integer</attrtype>
<attwidth Sync="TRUE">4</attwidth>
<atprecis Sync="TRUE">0</atprecis>
<attscale Sync="TRUE">0</attscale>
</attr>
<attr>
<attrlabl Sync="TRUE">Green</attrlabl>
<attalias Sync="TRUE">Green</attalias>
<attrtype Sync="TRUE">Integer</attrtype>
<attwidth Sync="TRUE">4</attwidth>
<atprecis Sync="TRUE">0</atprecis>
<attscale Sync="TRUE">0</attscale>
</attr>
<attr>
<attrlabl Sync="TRUE">Blue</attrlabl>
<attalias Sync="TRUE">Blue</attalias>
<attrtype Sync="TRUE">Integer</attrtype>
<attwidth Sync="TRUE">4</attwidth>
<atprecis Sync="TRUE">0</atprecis>
<attscale Sync="TRUE">0</attscale>
</attr>
<attr>
<attrlabl Sync="TRUE">Opacity</attrlabl>
<attalias Sync="TRUE">Opacity</attalias>
<attrtype Sync="TRUE">Integer</attrtype>
<attwidth Sync="TRUE">4</attwidth>
<atprecis Sync="TRUE">0</atprecis>
<attscale Sync="TRUE">0</attscale>
</attr>
<attr>
<attrlabl Sync="TRUE">NLCD_Land_Cover_Class</attrlabl>
<attalias Sync="TRUE">NLCD_Land_Cover_Class</attalias>
<attrtype Sync="TRUE">String</attrtype>
<attwidth Sync="TRUE">255</attwidth>
<atprecis Sync="TRUE">0</atprecis>
<attscale Sync="TRUE">0</attscale>
</attr>
</detailed>
</eainfo>
<mdDateSt Sync="TRUE">20260421</mdDateSt>
</metadata>
