{
 "currentVersion": 10.61,
 "serviceDescription": "This data set contains imagery from the National Agricultural Imagery Program (NAIP). NAIP acquires digital ortho imagery during the agricultural growing seasons in the continental U.S.. A primary goal of the NAIP program is to enable availabilty of ortho imagery within a year of acquisition. NAIP provides two main products: 1 meter ground sample distance (GSD) ortho imagery rectified to a horizontal accuracy of within +/- 3 meters of reference digital ortho quarter quads (DOQQS) from the National Digital Ortho Program (NDOP); and, 2 meter GSD ortho imagery rectified to within +/- 20 meters of reference DOQQs. The tiling format of the original FSA NAIP imagery is based on a 3.75' x 3.75' quarter quadrangle with a 360 meter buffer on all four sides. NAIP quarter quads are rectified to the UTM coordinate system NAD83. NAIP imagery can obtain as much as 10% cloud cover per tile. The tiling scheme for the final Kentucky EPPC-OIS-GIS dataset is 20,000 ft x 20,000 ft grid blocks rectified to the Kentucky Single Zone SPCS, US Survey Foot.",
 "name": "ImageServices/Ky_NAIP_2004_1M",
 "description": "This data set contains imagery from the National Agricultural Imagery Program (NAIP). NAIP acquires digital ortho imagery during the agricultural growing seasons in the continental U.S.. A primary goal of the NAIP program is to enable availabilty of ortho imagery within a year of acquisition. NAIP provides two main products: 1 meter ground sample distance (GSD) ortho imagery rectified to a horizontal accuracy of within +/- 3 meters of reference digital ortho quarter quads (DOQQS) from the National Digital Ortho Program (NDOP); and, 2 meter GSD ortho imagery rectified to within +/- 20 meters of reference DOQQs. The tiling format of the original FSA NAIP imagery is based on a 3.75' x 3.75' quarter quadrangle with a 360 meter buffer on all four sides. NAIP quarter quads are rectified to the UTM coordinate system NAD83. NAIP imagery can obtain as much as 10% cloud cover per tile. The tiling scheme for the final Kentucky EPPC-OIS-GIS dataset is 20,000 ft x 20,000 ft grid blocks rectified to the Kentucky Single Zone SPCS, US Survey Foot.",
 "extent": {
  "xmin": 3781423.333333354,
  "ymin": 3340000.0000913087,
  "xmax": 6027833.33343795,
  "ymax": 4320000.00000004,
  "spatialReference": {
   "wkid": 102763,
   "latestWkid": 3089
  }
 },
 "initialExtent": {
  "xmin": 3781423.333333354,
  "ymin": 3340000.0000913087,
  "xmax": 6027833.33343795,
  "ymax": 4320000.00000004,
  "spatialReference": {
   "wkid": 102763,
   "latestWkid": 3089
  }
 },
 "fullExtent": {
  "xmin": 3781423.333333354,
  "ymin": 3340000.0000913087,
  "xmax": 6027833.33343795,
  "ymax": 4320000.00000004,
  "spatialReference": {
   "wkid": 102763,
   "latestWkid": 3089
  }
 },
 "pixelSizeX": 3.3333333334885387,
 "pixelSizeY": 3.3333333330228956,
 "bandCount": 3,
 "pixelType": "U8",
 "minPixelSize": 0,
 "maxPixelSize": 0,
 "copyrightText": "",
 "serviceDataType": "esriImageServiceDataTypeRGB",
 "minValues": [],
 "maxValues": [],
 "meanValues": [],
 "stdvValues": [],
 "objectIdField": "",
 "fields": [],
 "capabilities": "Mensuration,Image,Metadata",
 "defaultMosaicMethod": "Center",
 "allowedMosaicMethods": "",
 "sortField": "",
 "sortValue": null,
 "mosaicOperator": "First",
 "defaultCompressionQuality": 75,
 "defaultResamplingMethod": "Bilinear",
 "maxImageHeight": 10000,
 "maxImageWidth": 15000,
 "allowRasterFunction": true,
 "rasterFunctionInfos": [
  {
   "name": "None",
   "description": "",
   "help": ""
  }
 ],
 "rasterTypeInfos": [
  {
   "name": "Raster Dataset",
   "description": "Supports all ArcGIS Raster Datasets",
   "help": ""
  }
 ],
 "mensurationCapabilities": "Basic",
 "hasHistograms": false,
 "hasColormap": false,
 "hasRasterAttributeTable": false,
 "minScale": 0,
 "maxScale": 0,
 "exportTilesAllowed": false,
 "hasMultidimensions": false,
 "supportsStatistics": false,
 "supportsAdvancedQueries": false,
 "editFieldsInfo": null,
 "ownershipBasedAccessControlForRasters": null,
 "allowComputeTiePoints": false,
 "useStandardizedQueries": true,
 "advancedQueryCapabilities": {
  "useStandardizedQueries": true,
  "supportsStatistics": false,
  "supportsOrderBy": false,
  "supportsDistinct": false,
  "supportsPagination": false
 },
 "spatialReference": {
  "wkid": 102763,
  "latestWkid": 3089
 }
}
