{ "currentVersion": 10.61, "serviceDescription": "
This dynamic image service provides access to 4-Band orthoimagery for the 2021 Kentucky Aerial Photography and Elevation Data Program (KYAPED) Project Area footprints. Geographic Extent: 21 counties in Kentucky, covering approximately 7,964 total square miles. Dataset Description: The KY Otho Program Year 3 project called for the planning, acquisition, processing, and derivative products of imagery data to be collected at a ground sample distance (GSD) of 0.5 foot. Project specifications are based on the American Society of Photogrammetry and Remote Sensing (ASPRS) standards. The data were developed based on a horizontal projection/datum of NAD 1983 StatePlane Kentucky FIPS 1600 Feet, Foot US. Imagery data were delivered as 0.5 foot 8-bit 4-band (RGB-IR) GeoTIFF tiles. Tiled deliverables contained 3089 individual 5000 ft x 5000 ft tiles. Ground Conditions: Imagery was collected in winter and spring 2021, while no snow was on the ground and rivers were at or below normal levels. In order to post process the imagery data to meet task order specifications and meet ASPRS horizontal accuracy guidelines, NV5 Geospatial, powered by Quantum Spatial utilized a total of 10 ground control points to assess the horizontal accuracy of the data.<\/SPAN><\/P><\/DIV><\/DIV><\/DIV>",
"name": "ImageServices/Ky_KYAPED_2021_6IN",
"description": " This dynamic image service provides access to 4-Band orthoimagery for the 2021 Kentucky Aerial Photography and Elevation Data Program (KYAPED) Project Area footprints. Geographic Extent: 21 counties in Kentucky, covering approximately 7,964 total square miles. Dataset Description: The KY Otho Program Year 3 project called for the planning, acquisition, processing, and derivative products of imagery data to be collected at a ground sample distance (GSD) of 0.5 foot. Project specifications are based on the American Society of Photogrammetry and Remote Sensing (ASPRS) standards. The data were developed based on a horizontal projection/datum of NAD 1983 StatePlane Kentucky FIPS 1600 Feet, Foot US. Imagery data were delivered as 0.5 foot 8-bit 4-band (RGB-IR) GeoTIFF tiles. Tiled deliverables contained 3089 individual 5000 ft x 5000 ft tiles. Ground Conditions: Imagery was collected in winter and spring 2021, while no snow was on the ground and rivers were at or below normal levels. In order to post process the imagery data to meet task order specifications and meet ASPRS horizontal accuracy guidelines, NV5 Geospatial, powered by Quantum Spatial utilized a total of 10 ground control points to assess the horizontal accuracy of the data.<\/SPAN><\/P><\/DIV><\/DIV><\/DIV>",
"extent": {
"xmin": 4440000,
"ymin": 3380000,
"xmax": 5135000,
"ymax": 3910000,
"spatialReference": {
"wkid": 102763,
"latestWkid": 3089
}
},
"initialExtent": {
"xmin": 4440000,
"ymin": 3380000,
"xmax": 5135000,
"ymax": 3910000,
"spatialReference": {
"wkid": 102763,
"latestWkid": 3089
}
},
"fullExtent": {
"xmin": 4440000,
"ymin": 3380000,
"xmax": 5135000,
"ymax": 3910000,
"spatialReference": {
"wkid": 102763,
"latestWkid": 3089
}
},
"pixelSizeX": 0.5,
"pixelSizeY": 0.5,
"bandCount": 4,
"pixelType": "U8",
"minPixelSize": 0,
"maxPixelSize": 0,
"copyrightText": "Division of Geographic Information",
"serviceDataType": "esriImageServiceDataTypeGeneric",
"minValues": [
0,
0,
0,
0
],
"maxValues": [
254,
254,
254,
239
],
"meanValues": [
83.99466898478663,
83.11554703822542,
74.98690460314424,
97.35597944645126
],
"stdvValues": [
25.362453932044485,
22.920978593536297,
18.432426532120086,
27.651677562323474
],
"objectIdField": "OBJECTID",
"fields": [
{
"name": "OBJECTID",
"type": "esriFieldTypeOID",
"alias": "OBJECTID",
"domain": null
},
{
"name": "Shape",
"type": "esriFieldTypeGeometry",
"alias": "Shape",
"domain": null
},
{
"name": "Name",
"type": "esriFieldTypeString",
"alias": "Name",
"domain": null,
"length": 200
},
{
"name": "MinPS",
"type": "esriFieldTypeDouble",
"alias": "MinPS",
"domain": null
},
{
"name": "MaxPS",
"type": "esriFieldTypeDouble",
"alias": "MaxPS",
"domain": null
},
{
"name": "LowPS",
"type": "esriFieldTypeDouble",
"alias": "LowPS",
"domain": null
},
{
"name": "HighPS",
"type": "esriFieldTypeDouble",
"alias": "HighPS",
"domain": null
},
{
"name": "Category",
"type": "esriFieldTypeInteger",
"alias": "Category",
"domain": {
"type": "codedValue",
"name": "MosaicCatalogItemCategoryDomain",
"description": "Catalog item categories.",
"codedValues": [
{
"name": "Unknown",
"code": 0
},
{
"name": "Primary",
"code": 1
},
{
"name": "Overview",
"code": 2
},
{
"name": "Unprocessed Overview",
"code": 3
},
{
"name": "Partial Overview",
"code": 4
},
{
"name": "Inactive",
"code": 5
},
{
"name": "Uploaded",
"code": 253
},
{
"name": "Incomplete",
"code": 254
},
{
"name": "Custom",
"code": 255
}
],
"mergePolicy": "esriMPTDefaultValue",
"splitPolicy": "esriSPTDefaultValue"
}
},
{
"name": "Tag",
"type": "esriFieldTypeString",
"alias": "Tag",
"domain": null,
"length": 100
},
{
"name": "GroupName",
"type": "esriFieldTypeString",
"alias": "GroupName",
"domain": null,
"length": 100
},
{
"name": "ProductName",
"type": "esriFieldTypeString",
"alias": "ProductName",
"domain": null,
"length": 100
},
{
"name": "CenterX",
"type": "esriFieldTypeDouble",
"alias": "CenterX",
"domain": null
},
{
"name": "CenterY",
"type": "esriFieldTypeDouble",
"alias": "CenterY",
"domain": null
},
{
"name": "ZOrder",
"type": "esriFieldTypeInteger",
"alias": "ZOrder",
"domain": null
},
{
"name": "Shape_Length",
"type": "esriFieldTypeDouble",
"alias": "Shape_Length",
"domain": null
},
{
"name": "Shape_Area",
"type": "esriFieldTypeDouble",
"alias": "Shape_Area",
"domain": null
}
],
"capabilities": "Image,Metadata,Catalog",
"defaultMosaicMethod": "Northwest",
"allowedMosaicMethods": "NorthWest,Center,LockRaster,ByAttribute,Nadir,Viewpoint,Seamline,None",
"sortField": "",
"sortValue": null,
"mosaicOperator": "First",
"maxDownloadSizeLimit": 2048,
"defaultCompressionQuality": 75,
"defaultResamplingMethod": "Bilinear",
"maxImageHeight": 20000,
"maxImageWidth": 20000,
"maxRecordCount": 1000,
"maxDownloadImageCount": 20,
"maxMosaicImageCount": 40,
"allowRasterFunction": true,
"rasterFunctionInfos": [
{
"name": "None",
"description": "A No-Op Function.",
"help": ""
}
],
"rasterTypeInfos": [
{
"name": "Raster Dataset",
"description": "Supports all ArcGIS Raster Datasets",
"help": ""
}
],
"mensurationCapabilities": "None",
"hasHistograms": true,
"hasColormap": false,
"hasRasterAttributeTable": false,
"minScale": 0,
"maxScale": 0,
"exportTilesAllowed": false,
"hasMultidimensions": false,
"supportsStatistics": true,
"supportsAdvancedQueries": true,
"editFieldsInfo": null,
"ownershipBasedAccessControlForRasters": null,
"allowComputeTiePoints": false,
"useStandardizedQueries": true,
"advancedQueryCapabilities": {
"useStandardizedQueries": true,
"supportsStatistics": true,
"supportsOrderBy": true,
"supportsDistinct": true,
"supportsPagination": true
},
"spatialReference": {
"wkid": 102763,
"latestWkid": 3089
}
}