View In:
ArcGIS JavaScript
ArcGIS Online Map Viewer
ArcGIS Earth
ArcMap
View Footprint In:
ArcGIS Online Map Viewer
Service Description: Through a collaboration with Kentucky State University (KSU) and the Commonwealth Office of Technology's Division of Geographic Information (DGI), a DSM/DTM raster was extracting using first return values only from the LAS files. When AML created the raster files, DGI mosaiced the raster dataset, and identified several artifacts (slivers of missing data near tile corners). The areas with missing data were re-processed, but on a much larger scale to prevent these artifacts from appearing. Most artfifacts were eliminated, but a few remain. An attempt to fix these areas is continuous. Further info available at https://www.linkedin.com/pulse/how-create-digital-surface-model-dsm-raster-entire-oz-sariyildiz/?published=t
Copyright Text: DGI, KSU https://www.linkedin.com/pulse/how-create-digital-surface-model-dsm-raster-entire-oz-sariyildiz/?published=t
Name: ElevationServices/Ky_DSM_First_Return_5FT_Phase1
Description: Through a collaboration with Kentucky State University (KSU) and the Commonwealth Office of Technology's Division of Geographic Information (DGI), a DSM/DTM raster was extracting using first return values only from the LAS files. When AML created the raster files, DGI mosaiced the raster dataset, and identified several artifacts (slivers of missing data near tile corners). The areas with missing data were re-processed, but on a much larger scale to prevent these artifacts from appearing. Most artfifacts were eliminated, but a few remain. An attempt to fix these areas is continuous. Further info available at https://www.linkedin.com/pulse/how-create-digital-surface-model-dsm-raster-entire-oz-sariyildiz/?published=t
Copyright Text: DGI, KSU https://www.linkedin.com/pulse/how-create-digital-surface-model-dsm-raster-entire-oz-sariyildiz/?published=t
Single Fused Map Cache: false
Extent:
XMin: 3798938.9104272574
YMin: 3347933.687833801
XMax: 6019063.910427257
YMax: 4308258.687833801
Spatial Reference: 102763
(3089)
LatestVCSWkid(0)
Initial Extent:
XMin: 3798938.9104272574
YMin: 3347933.687833801
XMax: 6019063.910427257
YMax: 4308258.687833801
Spatial Reference: 102763
(3089)
LatestVCSWkid(0)
Full Extent:
XMin: 3798938.9104272574
YMin: 3347933.687833801
XMax: 6019063.910427257
YMax: 4308258.687833801
Spatial Reference: 102763
(3089)
LatestVCSWkid(0)
Pixel Size X: 5.0
Pixel Size Y: 5.0
Band Count: 1
Pixel Type: U32
RasterFunction Infos: {"rasterFunctionInfos": [{
"name": "None",
"description": "",
"help": ""
}]}
Mensuration Capabilities: Basic
Has Histograms: true
Has Colormap: false
Has Multi Dimensions : false
Rendering Rule:
Min Scale: 0
Max Scale: 0
Copyright Text: DGI, KSU https://www.linkedin.com/pulse/how-create-digital-surface-model-dsm-raster-entire-oz-sariyildiz/?published=t
Service Data Type: esriImageServiceDataTypeGeneric
Min Values: 0
Max Values: 6252
Mean Values: 834.9795806879332
Standard Deviation Values: 365.13972320459294
Object ID Field:
Fields:
None
Default Mosaic Method: Center
Allowed Mosaic Methods:
SortField:
SortValue: null
Mosaic Operator: First
Default Compression Quality: 75
Default Resampling Method: Bilinear
Max Record Count: null
Max Image Height: 4100
Max Image Width: 15000
Max Download Image Count: null
Max Mosaic Image Count: null
Allow Raster Function: true
Allow Copy: null
Allow Analysis: null
Allow Compute TiePoints: false
Supports Statistics: false
Supports Advanced Queries: false
Use StandardizedQueries: true
Raster Type Infos:
Name: Raster Dataset
Description: Supports all ArcGIS Raster Datasets
Help:
Has Raster Attribute Table: false
Edit Fields Info: null
Ownership Based AccessControl For Rasters: null
Child Resources:
Info
Histograms
Key Properties
Legend
Raster Function Infos
Supported Operations:
Export Image
Identify
Measure
Compute Histograms
Compute Statistics Histograms
Get Samples
Compute Class Statistics
Query Boundary
Compute Pixel Location
Compute Angles
Validate
Project