{ "currentVersion": 10.61, "serviceDescription": "

This Digital Elevation Model (DEM) was produced from LAS dataset using Pictometry 2016 .las files of Bullitt, Jefferson, and Oldham Counties, KY. Point Spacing averages 1 meter. Cell size is 6 ft. <\/SPAN><\/P><\/DIV><\/DIV><\/DIV>", "name": "ElevationServices/Ky_DEM_LOJIC_2016_6FT", "description": "

This Digital Elevation Model (DEM) was produced from LAS dataset using Pictometry 2016 .las files of Bullitt, Jefferson, and Oldham Counties, KY. Point Spacing averages 1 meter. Cell size is 6 ft. <\/SPAN><\/P><\/DIV><\/DIV><\/DIV>", "extent": { "xmin": 4852886.492904974, "ymin": 3808782.380224887, "xmax": 5065874.492904974, "ymax": 4086684.380224887, "spatialReference": { "wkid": 102763, "latestWkid": 3089 } }, "initialExtent": { "xmin": 4852886.492904974, "ymin": 3808782.380224887, "xmax": 5065874.492904974, "ymax": 4086684.380224887, "spatialReference": { "wkid": 102763, "latestWkid": 3089 } }, "fullExtent": { "xmin": 4852886.492904974, "ymin": 3808782.380224887, "xmax": 5065874.492904974, "ymax": 4086684.380224887, "spatialReference": { "wkid": 102763, "latestWkid": 3089 } }, "pixelSizeX": 6, "pixelSizeY": 6, "bandCount": 1, "pixelType": "F32", "minPixelSize": 0, "maxPixelSize": 0, "copyrightText": "", "serviceDataType": "esriImageServiceDataTypeGeneric", "minValues": [ 360.3203430175781 ], "maxValues": [ 987.2613525390625 ], "meanValues": [ 600.9265924988747 ], "stdvValues": [ 122.89827408434755 ], "objectIdField": "", "fields": [], "capabilities": "Image,Metadata,Mensuration", "defaultMosaicMethod": "Center", "allowedMosaicMethods": "", "sortField": "", "sortValue": null, "mosaicOperator": "First", "defaultCompressionQuality": 75, "defaultResamplingMethod": "Bilinear", "maxImageHeight": 15000, "maxImageWidth": 15000, "allowRasterFunction": true, "rasterFunctionInfos": [ { "name": "None", "description": "", "help": "" } ], "rasterTypeInfos": [ { "name": "Raster Dataset", "description": "Supports all ArcGIS Raster Datasets", "help": "" } ], "mensurationCapabilities": "Basic", "hasHistograms": true, "hasColormap": false, "hasRasterAttributeTable": false, "minScale": 0, "maxScale": 0, "exportTilesAllowed": false, "hasMultidimensions": false, "supportsStatistics": false, "supportsAdvancedQueries": false, "editFieldsInfo": null, "ownershipBasedAccessControlForRasters": null, "allowComputeTiePoints": false, "useStandardizedQueries": true, "advancedQueryCapabilities": { "useStandardizedQueries": true, "supportsStatistics": false, "supportsOrderBy": false, "supportsDistinct": false, "supportsPagination": false }, "spatialReference": { "wkid": 102763, "latestWkid": 3089 } }