<?xml version="1.0" encoding="UTF-8" standalone="no"?>
<metadata xml:lang="en">
<Esri>
<CreaDate>20160901</CreaDate>
<CreaTime>09401800</CreaTime>
<ArcGISFormat>1.0</ArcGISFormat>
<ArcGISstyle>LOJIC Metadata</ArcGISstyle>
<SyncOnce>FALSE</SyncOnce>
<DataProperties>
<lineage>
<Process Date="20160901" Name="" Time="094018" ToolSource="c:\program files (x86)\arcgis\desktop10.2\ArcToolbox\Toolboxes\Spatial Analyst Tools.tbx\ExtractByMask" export="">ExtractByMask DEM2016Prelim metrolib.kycounty D:\LIDAR_2016\JeffDEMPrelim</Process>
<Process Date="20160902" Name="" Time="092500" ToolSource="c:\program files (x86)\arcgis\desktop10.2\ArcToolbox\Toolboxes\Data Management Tools.tbx\CopyRaster" export="">CopyRaster D:\LIDAR_2016\jeffdemprelim D:\LIDAR_2016\DEM_Hillshade.gdb\jeffdemprelim # # -3.402823e+038 NONE NONE # NONE NONE</Process>
<Process Date="20180404" Name="" Time="080910" ToolSource="c:\program files (x86)\arcgis\desktop10.5\ArcToolbox\Toolboxes\Data Management Tools.tbx\Mosaic" export="">Mosaic E:\workspace\KYAPED\LOJIC\Jefferson_DEM.gdb\JEFFERSON;E:\workspace\KYAPED\LOJIC\Bullitt_DEM.gdb\BULLITT E:\workspace\KYAPED\LOJIC\LOJIC_DEM_2016.gdb\LOJIC_DEM_2016 LAST FIRST # # NONE 0 NONE</Process>
<Process Date="20180404" Name="" Time="083520" ToolSource="c:\program files (x86)\arcgis\desktop10.5\ArcToolbox\Toolboxes\Data Management Tools.tbx\ProjectRaster" export="">ProjectRaster E:\workspace\KYAPED\LOJIC\LOJIC_DEM_2016.gdb\LOJIC_DEM_2016 E:\workspace\KYAPED\LOJIC\LOJIC_DEM_2016.gdb\LOJIC_DEM_2016_ProjectRaster1 PROJCS['NAD_1983_StatePlane_Kentucky_FIPS_1600_Feet',GEOGCS['GCS_North_American_1983',DATUM['D_North_American_1983',SPHEROID['GRS_1980',6378137.0,298.257222101]],PRIMEM['Greenwich',0.0],UNIT['Degree',0.0174532925199433]],PROJECTION['Lambert_Conformal_Conic'],PARAMETER['False_Easting',4921250.0],PARAMETER['False_Northing',3280833.333333333],PARAMETER['Central_Meridian',-85.75],PARAMETER['Standard_Parallel_1',37.08333333333334],PARAMETER['Standard_Parallel_2',38.66666666666666],PARAMETER['Latitude_Of_Origin',36.33333333333334],UNIT['Foot_US',0.3048006096012192]] BILINEAR "6 6" # # PROJCS['NAD_1983_StatePlane_Kentucky_North_FIPS_1601_Feet',GEOGCS['GCS_North_American_1983',DATUM['D_North_American_1983',SPHEROID['GRS_1980',6378137.0,298.257222101]],PRIMEM['Greenwich',0.0],UNIT['Degree',0.0174532925199433]],PROJECTION['Lambert_Conformal_Conic'],PARAMETER['False_Easting',1640416.666666667],PARAMETER['False_Northing',0.0],PARAMETER['Central_Meridian',-84.25],PARAMETER['Standard_Parallel_1',37.96666666666667],PARAMETER['Standard_Parallel_2',38.96666666666667],PARAMETER['Latitude_Of_Origin',37.5],UNIT['Foot_US',0.3048006096012192]],VERTCS['NAVD_1988_Foot_US',VDATUM['North_American_Vertical_Datum_1988'],PARAMETER['Vertical_Shift',0.0],PARAMETER['Direction',1.0],UNIT['Foot_US',0.3048006096012192]]</Process>
</lineage>
<itemProps>
<itemName Sync="TRUE">LOJIC_DEM_2016_KY1Z</itemName>
<imsContentType Sync="TRUE" export="False">002</imsContentType>
<nativeExtBox>
<westBL Sync="TRUE">4852886.492905</westBL>
<eastBL Sync="TRUE">5065874.492905</eastBL>
<southBL Sync="TRUE">3808782.380225</southBL>
<northBL Sync="TRUE">4086684.380225</northBL>
<exTypeCode Sync="TRUE">1</exTypeCode>
</nativeExtBox>
<itemLocation>
<linkage Sync="TRUE">file://\\COTCAD25YSHK2\E$\workspace\KYAPED\LOJIC\LOJIC_DEM_2016.gdb</linkage>
<protocol Sync="TRUE">Local Area Network</protocol>
</itemLocation>
</itemProps>
<coordRef>
<type Sync="TRUE">Projected</type>
<geogcsn Sync="TRUE">GCS_North_American_1983</geogcsn>
<csUnits Sync="TRUE">Linear Unit: Foot_US (0.304801)</csUnits>
<projcsn Sync="TRUE">NAD_1983_StatePlane_Kentucky_FIPS_1600_Feet</projcsn>
<peXml Sync="TRUE">&lt;ProjectedCoordinateSystem xsi:type='typens:ProjectedCoordinateSystem' xmlns:xsi='http://www.w3.org/2001/XMLSchema-instance' xmlns:xs='http://www.w3.org/2001/XMLSchema' xmlns:typens='http://www.esri.com/schemas/ArcGIS/10.5'&gt;&lt;WKT&gt;PROJCS[&amp;quot;NAD_1983_StatePlane_Kentucky_FIPS_1600_Feet&amp;quot;,GEOGCS[&amp;quot;GCS_North_American_1983&amp;quot;,DATUM[&amp;quot;D_North_American_1983&amp;quot;,SPHEROID[&amp;quot;GRS_1980&amp;quot;,6378137.0,298.257222101]],PRIMEM[&amp;quot;Greenwich&amp;quot;,0.0],UNIT[&amp;quot;Degree&amp;quot;,0.0174532925199433]],PROJECTION[&amp;quot;Lambert_Conformal_Conic&amp;quot;],PARAMETER[&amp;quot;False_Easting&amp;quot;,4921250.0],PARAMETER[&amp;quot;False_Northing&amp;quot;,3280833.333333333],PARAMETER[&amp;quot;Central_Meridian&amp;quot;,-85.75],PARAMETER[&amp;quot;Standard_Parallel_1&amp;quot;,37.08333333333334],PARAMETER[&amp;quot;Standard_Parallel_2&amp;quot;,38.66666666666666],PARAMETER[&amp;quot;Latitude_Of_Origin&amp;quot;,36.33333333333334],UNIT[&amp;quot;Foot_US&amp;quot;,0.3048006096012192],AUTHORITY[&amp;quot;EPSG&amp;quot;,3089]]&lt;/WKT&gt;&lt;XOrigin&gt;-117434800&lt;/XOrigin&gt;&lt;YOrigin&gt;-91579000&lt;/YOrigin&gt;&lt;XYScale&gt;36807330.96050825&lt;/XYScale&gt;&lt;ZOrigin&gt;-100000&lt;/ZOrigin&gt;&lt;ZScale&gt;10000&lt;/ZScale&gt;&lt;MOrigin&gt;-100000&lt;/MOrigin&gt;&lt;MScale&gt;10000&lt;/MScale&gt;&lt;XYTolerance&gt;0.0032808333333333331&lt;/XYTolerance&gt;&lt;ZTolerance&gt;0.001&lt;/ZTolerance&gt;&lt;MTolerance&gt;0.001&lt;/MTolerance&gt;&lt;HighPrecision&gt;true&lt;/HighPrecision&gt;&lt;WKID&gt;102763&lt;/WKID&gt;&lt;LatestWKID&gt;3089&lt;/LatestWKID&gt;&lt;/ProjectedCoordinateSystem&gt;</peXml>
</coordRef>
</DataProperties>
<SyncDate>20180404</SyncDate>
<SyncTime>09131100</SyncTime>
<ModDate>20250801</ModDate>
<ModTime>17060000</ModTime>
<scaleRange>
<minScale>150000000</minScale>
<maxScale>5000</maxScale>
</scaleRange>
<ArcGISProfile>ItemDescription</ArcGISProfile>
</Esri>
<dataIdInfo>
<envirDesc Sync="TRUE"> Version 6.2 (Build 9200) ; Esri ArcGIS 10.5.1.7333</envirDesc>
<dataLang>
<languageCode Sync="TRUE" value="eng"/>
<countryCode Sync="TRUE" value="USA"/>
</dataLang>
<idCitation>
<resTitle Sync="TRUE">Ky_DEM_LOJIC_2016_6FT</resTitle>
<presForm>
<PresFormCd Sync="TRUE" value="011"/>
</presForm>
<date>
<createDate>2016-10-14T00:00:00</createDate>
</date>
<citRespParty>
<rpIndName>Michael Dooley</rpIndName>
<rpOrgName>Pictometry</rpOrgName>
<rpPosName>Senior Project Manager</rpPosName>
<role>
<RoleCd value="006"/>
</role>
<rpCntInfo>
<cntAddress addressType="">
<eMailAdd>michael.dooley@eagleview.com</eMailAdd>
</cntAddress>
<cntPhone>
<voiceNum tddtty="">502-487-1566</voiceNum>
</cntPhone>
</rpCntInfo>
</citRespParty>
</idCitation>
<spatRpType>
<SpatRepTypCd Sync="TRUE" value="002"/>
</spatRpType>
<dataExt>
<geoEle>
<GeoBndBox esriExtentType="search">
<exTypeCode Sync="TRUE">1</exTypeCode>
<westBL Sync="TRUE">-85.989029</westBL>
<eastBL Sync="TRUE">-85.244333</eastBL>
<northBL Sync="TRUE">38.546452</northBL>
<southBL Sync="TRUE">37.782221</southBL>
</GeoBndBox>
</geoEle>
</dataExt>
<idPurp>This LIDAR operation was designed to provide a high density set of masspoints within the defined areas. The data sets are suitable for the development of contours for use in hydraulic/hydrologic model development, and for assessing environmental impacts.Typical uses for the data set include: FEMA Flood Plain Map Modernization. DFIRM map updates. Watersheds and other hydro studies per FEMA specifications. County Mapping projects which include several uses, in addition to Flood mitigation assessment. Mapping projects that include accuracy verification, reporting and metadata.</idPurp>
<idAbs>This LIDAR operation was designed to provide a high density set of masspoints within the defined areas. The data sets are suitable for the development of contours for use in hydraulic/hydrologic model development, and for assessing environmental impacts.Typical uses for the data set include: FEMA Flood Plain Map Modernization. DFIRM map updates. Watersheds and other hydro studies per FEMA specifications. County Mapping projects which include several uses, in addition to Flood mitigation assessment. Mapping projects that include accuracy verification, reporting and metadata.</idAbs>
<searchKeys>
<keyword>Hydrographic</keyword>
<keyword>Digital elevation model</keyword>
<keyword>Lidar</keyword>
<keyword>Digital terrain model</keyword>
<keyword>Elevation</keyword>
<keyword>Hydrology</keyword>
<keyword>DEM</keyword>
<keyword>LIDAR</keyword>
<keyword>Drainage Area</keyword>
<keyword>Surface Model</keyword>
<keyword>Hydrologic Modeling</keyword>
</searchKeys>
<idPoC>
<rpIndName>Curt Bynum</rpIndName>
<rpOrgName>LOJIC</rpOrgName>
<rpPosName>LOJIC Manager</rpPosName>
<role>
<RoleCd value="001"/>
</role>
<rpCntInfo>
<cntAddress addressType="both">
<delPoint>700 W Liberty Street</delPoint>
<city>Louisville</city>
<adminArea>KY</adminArea>
<postCode>40203</postCode>
<eMailAdd>curt.bynum@lojic.org</eMailAdd>
<country>US</country>
</cntAddress>
<cntPhone>
<voiceNum tddtty="">502-540-6543</voiceNum>
</cntPhone>
<cntHours>8am - 4:30pm</cntHours>
<cntInstr>Phone or Email</cntInstr>
</rpCntInfo>
</idPoC>
<placeKeys>
<keyword>Jefferson, LOJIC</keyword>
</placeKeys>
<themeKeys>
<keyword>Hydrographic, Digital elevation model, Lidar, Digital terrain model, Elevation, Hydrology, DEM, LIDAR, Drainage Area, Surface Model, Hydrologic Modeling</keyword>
</themeKeys>
<idCredit>LOJIC</idCredit>
<resConst>
<Consts>
<useLimit>None</useLimit>
</Consts>
</resConst>
</dataIdInfo>
<mdLang>
<languageCode Sync="TRUE" value="eng"/>
<countryCode Sync="TRUE" value="USA"/>
</mdLang>
<mdChar>
<CharSetCd Sync="TRUE" value="004"/>
</mdChar>
<distInfo>
<distFormat>
<formatName Sync="TRUE">File Geodatabase Raster Dataset</formatName>
</distFormat>
<distributor>
<distorCont>
<rpIndName>Jane Pool</rpIndName>
<rpOrgName>LOJIC</rpOrgName>
<rpPosName>LOJIC Customer Relations</rpPosName>
<role>
<RoleCd value="005"/>
</role>
<rpCntInfo>
<cntAddress addressType="">
<delPoint>700 W Liberty Street</delPoint>
<city>Louisville</city>
<adminArea>KY</adminArea>
<postCode>40203</postCode>
<eMailAdd>jane.poole@lojic.org</eMailAdd>
<country>US</country>
</cntAddress>
<cntPhone>
<voiceNum tddtty="">502-540-6435</voiceNum>
</cntPhone>
<cntHours>8am- 4:30pm</cntHours>
<cntInstr>Phone or Email</cntInstr>
</rpCntInfo>
</distorCont>
</distributor>
</distInfo>
<mdHrLv>
<ScopeCd Sync="TRUE" value="005"/>
</mdHrLv>
<mdHrLvName Sync="TRUE">dataset</mdHrLvName>
<refSysInfo>
<RefSystem>
<refSysID>
<identCode Sync="TRUE" code="3089"/>
<idCodeSpace Sync="TRUE">EPSG</idCodeSpace>
<idVersion Sync="TRUE">6.6(9.2.0)</idVersion>
</refSysID>
</RefSystem>
</refSysInfo>
<spdoinfo>
<rastinfo>
<rasttype Sync="TRUE">Pixel</rasttype>
<rowcount Sync="TRUE">46317</rowcount>
<colcount Sync="TRUE">35498</colcount>
<rastxsz Sync="TRUE">6.000000</rastxsz>
<rastysz Sync="TRUE">6.000000</rastysz>
<rastbpp Sync="TRUE">32</rastbpp>
<vrtcount Sync="TRUE">1</vrtcount>
<rastorig Sync="TRUE">Upper Left</rastorig>
<rastcmap Sync="TRUE">FALSE</rastcmap>
<rastcomp Sync="TRUE">LZ77</rastcomp>
<rastband Sync="TRUE">1</rastband>
<rastdtyp Sync="TRUE">pixel codes</rastdtyp>
<rastifor Sync="TRUE">FGDBR</rastifor>
<rastplyr Sync="TRUE">TRUE</rastplyr>
</rastinfo>
</spdoinfo>
<spref>
<horizsys>
<planar>
<planci>
<plance Sync="TRUE">row and column</plance>
<coordrep>
<absres Sync="TRUE">6.000000</absres>
<ordres Sync="TRUE">6.000000</ordres>
</coordrep>
</planci>
</planar>
</horizsys>
</spref>
<mdDateSt Sync="TRUE">20250801</mdDateSt>
<mdContact>
<rpIndName>Trey Prestigiacomo</rpIndName>
<rpOrgName>LOJIC</rpOrgName>
<rpPosName>Database Analyst</rpPosName>
<role>
<RoleCd value="007"/>
</role>
<rpCntInfo>
<cntAddress addressType="both">
<delPoint>700 W Liberty Street</delPoint>
<city>Louisville</city>
<adminArea>KY</adminArea>
<postCode>40203</postCode>
<eMailAdd>trey.prestigiacomo@lojic.org</eMailAdd>
<country>US</country>
</cntAddress>
<cntPhone>
<voiceNum tddtty="">502-540-6543</voiceNum>
</cntPhone>
<cntHours>8am - 4:30pm</cntHours>
<cntInstr>Phone or email</cntInstr>
</rpCntInfo>
</mdContact>
</metadata>
