{
 "currentVersion": 10.61,
 "serviceDescription": "This is the KyFromAbove Phase2 collection and provides access to a 2 Foot Digital Elevation Model (DEM) for Kentucky. Data will be added to this dataset as it becomes available through the KyFromAbove Program.",
 "name": "ElevationServices/Ky_DEM_KYAPED_2FT_Phase2",
 "description": "This is the KyFromAbove Phase2 collection and provides access to a 2 Foot Digital Elevation Model (DEM) for Kentucky. Data will be added to this dataset as it becomes available through the KyFromAbove Program.",
 "extent": {
  "xmin": 3795000,
  "ymin": 3345000,
  "xmax": 6020000,
  "ymax": 4310000,
  "spatialReference": {
   "wkid": 102763,
   "latestWkid": 3089
  }
 },
 "initialExtent": {
  "xmin": 3795000,
  "ymin": 3345000,
  "xmax": 6020000,
  "ymax": 4310000,
  "spatialReference": {
   "wkid": 102763,
   "latestWkid": 3089
  }
 },
 "fullExtent": {
  "xmin": 3795000,
  "ymin": 3345000,
  "xmax": 6020000,
  "ymax": 4310000,
  "spatialReference": {
   "wkid": 102763,
   "latestWkid": 3089
  }
 },
 "pixelSizeX": 2,
 "pixelSizeY": 2,
 "bandCount": 1,
 "pixelType": "F32",
 "minPixelSize": 0,
 "maxPixelSize": 0,
 "copyrightText": "KyFromAbove, DGI",
 "serviceDataType": "esriImageServiceDataTypeElevation",
 "minValues": [
  -167.5354766845703
 ],
 "maxValues": [
  4139.4375
 ],
 "meanValues": [
  818.1848102927969
 ],
 "stdvValues": [
  358.66700583178044
 ],
 "objectIdField": "",
 "fields": [],
 "capabilities": "Image,Metadata,Mensuration",
 "defaultMosaicMethod": "Center",
 "allowedMosaicMethods": "",
 "sortField": "",
 "sortValue": null,
 "mosaicOperator": "First",
 "defaultCompressionQuality": 75,
 "defaultResamplingMethod": "Bilinear",
 "maxImageHeight": 15000,
 "maxImageWidth": 15000,
 "allowRasterFunction": true,
 "rasterFunctionInfos": [
  {
   "name": "None",
   "description": "",
   "help": ""
  }
 ],
 "rasterTypeInfos": [
  {
   "name": "Raster Dataset",
   "description": "Supports all ArcGIS Raster Datasets",
   "help": ""
  }
 ],
 "mensurationCapabilities": "Basic",
 "hasHistograms": true,
 "hasColormap": false,
 "hasRasterAttributeTable": false,
 "minScale": 0,
 "maxScale": 0,
 "exportTilesAllowed": false,
 "hasMultidimensions": false,
 "supportsStatistics": false,
 "supportsAdvancedQueries": false,
 "editFieldsInfo": null,
 "ownershipBasedAccessControlForRasters": null,
 "allowComputeTiePoints": false,
 "useStandardizedQueries": true,
 "advancedQueryCapabilities": {
  "useStandardizedQueries": true,
  "supportsStatistics": false,
  "supportsOrderBy": false,
  "supportsDistinct": false,
  "supportsPagination": false
 },
 "spatialReference": {
  "wkid": 102763,
  "latestWkid": 3089
 }
}
