View In:
ArcGIS JavaScript
ArcGIS Online Map Viewer
ArcGIS Earth
ArcMap
View Footprint In:
ArcGIS Online Map Viewer
Service Description: This data set contains imagery from the National Agricultural Imagery Program (NAIP). NAIP acquires digital ortho imagery during the agricultural growing seasons in the continental U.S.. A primary goal of the NAIP program is to enable availlability of ortho imagery within a year of acquisition (2010).
Name: ImageServices/Ky_NAIP_2010_1M
Description: This data set contains imagery from the National Agricultural Imagery Program (NAIP). NAIP acquires digital ortho imagery during the agricultural growing seasons in the continental U.S.. A primary goal of the NAIP program is to enable availlability of ortho imagery within a year of acquisition (2010).
Single Fused Map Cache: false
Extent:
XMin: 3798937.7561208904
YMin: 3348809.814276223
XMax: 6018369.012787556
YMax: 4307216.690109557
Spatial Reference: 102763
(3089)
LatestVCSWkid(0)
Initial Extent:
XMin: 3798937.7561208904
YMin: 3348809.814276223
XMax: 6018369.012787556
YMax: 4307216.690109557
Spatial Reference: 102763
(3089)
LatestVCSWkid(0)
Full Extent:
XMin: 3798937.7561208904
YMin: 3348809.814276223
XMax: 6018369.012787556
YMax: 4307216.690109557
Spatial Reference: 102763
(3089)
LatestVCSWkid(0)
Pixel Size X: 3.2808333333333324
Pixel Size Y: 3.2808333333333337
Band Count: 4
Pixel Type: U8
RasterFunction Infos: {"rasterFunctionInfos": [{
"name": "None",
"description": "",
"help": ""
}]}
Mensuration Capabilities: None
Has Histograms: true
Has Colormap: false
Has Multi Dimensions : false
Rendering Rule:
Min Scale: 0
Max Scale: 0
Copyright Text: USDA-FSA
Service Data Type: esriImageServiceDataTypeGeneric
Min Values: 19, 42, 65, 7
Max Values: 249, 248, 246, 244
Mean Values: 103.02908689794063, 122.16678696752845, 122.35484868002179, 176.8103355098537
Standard Deviation Values: 20.94651741451987, 14.715570503162278, 9.639822898109685, 18.398403396631288
Object ID Field: OBJECTID
Fields:
-
OBJECTID
(
type: esriFieldTypeOID, alias: OBJECTID
)
-
Shape
(
type: esriFieldTypeGeometry, alias: Shape
)
-
Name
(
type: esriFieldTypeString, alias: Name, length: 200
)
-
MinPS
(
type: esriFieldTypeDouble, alias: MinPS
)
-
MaxPS
(
type: esriFieldTypeDouble, alias: MaxPS
)
-
LowPS
(
type: esriFieldTypeDouble, alias: LowPS
)
-
HighPS
(
type: esriFieldTypeDouble, alias: HighPS
)
-
Category
(
type: esriFieldTypeInteger, alias: Category
, Coded Values:
[0: Unknown]
, [1: Primary]
, [2: Overview]
, ...6 more...
)
-
Tag
(
type: esriFieldTypeString, alias: Tag, length: 100
)
-
GroupName
(
type: esriFieldTypeString, alias: GroupName, length: 100
)
-
ProductName
(
type: esriFieldTypeString, alias: ProductName, length: 100
)
-
CenterX
(
type: esriFieldTypeDouble, alias: CenterX
)
-
CenterY
(
type: esriFieldTypeDouble, alias: CenterY
)
-
ZOrder
(
type: esriFieldTypeInteger, alias: ZOrder
)
-
Shape_Length
(
type: esriFieldTypeDouble, alias: Shape_Length
)
-
Shape_Area
(
type: esriFieldTypeDouble, alias: Shape_Area
)
Default Mosaic Method: Northwest
Allowed Mosaic Methods: NorthWest,Center,LockRaster,ByAttribute,Nadir,Viewpoint,Seamline,None
SortField:
SortValue: null
Mosaic Operator: First
Default Compression Quality: 75
Default Resampling Method: Bilinear
Max Record Count: 1000
Max Image Height: 20000
Max Image Width: 20000
Max Download Image Count: 20
Max Mosaic Image Count: 20
Allow Raster Function: true
Allow Copy: null
Allow Analysis: null
Allow Compute TiePoints: false
Supports Statistics: true
Supports Advanced Queries: true
Use StandardizedQueries: true
Raster Type Infos:
Name: Raster Dataset
Description: Supports all ArcGIS Raster Datasets
Help:
Has Raster Attribute Table: false
Edit Fields Info: null
Ownership Based AccessControl For Rasters: null
Child Resources:
Info
Histograms
Key Properties
Legend
Raster Function Infos
Supported Operations:
Export Image
Query
Identify
Compute Histograms
Compute Statistics Histograms
Get Samples
Compute Class Statistics
Query Boundary
Compute Pixel Location
Compute Angles
Validate
Project